Workbook
Name Courses: 'Ovulation Dummy'!$B$3:$B$32
Name Event: 'Ovulation Dummy'!$D$3:$D$32
Name Holiday: 'Ovulation Dummy'!$C$3:$C$32

Sheet Ovulation Dummy
A1: =YEAR(Kalender!H5) -> 2011 | C1: =Kalender!H5-DATE(A1-1,12,31) -> 237 | D1: =MOD(C1,Kalender!H6) -> 17
B2: Spare | C2: Beginning Date | D2: Most Fertile Date
A3: 1 | C3: =DATE(A1,1,'Ovulation Dummy'!D1) -> 40560 | D3: =C3-Kalender!$H$7 -> 40546
A4: 2 | C4: =C3+Kalender!$H$6 -> 40580 | D4: =C4-Kalender!$H$7 -> 40566
A5: 3 | C5: =C4+Kalender!$H$6 -> 40600 | D5: =C5-Kalender!$H$7 -> 40586
A6: 4 | C6: =C5+Kalender!$H$6 -> 40620 | D6: =C6-Kalender!$H$7 -> 40606
A7: 5 | C7: =C6+Kalender!$H$6 -> 40640 | D7: =C7-Kalender!$H$7 -> 40626
A8: 6 | C8: =C7+Kalender!$H$6 -> 40660 | D8: =C8-Kalender!$H$7 -> 40646
A9: 7 | C9: =C8+Kalender!$H$6 -> 40680 | D9: =C9-Kalender!$H$7 -> 40666
A10: 8 | C10: =C9+Kalender!$H$6 -> 40700 | D10: =C10-Kalender!$H$7 -> 40686
A11: 9 | C11: =C10+Kalender!$H$6 -> 40720 | D11: =C11-Kalender!$H$7 -> 40706
A12: 10 | C12: =C11+Kalender!$H$6 -> 40740 | D12: =C12-Kalender!$H$7 -> 40726
A13: 11 | C13: =C12+Kalender!$H$6 -> 40760 | D13: =C13-Kalender!$H$7 -> 40746
A14: 12 | C14: =C13+Kalender!$H$6 -> 40780 | D14: =C14-Kalender!$H$7 -> 40766
A15: 13 | C15: =C14+Kalender!$H$6 -> 40800 | D15: =C15-Kalender!$H$7 -> 40786
... A32: 30 | C32: =C31+Kalender!$H$6 -> 41140 | D32: =C32-Kalender!$H$7 -> 41126

Sheet Kalender
B2: Eisprung
B4: Jahre | H4: 2011
B5: Erster Tag der letzten Periode | H5: 40780
B6: Zyklusdauer | H6: 20 | I6: days | J6: Tage
B7: Die Luteale Phase | H7: 14 | I7: days | J7: Tage
B9: ="EISPRUNGKALENDER "&H4 -> EISPRUNGKALENDER 2011
T10: Beginn des Zyklus
T11: Eisprung/Fruchtbare Tage
B13: exceltabelle.com fur mehr vorlagen | S13: more calendars at excelcalendars.com
B15: JANUAR | J15: FEBRUAR | R15: MÄRZ
B16: Mo | C16: Di | D16: Mi | E16: Do | F16: Fr | G16: Sa | H16: So | J16: =B16 -> Mo | K16: =C16 -> Di | L16: =D16 -> Mi | M16: =E16 -> Do | N16: =F16 -> Fr | O16: =G16 -> Sa | P16: =H16 -> So | R16: =J16 -> Mo | S16: =K16 -> Di | T16: =L16 -> Mi | U16: =M16 -> Do | V16: =N16 -> Fr | W16: =O16 -> Sa | X16: =P16 -> So
B17: =IF($O$6="Sunday",IF(WEEKDAY(DATE($H$4,1,1))=1,1,""),IF(WEEKDAY(DATE($H$4,1,1))=2,1,"")) | C17: =IF(B17<>"",B17+1,IF($O$6="Sunday",IF(WEEKDAY(DATE($H$4,1,1))=2,1,""),IF(WEEKDAY(DATE($H$4,1,1))=3,1,""))) | D17: =IF(C17<>"",C17+1,IF($O$6="Sunday",IF(WEEKDAY(DATE($H$4,1,1))=3,1,""),IF(WEEKDAY(DATE($H$4,1,1))=4,1,""))) | E17: =IF(D17<>"",D17+1,IF($O$6="Sunday",IF(WEEKDAY(DATE($H$4,1,1))=4,1,""),IF(WEEKDAY(DATE($H$4,1,1))=5,1,""))) | F17: =IF(E17<>"",E17+1,IF($O$6="Sunday",IF(WEEKDAY(DATE($H$4,1,1))=5,1,""),IF(WEEKDAY(DATE($H$4,1,1))=6,1,""))) | G17: =IF(F17<>"",F17+1,IF($O$6="Sunday",IF(WEEKDAY(DATE($H$4,1,1))=6,1,""),IF(WEEKDAY(DATE($H$4,1,1))=7,1,""))) -> 1 | H17: =IF(G17<>"",G17+1,IF($O$6="Sunday",IF(WEEKDAY(DATE($H$4,1,1))=7,1,""),IF(WEEKDAY(DATE($H$4,1,1))=1,1,""))) -> 2 | J17: =IF($O$6="Sunday",IF(WEEKDAY(DATE($H$4,2,1))=1,1,""),IF(WEEKDAY(DATE($H$4,2,1))=2,1,"")) | K17: =IF(J17<>"",J17+1,IF($O$6="Sunday",IF(WEEKDAY(DATE($H$4,2,1))=2,1,""),IF(WEEKDAY(DATE($H$4,2,1))=3,1,""))) -> 1 | L17: =IF(K17<>"",K17+1,IF($O$6="Sunday",IF(WEEKDAY(DATE($H$4,2,1))=3,1,""),IF(WEEKDAY(DATE($H$4,2,1))=4,1,""))) -> 2 | M17: =IF(L17<>"",L17+1,IF($O$6="Sunday",IF(WEEKDAY(DATE($H$4,2,1))=4,1,""),IF(WEEKDAY(DATE($H$4,2,1))=5,1,""))) -> 3 | N17: =IF(M17<>"",M17+1,IF($O$6="Sunday",IF(WEEKDAY(DATE($H$4,2,1))=5,1,""),IF(WEEKDAY(DATE($H$4,2,1))=6,1,""))) -> 4 | O17: =IF(N17<>"",N17+1,IF($O$6="Sunday",IF(WEEKDAY(DATE($H$4,2,1))=6,1,""),IF(WEEKDAY(DATE($H$4,2,1))=7,1,""))) -> 5 | P17: =IF(O17<>"",O17+1,IF($O$6="Sunday",IF(WEEKDAY(DATE($H$4,2,1))=7,1,""),IF(WEEKDAY(DATE($H$4,2,1))=1,1,""))) -> 6 | R17: =IF($O$6="Sunday",IF(WEEKDAY(DATE($H$4,3,1))=1,1,""),IF(WEEKDAY(DATE($H$4,3,1))=2,1,"")) | S17: =IF(R17<>"",R17+1,IF($O$6="Sunday",IF(WEEKDAY(DATE($H$4,3,1))=2,1,""),IF(WEEKDAY(DATE($H$4,3,1))=3,1,""))) -> 1 | T17: =IF(S17<>"",S17+1,IF($O$6="Sunday",IF(WEEKDAY(DATE($H$4,3,1))=3,1,""),IF(WEEKDAY(DATE($H$4,3,1))=4,1,""))) -> 2 | U17: =IF(T17<>"",T17+1,IF($O$6="Sunday",IF(WEEKDAY(DATE($H$4,3,1))=4,1,""),IF(WEEKDAY(DATE($H$4,3,1))=5,1,""))) -> 3 | V17: =IF(U17<>"",U17+1,IF($O$6="Sunday",IF(WEEKDAY(DATE($H$4,3,1))=5,1,""),IF(WEEKDAY(DATE($H$4,3,1))=6,1,""))) -> 4 | W17: =IF(V17<>"",V17+1,IF($O$6="Sunday",IF(WEEKDAY(DATE($H$4,3,1))=6,1,""),IF(WEEKDAY(DATE($H$4,3,1))=7,1,""))) -> 5 | X17: =IF(W17<>"",W17+1,IF($O$6="Sunday",IF(WEEKDAY(DATE($H$4,3,1))=7,1,""),IF(WEEKDAY(DATE($H$4,3,1))=1,1,""))) -> 6
B18: =H17+1 -> 3 | C18: =B18+1 -> 4 | D18: =C18+1 -> 5 | E18: =D18+1 -> 6 | F18: =E18+1 -> 7 | G18: =F18+1 -> 8 | H18: =G18+1 -> 9 | J18: =P17+1 -> 7 | K18: =J18+1 -> 8 | L18: =K18+1 -> 9 | M18: =L18+1 -> 10 | N18: =M18+1 -> 11 | O18: =N18+1 -> 12 | P18: =O18+1 -> 13 | R18: =X17+1 -> 7 | S18: =R18+1 -> 8 | T18: =S18+1 -> 9 | U18: =T18+1 -> 10 | V18: =U18+1 -> 11 | W18: =V18+1 -> 12 | X18: =W18+1 -> 13
B19: =H18+1 -> 10 | C19: =B19+1 -> 11 | D19: =C19+1 -> 12 | E19: =D19+1 -> 13 | F19: =E19+1 -> 14 | G19: =F19+1 -> 15 | H19: =G19+1 -> 16 | J19: =P18+1 -> 14 | K19: =J19+1 -> 15 | L19: =K19+1 -> 16 | M19: =L19+1 -> 17 | N19: =M19+1 -> 18 | O19: =N19+1 -> 19 | P19: =O19+1 -> 20 | R19: =X18+1 -> 14 | S19: =R19+1 -> 15 | T19: =S19+1 -> 16 | U19: =T19+1 -> 17 | V19: =U19+1 -> 18 | W19: =V19+1 -> 19 | X19: =W19+1 -> 20
B20: =H19+1 -> 17 | C20: =B20+1 -> 18 | D20: =C20+1 -> 19 | E20: =D20+1 -> 20 | F20: =E20+1 -> 21 | G20: =F20+1 -> 22 | H20: =G20+1 -> 23 | J20: =P19+1 -> 21 | K20: =J20+1 -> 22 | L20: =K20+1 -> 23 | M20: =L20+1 -> 24 | N20: =M20+1 -> 25 | O20: =N20+1 -> 26 | P20: =O20+1 -> 27 | R20: =X19+1 -> 21 | S20: =R20+1 -> 22 | T20: =S20+1 -> 23 | U20: =T20+1 -> 24 | V20: =U20+1 -> 25 | W20: =V20+1 -> 26 | X20: =W20+1 -> 27
B21: =IF(H20<>"",IF(DAY(EOMONTH(DATE($H$4,1,1),0))=H20,"",H20+1),"") -> 24 | C21: =IF(B21<>"",IF(DAY(EOMONTH(DATE($H$4,1,1),0))=B21,"",B21+1),"") -> 25 | D21: =IF(C21<>"",IF(DAY(EOMONTH(DATE($H$4,1,1),0))=C21,"",C21+1),"") -> 26 | E21: =IF(D21<>"",IF(DAY(EOMONTH(DATE($H$4,1,1),0))=D21,"",D21+1),"") -> 27 | F21: =IF(E21<>"",IF(DAY(EOMONTH(DATE($H$4,1,1),0))=E21,"",E21+1),"") -> 28 | G21: =IF(F21<>"",IF(DAY(EOMONTH(DATE($H$4,1,1),0))=F21,"",F21+1),"") -> 29 | H21: =IF(G21<>"",IF(DAY(EOMONTH(DATE($H$4,1,1),0))=G21,"",G21+1),"") -> 30 | J21: =IF(P20<>"",IF(DAY(EOMONTH(DATE($H$4,2,1),0))=P20,"",P20+1),"") -> 28 | K21: =IF(J21<>"",IF(DAY(EOMONTH(DATE($H$4,2,1),0))=J21,"",J21+1),"") | L21: =IF(K21<>"",IF(DAY(EOMONTH(DATE($H$4,2,1),0))=K21,"",K21+1),"") | M21: =IF(L21<>"",IF(DAY(EOMONTH(DATE($H$4,2,1),0))=L21,"",L21+1),"") | N21: =IF(M21<>"",IF(DAY(EOMONTH(DATE($H$4,2,1),0))=M21,"",M21+1),"") | O21: =IF(N21<>"",IF(DAY(EOMONTH(DATE($H$4,2,1),0))=N21,"",N21+1),"") | P21: =IF(O21<>"",IF(DAY(EOMONTH(DATE($H$4,2,1),0))=O21,"",O21+1),"") | R21: =IF(X20<>"",IF(DAY(EOMONTH(DATE($H$4,3,1),0))=X20,"",X20+1),"") -> 28 | S21: =IF(R21<>"",IF(DAY(EOMONTH(DATE($H$4,3,1),0))=R21,"",R21+1),"") -> 29 | T21: =IF(S21<>"",IF(DAY(EOMONTH(DATE($H$4,3,1),0))=S21,"",S21+1),"") -> 30 | U21: =IF(T21<>"",IF(DAY(EOMONTH(DATE($H$4,3,1),0))=T21,"",T21+1),"") -> 31 | V21: =IF(U21<>"",IF(DAY(EOMONTH(DATE($H$4,3,1),0))=U21,"",U21+1),"") | W21: =IF(V21<>"",IF(DAY(EOMONTH(DATE($H$4,3,1),0))=V21,"",V21+1),"") | X21: =IF(W21<>"",IF(DAY(EOMONTH(DATE($H$4,3,1),0))=W21,"",W21+1),"")
B22: =IF(H21<>"",IF(DAY(EOMONTH(DATE($H$4,1,1),0))=H21,"",H21+1),"") -> 31 | C22: =IF(B22<>"",IF(DAY(EOMONTH(DATE($H$4,1,1),0))=B22,"",B22+1),"") | G22: =$H$4 -> 2011 | H22: 1 | J22: =IF(P21<>"",IF(DAY(EOMONTH(DATE($H$4,2,1),0))=P21,"",P21+1),"") | K22: =IF(J22<>"",IF(DAY(EOMONTH(DATE($H$4,2,1),0))=J22,"",J22+1),"") | O22: =$H$4 -> 2011 | P22: 2 | R22: =IF(X21<>"",IF(DAY(EOMONTH(DATE($H$4,3,1),0))=X21,"",X21+1),"") | S22: =IF(R22<>"",IF(DAY(EOMONTH(DATE($H$4,3,1),0))=R22,"",R22+1),"") | W22: =$H$4 -> 2011 | X22: 3
B24: APRIL | J24: MAI | R24: JUNI
B25: =R16 -> Mo | C25: =S16 -> Di | D25: =T16 -> Mi | E25: =U16 -> Do | F25: =V16 -> Fr | G25: =W16 -> Sa | H25: =X16 -> So | J25: =B25 -> Mo | K25: =C25 -> Di | L25: =D25 -> Mi | M25: =E25 -> Do | N25: =F25 -> Fr | O25: =G25 -> Sa | P25: =H25 -> So | R25: =J25 -> Mo | S25: =K25 -> Di | T25: =L25 -> Mi | U25: =M25 -> Do | V25: =N25 -> Fr | W25: =O25 -> Sa | X25: =P25 -> So
B26: =IF($O$6="Sunday",IF(WEEKDAY(DATE($H$4,4,1))=1,1,""),IF(WEEKDAY(DATE($H$4,4,1))=2,1,"")) | C26: =IF(B26<>"",B26+1,IF($O$6="Sunday",IF(WEEKDAY(DATE($H$4,4,1))=2,1,""),IF(WEEKDAY(DATE($H$4,4,1))=3,1,""))) | D26: =IF(C26<>"",C26+1,IF($O$6="Sunday",IF(WEEKDAY(DATE($H$4,4,1))=3,1,""),IF(WEEKDAY(DATE($H$4,4,1))=4,1,""))) | E26: =IF(D26<>"",D26+1,IF($O$6="Sunday",IF(WEEKDAY(DATE($H$4,4,1))=4,1,""),IF(WEEKDAY(DATE($H$4,4,1))=5,1,""))) | F26: =IF(E26<>"",E26+1,IF($O$6="Sunday",IF(WEEKDAY(DATE($H$4,4,1))=5,1,""),IF(WEEKDAY(DATE($H$4,4,1))=6,1,""))) -> 1 | G26: =IF(F26<>"",F26+1,IF($O$6="Sunday",IF(WEEKDAY(DATE($H$4,4,1))=6,1,""),IF(WEEKDAY(DATE($H$4,4,1))=7,1,""))) -> 2 | H26: =IF(G26<>"",G26+1,IF($O$6="Sunday",IF(WEEKDAY(DATE($H$4,4,1))=7,1,""),IF(WEEKDAY(DATE($H$4,4,1))=1,1,""))) -> 3 | J26: =IF($O$6="Sunday",IF(WEEKDAY(DATE($H$4,5,1))=1,1,""),IF(WEEKDAY(DATE($H$4,5,1))=2,1,"")) | K26: =IF(J26<>"",J26+1,IF($O$6="Sunday",IF(WEEKDAY(DATE($H$4,5,1))=2,1,""),IF(WEEKDAY(DATE($H$4,5,1))=3,1,""))) | L26: =IF(K26<>"",K26+1,IF($O$6="Sunday",IF(WEEKDAY(DATE($H$4,5,1))=3,1,""),IF(WEEKDAY(DATE($H$4,5,1))=4,1,""))) | M26: =IF(L26<>"",L26+1,IF($O$6="Sunday",IF(WEEKDAY(DATE($H$4,5,1))=4,1,""),IF(WEEKDAY(DATE($H$4,5,1))=5,1,""))) | N26: =IF(M26<>"",M26+1,IF($O$6="Sunday",IF(WEEKDAY(DATE($H$4,5,1))=5,1,""),IF(WEEKDAY(DATE($H$4,5,1))=6,1,""))) | O26: =IF(N26<>"",N26+1,IF($O$6="Sunday",IF(WEEKDAY(DATE($H$4,5,1))=6,1,""),IF(WEEKDAY(DATE($H$4,5,1))=7,1,""))) | P26: =IF(O26<>"",O26+1,IF($O$6="Sunday",IF(WEEKDAY(DATE($H$4,5,1))=7,1,""),IF(WEEKDAY(DATE($H$4,5,1))=1,1,""))) -> 1 | R26: =IF($O$6="Sunday",IF(WEEKDAY(DATE($H$4,6,1))=1,1,""),IF(WEEKDAY(DATE($H$4,6,1))=2,1,"")) | S26: =IF(R26<>"",R26+1,IF($O$6="Sunday",IF(WEEKDAY(DATE($H$4,6,1))=2,1,""),IF(WEEKDAY(DATE($H$4,6,1))=3,1,""))) | T26: =IF(S26<>"",S26+1,IF($O$6="Sunday",IF(WEEKDAY(DATE($H$4,6,1))=3,1,""),IF(WEEKDAY(DATE($H$4,6,1))=4,1,""))) -> 1 | U26: =IF(T26<>"",T26+1,IF($O$6="Sunday",IF(WEEKDAY(DATE($H$4,6,1))=4,1,""),IF(WEEKDAY(DATE($H$4,6,1))=5,1,""))) -> 2 | V26: =IF(U26<>"",U26+1,IF($O$6="Sunday",IF(WEEKDAY(DATE($H$4,6,1))=5,1,""),IF(WEEKDAY(DATE($H$4,6,1))=6,1,""))) -> 3 | W26: =IF(V26<>"",V26+1,IF($O$6="Sunday",IF(WEEKDAY(DATE($H$4,6,1))=6,1,""),IF(WEEKDAY(DATE($H$4,6,1))=7,1,""))) -> 4 | X26: =IF(W26<>"",W26+1,IF($O$6="Sunday",IF(WEEKDAY(DATE($H$4,6,1))=7,1,""),IF(WEEKDAY(DATE($H$4,6,1))=1,1,""))) -> 5
B27: =H26+1 -> 4 | C27: =B27+1 -> 5 | D27: =C27+1 -> 6 | E27: =D27+1 -> 7 | F27: =E27+1 -> 8 | G27: =F27+1 -> 9 | H27: =G27+1 -> 10 | J27: =P26+1 -> 2 | K27: =J27+1 -> 3 | L27: =K27+1 -> 4 | M27: =L27+1 -> 5 | N27: =M27+1 -> 6 | O27: =N27+1 -> 7 | P27: =O27+1 -> 8 | R27: =X26+1 -> 6 | S27: =R27+1 -> 7 | T27: =S27+1 -> 8 | U27: =T27+1 -> 9 | V27: =U27+1 -> 10 | W27: =V27+1 -> 11 | X27: =W27+1 -> 12
B28: =H27+1 -> 11 | C28: =B28+1 -> 12 | D28: =C28+1 -> 13 | E28: =D28+1 -> 14 | F28: =E28+1 -> 15 | G28: =F28+1 -> 16 | H28: =G28+1 -> 17 | J28: =P27+1 -> 9 | K28: =J28+1 -> 10 | L28: =K28+1 -> 11 | M28: =L28+1 -> 12 | N28: =M28+1 -> 13 | O28: =N28+1 -> 14 | P28: =O28+1 -> 15 | R28: =X27+1 -> 13 | S28: =R28+1 -> 14 | T28: =S28+1 -> 15 | U28: =T28+1 -> 16 | V28: =U28+1 -> 17 | W28: =V28+1 -> 18 | X28: =W28+1 -> 19
B29: =H28+1 -> 18 | C29: =B29+1 -> 19 | D29: =C29+1 -> 20 | E29: =D29+1 -> 21 | F29: =E29+1 -> 22 | G29: =F29+1 -> 23 | H29: =G29+1 -> 24 | J29: =P28+1 -> 16 | K29: =J29+1 -> 17 | L29: =K29+1 -> 18 | M29: =L29+1 -> 19 | N29: =M29+1 -> 20 | O29: =N29+1 -> 21 | P29: =O29+1 -> 22 | R29: =X28+1 -> 20 | S29: =R29+1 -> 21 | T29: =S29+1 -> 22 | U29: =T29+1 -> 23 | V29: =U29+1 -> 24 | W29: =V29+1 -> 25 | X29: =W29+1 -> 26
B30: =IF(H29<>"",IF(DAY(EOMONTH(DATE($H$4,4,1),0))=H29,"",H29+1),"") -> 25 | C30: =IF(B30<>"",IF(DAY(EOMONTH(DATE($H$4,4,1),0))=B30,"",B30+1),"") -> 26 | D30: =IF(C30<>"",IF(DAY(EOMONTH(DATE($H$4,4,1),0))=C30,"",C30+1),"") -> 27 | E30: =IF(D30<>"",IF(DAY(EOMONTH(DATE($H$4,4,1),0))=D30,"",D30+1),"") -> 28 | F30: =IF(E30<>"",IF(DAY(EOMONTH(DATE($H$4,4,1),0))=E30,"",E30+1),"") -> 29 | G30: =IF(F30<>"",IF(DAY(EOMONTH(DATE($H$4,4,1),0))=F30,"",F30+1),"") -> 30 | H30: =IF(G30<>"",IF(DAY(EOMONTH(DATE($H$4,4,1),0))=G30,"",G30+1),"") | J30: =IF(P29<>"",IF(DAY(EOMONTH(DATE($H$4,5,1),0))=P29,"",P29+1),"") -> 23 | K30: =IF(J30<>"",IF(DAY(EOMONTH(DATE($H$4,5,1),0))=J30,"",J30+1),"") -> 24 | L30: =IF(K30<>"",IF(DAY(EOMONTH(DATE($H$4,5,1),0))=K30,"",K30+1),"") -> 25 | M30: =IF(L30<>"",IF(DAY(EOMONTH(DATE($H$4,5,1),0))=L30,"",L30+1),"") -> 26 | N30: =IF(M30<>"",IF(DAY(EOMONTH(DATE($H$4,5,1),0))=M30,"",M30+1),"") -> 27 | O30: =IF(N30<>"",IF(DAY(EOMONTH(DATE($H$4,5,1),0))=N30,"",N30+1),"") -> 28 | P30: =IF(O30<>"",IF(DAY(EOMONTH(DATE($H$4,5,1),0))=O30,"",O30+1),"") -> 29 | R30: =IF(X29<>"",IF(DAY(EOMONTH(DATE($H$4,6,1),0))=X29,"",X29+1),"") -> 27 | S30: =IF(R30<>"",IF(DAY(EOMONTH(DATE($H$4,6,1),0))=R30,"",R30+1),"") -> 28 | T30: =IF(S30<>"",IF(DAY(EOMONTH(DATE($H$4,6,1),0))=S30,"",S30+1),"") -> 29 | U30: =IF(T30<>"",IF(DAY(EOMONTH(DATE($H$4,6,1),0))=T30,"",T30+1),"") -> 30 | V30: =IF(U30<>"",IF(DAY(EOMONTH(DATE($H$4,6,1),0))=U30,"",U30+1),"") | W30: =IF(V30<>"",IF(DAY(EOMONTH(DATE($H$4,6,1),0))=V30,"",V30+1),"") | X30: =IF(W30<>"",IF(DAY(EOMONTH(DATE($H$4,6,1),0))=W30,"",W30+1),"")
B31: =IF(H30<>"",IF(DAY(EOMONTH(DATE($H$4,4,1),0))=H30,"",H30+1),"") | C31: =IF(B31<>"",IF(DAY(EOMONTH(DATE($H$4,4,1),0))=B31,"",B31+1),"") | G31: =$H$4 -> 2011 | H31: 4 | J31: =IF(P30<>"",IF(DAY(EOMONTH(DATE($H$4,5,1),0))=P30,"",P30+1),"") -> 30 | K31: =IF(J31<>"",IF(DAY(EOMONTH(DATE($H$4,5,1),0))=J31,"",J31+1),"") -> 31 | O31: =$H$4 -> 2011 | P31: 5 | R31: =IF(X30<>"",IF(DAY(EOMONTH(DATE($H$4,6,1),0))=X30,"",X30+1),"") | S31: =IF(R31<>"",IF(DAY(EOMONTH(DATE($H$4,6,1),0))=R31,"",R31+1),"") | W31: =$H$4 -> 2011 | X31: 6
B33: JULI | J33: AUGUST | R33: SEPTEMBER
B34: =R25 -> Mo | C34: =S25 -> Di | D34: =T25 -> Mi | E34: =U25 -> Do | F34: =V25 -> Fr | G34: =W25 -> Sa | H34: =X25 -> So | J34: =B34 -> Mo | K34: =C34 -> Di | L34: =D34 -> Mi | M34: =E34 -> Do | N34: =F34 -> Fr | O34: =G34 -> Sa | P34: =H34 -> So | R34: =J34 -> Mo | S34: =K34 -> Di | T34: =L34 -> Mi | U34: =M34 -> Do | V34: =N34 -> Fr | W34: =O34 -> Sa | X34: =P34 -> So
B35: =IF($O$6="Sunday",IF(WEEKDAY(DATE($H$4,7,1))=1,1,""),IF(WEEKDAY(DATE($H$4,7,1))=2,1,"")) | C35: =IF(B35<>"",B35+1,IF($O$6="Sunday",IF(WEEKDAY(DATE($H$4,7,1))=2,1,""),IF(WEEKDAY(DATE($H$4,7,1))=3,1,""))) | D35: =IF(C35<>"",C35+1,IF($O$6="Sunday",IF(WEEKDAY(DATE($H$4,7,1))=3,1,""),IF(WEEKDAY(DATE($H$4,7,1))=4,1,""))) | E35: =IF(D35<>"",D35+1,IF($O$6="Sunday",IF(WEEKDAY(DATE($H$4,7,1))=4,1,""),IF(WEEKDAY(DATE($H$4,7,1))=5,1,""))) | F35: =IF(E35<>"",E35+1,IF($O$6="Sunday",IF(WEEKDAY(DATE($H$4,7,1))=5,1,""),IF(WEEKDAY(DATE($H$4,7,1))=6,1,""))) -> 1 | G35: =IF(F35<>"",F35+1,IF($O$6="Sunday",IF(WEEKDAY(DATE($H$4,7,1))=6,1,""),IF(WEEKDAY(DATE($H$4,7,1))=7,1,""))) -> 2 | H35: =IF(G35<>"",G35+1,IF($O$6="Sunday",IF(WEEKDAY(DATE($H$4,7,1))=7,1,""),IF(WEEKDAY(DATE($H$4,7,1))=1,1,""))) -> 3 | J35: =IF($O$6="Sunday",IF(WEEKDAY(DATE($H$4,8,1))=1,1,""),IF(WEEKDAY(DATE($H$4,8,1))=2,1,"")) -> 1 | K35: =IF(J35<>"",J35+1,IF($O$6="Sunday",IF(WEEKDAY(DATE($H$4,8,1))=2,1,""),IF(WEEKDAY(DATE($H$4,8,1))=3,1,""))) -> 2 | L35: =IF(K35<>"",K35+1,IF($O$6="Sunday",IF(WEEKDAY(DATE($H$4,8,1))=3,1,""),IF(WEEKDAY(DATE($H$4,8,1))=4,1,""))) -> 3 | M35: =IF(L35<>"",L35+1,IF($O$6="Sunday",IF(WEEKDAY(DATE($H$4,8,1))=4,1,""),IF(WEEKDAY(DATE($H$4,8,1))=5,1,""))) -> 4 | N35: =IF(M35<>"",M35+1,IF($O$6="Sunday",IF(WEEKDAY(DATE($H$4,8,1))=5,1,""),IF(WEEKDAY(DATE($H$4,8,1))=6,1,""))) -> 5 | O35: =IF(N35<>"",N35+1,IF($O$6="Sunday",IF(WEEKDAY(DATE($H$4,8,1))=6,1,""),IF(WEEKDAY(DATE($H$4,8,1))=7,1,""))) -> 6 | P35: =IF(O35<>"",O35+1,IF($O$6="Sunday",IF(WEEKDAY(DATE($H$4,8,1))=7,1,""),IF(WEEKDAY(DATE($H$4,8,1))=1,1,""))) -> 7 | R35: =IF($O$6="Sunday",IF(WEEKDAY(DATE($H$4,9,1))=1,1,""),IF(WEEKDAY(DATE($H$4,9,1))=2,1,"")) | S35: =IF(R35<>"",R35+1,IF($O$6="Sunday",IF(WEEKDAY(DATE($H$4,9,1))=2,1,""),IF(WEEKDAY(DATE($H$4,9,1))=3,1,""))) | T35: =IF(S35<>"",S35+1,IF($O$6="Sunday",IF(WEEKDAY(DATE($H$4,9,1))=3,1,""),IF(WEEKDAY(DATE($H$4,9,1))=4,1,""))) | U35: =IF(T35<>"",T35+1,IF($O$6="Sunday",IF(WEEKDAY(DATE($H$4,9,1))=4,1,""),IF(WEEKDAY(DATE($H$4,9,1))=5,1,""))) -> 1 | V35: =IF(U35<>"",U35+1,IF($O$6="Sunday",IF(WEEKDAY(DATE($H$4,9,1))=5,1,""),IF(WEEKDAY(DATE($H$4,9,1))=6,1,""))) -> 2 | W35: =IF(V35<>"",V35+1,IF($O$6="Sunday",IF(WEEKDAY(DATE($H$4,9,1))=6,1,""),IF(WEEKDAY(DATE($H$4,9,1))=7,1,""))) -> 3 | X35: =IF(W35<>"",W35+1,IF($O$6="Sunday",IF(WEEKDAY(DATE($H$4,9,1))=7,1,""),IF(WEEKDAY(DATE($H$4,9,1))=1,1,""))) -> 4
B36: =H35+1 -> 4 | C36: =B36+1 -> 5 | D36: =C36+1 -> 6 | E36: =D36+1 -> 7 | F36: =E36+1 -> 8 | G36: =F36+1 -> 9 | H36: =G36+1 -> 10 | J36: =P35+1 -> 8 | K36: =J36+1 -> 9 | L36: =K36+1 -> 10 | M36: =L36+1 -> 11 | N36: =M36+1 -> 12 | O36: =N36+1 -> 13 | P36: =O36+1 -> 14 | R36: =X35+1 -> 5 | S36: =R36+1 -> 6 | T36: =S36+1 -> 7 | U36: =T36+1 -> 8 | V36: =U36+1 -> 9 | W36: =V36+1 -> 10 | X36: =W36+1 -> 11
B37: =H36+1 -> 11 | C37: =B37+1 -> 12 | D37: =C37+1 -> 13 | E37: =D37+1 -> 14 | F37: =E37+1 -> 15 | G37: =F37+1 -> 16 | H37: =G37+1 -> 17 | J37: =P36+1 -> 15 | K37: =J37+1 -> 16 | L37: =K37+1 -> 17 | M37: =L37+1 -> 18 | N37: =M37+1 -> 19 | O37: =N37+1 -> 20 | P37: =O37+1 -> 21 | R37: =X36+1 -> 12 | S37: =R37+1 -> 13 | T37: =S37+1 -> 14 | U37: =T37+1 -> 15 | V37: =U37+1 -> 16 | W37: =V37+1 -> 17 | X37: =W37+1 -> 18
B38: =H37+1 -> 18 | C38: =B38+1 -> 19 | D38: =C38+1 -> 20 | E38: =D38+1 -> 21 | F38: =E38+1 -> 22 | G38: =F38+1 -> 23 | H38: =G38+1 -> 24 | J38: =P37+1 -> 22 | K38: =J38+1 -> 23 | L38: =K38+1 -> 24 | M38: =L38+1 -> 25 | N38: =M38+1 -> 26 | O38: =N38+1 -> 27 | P38: =O38+1 -> 28 | R38: =X37+1 -> 19 | S38: =R38+1 -> 20 | T38: =S38+1 -> 21 | U38: =T38+1 -> 22 | V38: =U38+1 -> 23 | W38: =V38+1 -> 24 | X38: =W38+1 -> 25
B39: =IF(H38<>"",IF(DAY(EOMONTH(DATE($H$4,7,1),0))=H38,"",H38+1),"") -> 25 | C39: =IF(B39<>"",IF(DAY(EOMONTH(DATE($H$4,7,1),0))=B39,"",B39+1),"") -> 26 | D39: =IF(C39<>"",IF(DAY(EOMONTH(DATE($H$4,7,1),0))=C39,"",C39+1),"") -> 27 | E39: =IF(D39<>"",IF(DAY(EOMONTH(DATE($H$4,7,1),0))=D39,"",D39+1),"") -> 28 | F39: =IF(E39<>"",IF(DAY(EOMONTH(DATE($H$4,7,1),0))=E39,"",E39+1),"") -> 29 | G39: =IF(F39<>"",IF(DAY(EOMONTH(DATE($H$4,7,1),0))=F39,"",F39+1),"") -> 30 | H39: =IF(G39<>"",IF(DAY(EOMONTH(DATE($H$4,7,1),0))=G39,"",G39+1),"") -> 31 | J39: =IF(P38<>"",IF(DAY(EOMONTH(DATE($H$4,8,1),0))=P38,"",P38+1),"") -> 29 | K39: =IF(J39<>"",IF(DAY(EOMONTH(DATE($H$4,8,1),0))=J39,"",J39+1),"") -> 30 | L39: =IF(K39<>"",IF(DAY(EOMONTH(DATE($H$4,8,1),0))=K39,"",K39+1),"") -> 31 | M39: =IF(L39<>"",IF(DAY(EOMONTH(DATE($H$4,8,1),0))=L39,"",L39+1),"") | N39: =IF(M39<>"",IF(DAY(EOMONTH(DATE($H$4,8,1),0))=M39,"",M39+1),"") | O39: =IF(N39<>"",IF(DAY(EOMONTH(DATE($H$4,8,1),0))=N39,"",N39+1),"") | P39: =IF(O39<>"",IF(DAY(EOMONTH(DATE($H$4,8,1),0))=O39,"",O39+1),"") | R39: =IF(X38<>"",IF(DAY(EOMONTH(DATE($H$4,9,1),0))=X38,"",X38+1),"") -> 26 | S39: =IF(R39<>"",IF(DAY(EOMONTH(DATE($H$4,9,1),0))=R39,"",R39+1),"") -> 27 | T39: =IF(S39<>"",IF(DAY(EOMONTH(DATE($H$4,9,1),0))=S39,"",S39+1),"") -> 28 | U39: =IF(T39<>"",IF(DAY(EOMONTH(DATE($H$4,9,1),0))=T39,"",T39+1),"") -> 29 | V39: =IF(U39<>"",IF(DAY(EOMONTH(DATE($H$4,9,1),0))=U39,"",U39+1),"") -> 30 | W39: =IF(V39<>"",IF(DAY(EOMONTH(DATE($H$4,9,1),0))=V39,"",V39+1),"") | X39: =IF(W39<>"",IF(DAY(EOMONTH(DATE($H$4,9,1),0))=W39,"",W39+1),"")
B40: =IF(H39<>"",IF(DAY(EOMONTH(DATE($H$4,7,1),0))=H39,"",H39+1),"") | C40: =IF(B40<>"",IF(DAY(EOMONTH(DATE($H$4,7,1),0))=B40,"",B40+1),"") | G40: =$H$4 -> 2011 | H40: 7 | J40: =IF(P39<>"",IF(DAY(EOMONTH(DATE($H$4,8,1),0))=P39,"",P39+1),"") | K40: =IF(J40<>"",IF(DAY(EOMONTH(DATE($H$4,8,1),0))=J40,"",J40+1),"") | O40: =$H$4 -> 2011 | P40: 8 | R40: =IF(X39<>"",IF(DAY(EOMONTH(DATE($H$4,9,1),0))=X39,"",X39+1),"") | S40: =IF(R40<>"",IF(DAY(EOMONTH(DATE($H$4,9,1),0))=R40,"",R40+1),"") | W40: =$H$4 -> 2011 | X40: 9
B42: OKTOBER | J42: NOVEMBER | R42: DEZEMBER
B43: =R34 -> Mo | C43: =S34 -> Di | D43: =T34 -> Mi | E43: =U34 -> Do | F43: =V34 -> Fr | G43: =W34 -> Sa | H43: =X34 -> So | J43: =B43 -> Mo | K43: =C43 -> Di | L43: =D43 -> Mi | M43: =E43 -> Do | N43: =F43 -> Fr | O43: =G43 -> Sa | P43: =H43 -> So | R43: =J43 -> Mo | S43: =K43 -> Di | T43: =L43 -> Mi | U43: =M43 -> Do | V43: =N43 -> Fr | W43: =O43 -> Sa | X43: =P43 -> So
B44: =IF($O$6="Sunday",IF(WEEKDAY(DATE($H$4,10,1))=1,1,""),IF(WEEKDAY(DATE($H$4,10,1))=2,1,"")) | C44: =IF(B44<>"",B44+1,IF($O$6="Sunday",IF(WEEKDAY(DATE($H$4,10,1))=2,1,""),IF(WEEKDAY(DATE($H$4,10,1))=3,1,""))) | D44: =IF(C44<>"",C44+1,IF($O$6="Sunday",IF(WEEKDAY(DATE($H$4,10,1))=3,1,""),IF(WEEKDAY(DATE($H$4,10,1))=4,1,""))) | E44: =IF(D44<>"",D44+1,IF($O$6="Sunday",IF(WEEKDAY(DATE($H$4,10,1))=4,1,""),IF(WEEKDAY(DATE($H$4,10,1))=5,1,""))) | F44: =IF(E44<>"",E44+1,IF($O$6="Sunday",IF(WEEKDAY(DATE($H$4,10,1))=5,1,""),IF(WEEKDAY(DATE($H$4,10,1))=6,1,""))) | G44: =IF(F44<>"",F44+1,IF($O$6="Sunday",IF(WEEKDAY(DATE($H$4,10,1))=6,1,""),IF(WEEKDAY(DATE($H$4,10,1))=7,1,""))) -> 1 | H44: =IF(G44<>"",G44+1,IF($O$6="Sunday",IF(WEEKDAY(DATE($H$4,10,1))=7,1,""),IF(WEEKDAY(DATE($H$4,10,1))=1,1,""))) -> 2 | J44: =IF($O$6="Sunday",IF(WEEKDAY(DATE($H$4,11,1))=1,1,""),IF(WEEKDAY(DATE($H$4,11,1))=2,1,"")) | K44: =IF(J44<>"",J44+1,IF($O$6="Sunday",IF(WEEKDAY(DATE($H$4,11,1))=2,1,""),IF(WEEKDAY(DATE($H$4,11,1))=3,1,""))) -> 1 | L44: =IF(K44<>"",K44+1,IF($O$6="Sunday",IF(WEEKDAY(DATE($H$4,11,1))=3,1,""),IF(WEEKDAY(DATE($H$4,11,1))=4,1,""))) -> 2 | M44: =IF(L44<>"",L44+1,IF($O$6="Sunday",IF(WEEKDAY(DATE($H$4,11,1))=4,1,""),IF(WEEKDAY(DATE($H$4,11,1))=5,1,""))) -> 3 | N44: =IF(M44<>"",M44+1,IF($O$6="Sunday",IF(WEEKDAY(DATE($H$4,11,1))=5,1,""),IF(WEEKDAY(DATE($H$4,11,1))=6,1,""))) -> 4 | O44: =IF(N44<>"",N44+1,IF($O$6="Sunday",IF(WEEKDAY(DATE($H$4,11,1))=6,1,""),IF(WEEKDAY(DATE($H$4,11,1))=7,1,""))) -> 5 | P44: =IF(O44<>"",O44+1,IF($O$6="Sunday",IF(WEEKDAY(DATE($H$4,11,1))=7,1,""),IF(WEEKDAY(DATE($H$4,11,1))=1,1,""))) -> 6 | R44: =IF($O$6="Sunday",IF(WEEKDAY(DATE($H$4,12,1))=1,1,""),IF(WEEKDAY(DATE($H$4,12,1))=2,1,"")) | S44: =IF(R44<>"",R44+1,IF($O$6="Sunday",IF(WEEKDAY(DATE($H$4,12,1))=2,1,""),IF(WEEKDAY(DATE($H$4,12,1))=3,1,""))) | T44: =IF(S44<>"",S44+1,IF($O$6="Sunday",IF(WEEKDAY(DATE($H$4,12,1))=3,1,""),IF(WEEKDAY(DATE($H$4,12,1))=4,1,""))) | U44: =IF(T44<>"",T44+1,IF($O$6="Sunday",IF(WEEKDAY(DATE($H$4,12,1))=4,1,""),IF(WEEKDAY(DATE($H$4,12,1))=5,1,""))) -> 1 | V44: =IF(U44<>"",U44+1,IF($O$6="Sunday",IF(WEEKDAY(DATE($H$4,12,1))=5,1,""),IF(WEEKDAY(DATE($H$4,12,1))=6,1,""))) -> 2 | W44: =IF(V44<>"",V44+1,IF($O$6="Sunday",IF(WEEKDAY(DATE($H$4,12,1))=6,1,""),IF(WEEKDAY(DATE($H$4,12,1))=7,1,""))) -> 3 | X44: =IF(W44<>"",W44+1,IF($O$6="Sunday",IF(WEEKDAY(DATE($H$4,12,1))=7,1,""),IF(WEEKDAY(DATE($H$4,12,1))=1,1,""))) -> 4
B45: =H44+1 -> 3 | C45: =B45+1 -> 4 | D45: =C45+1 -> 5 | E45: =D45+1 -> 6 | F45: =E45+1 -> 7 | G45: =F45+1 -> 8 | H45: =G45+1 -> 9 | J45: =P44+1 -> 7 | K45: =J45+1 -> 8 | L45: =K45+1 -> 9 | M45: =L45+1 -> 10 | N45: =M45+1 -> 11 | O45: =N45+1 -> 12 | P45: =O45+1 -> 13 | R45: =X44+1 -> 5 | S45: =R45+1 -> 6 | T45: =S45+1 -> 7 | U45: =T45+1 -> 8 | V45: =U45+1 -> 9 | W45: =V45+1 -> 10 | X45: =W45+1 -> 11
B46: =H45+1 -> 10 | C46: =B46+1 -> 11 | D46: =C46+1 -> 12 | E46: =D46+1 -> 13 | F46: =E46+1 -> 14 | G46: =F46+1 -> 15 | H46: =G46+1 -> 16 | J46: =P45+1 -> 14 | K46: =J46+1 -> 15 | L46: =K46+1 -> 16 | M46: =L46+1 -> 17 | N46: =M46+1 -> 18 | O46: =N46+1 -> 19 | P46: =O46+1 -> 20 | R46: =X45+1 -> 12 | S46: =R46+1 -> 13 | T46: =S46+1 -> 14 | U46: =T46+1 -> 15 | V46: =U46+1 -> 16 | W46: =V46+1 -> 17 | X46: =W46+1 -> 18
B47: =H46+1 -> 17 | C47: =B47+1 -> 18 | D47: =C47+1 -> 19 | E47: =D47+1 -> 20 | F47: =E47+1 -> 21 | G47: =F47+1 -> 22 | H47: =G47+1 -> 23 | J47: =P46+1 -> 21 | K47: =J47+1 -> 22 | L47: =K47+1 -> 23 | M47: =L47+1 -> 24 | N47: =M47+1 -> 25 | O47: =N47+1 -> 26 | P47: =O47+1 -> 27 | R47: =X46+1 -> 19 | S47: =R47+1 -> 20 | T47: =S47+1 -> 21 | U47: =T47+1 -> 22 | V47: =U47+1 -> 23 | W47: =V47+1 -> 24 | X47: =W47+1 -> 25
B48: =IF(H47<>"",IF(DAY(EOMONTH(DATE($H$4,10,1),0))=H47,"",H47+1),"") -> 24 | C48: =IF(B48<>"",IF(DAY(EOMONTH(DATE($H$4,10,1),0))=B48,"",B48+1),"") -> 25 | D48: =IF(C48<>"",IF(DAY(EOMONTH(DATE($H$4,10,1),0))=C48,"",C48+1),"") -> 26 | E48: =IF(D48<>"",IF(DAY(EOMONTH(DATE($H$4,10,1),0))=D48,"",D48+1),"") -> 27 | F48: =IF(E48<>"",IF(DAY(EOMONTH(DATE($H$4,10,1),0))=E48,"",E48+1),"") -> 28 | G48: =IF(F48<>"",IF(DAY(EOMONTH(DATE($H$4,10,1),0))=F48,"",F48+1),"") -> 29 | H48: =IF(G48<>"",IF(DAY(EOMONTH(DATE($H$4,10,1),0))=G48,"",G48+1),"") -> 30 | J48: =IF(P47<>"",IF(DAY(EOMONTH(DATE($H$4,11,1),0))=P47,"",P47+1),"") -> 28 | K48: =IF(J48<>"",IF(DAY(EOMONTH(DATE($H$4,11,1),0))=J48,"",J48+1),"") -> 29 | L48: =IF(K48<>"",IF(DAY(EOMONTH(DATE($H$4,11,1),0))=K48,"",K48+1),"") -> 30 | M48: =IF(L48<>"",IF(DAY(EOMONTH(DATE($H$4,11,1),0))=L48,"",L48+1),"") | N48: =IF(M48<>"",IF(DAY(EOMONTH(DATE($H$4,11,1),0))=M48,"",M48+1),"") | O48: =IF(N48<>"",IF(DAY(EOMONTH(DATE($H$4,11,1),0))=N48,"",N48+1),"") | P48: =IF(O48<>"",IF(DAY(EOMONTH(DATE($H$4,11,1),0))=O48,"",O48+1),"") | R48: =IF(X47<>"",IF(DAY(EOMONTH(DATE($H$4,12,1),0))=X47,"",X47+1),"") -> 26 | S48: =IF(R48<>"",IF(DAY(EOMONTH(DATE($H$4,12,1),0))=R48,"",R48+1),"") -> 27 | T48: =IF(S48<>"",IF(DAY(EOMONTH(DATE($H$4,12,1),0))=S48,"",S48+1),"") -> 28 | U48: =IF(T48<>"",IF(DAY(EOMONTH(DATE($H$4,12,1),0))=T48,"",T48+1),"") -> 29 | V48: =IF(U48<>"",IF(DAY(EOMONTH(DATE($H$4,12,1),0))=U48,"",U48+1),"") -> 30 | W48: =IF(V48<>"",IF(DAY(EOMONTH(DATE($H$4,12,1),0))=V48,"",V48+1),"") -> 31 | X48: =IF(W48<>"",IF(DAY(EOMONTH(DATE($H$4,12,1),0))=W48,"",W48+1),"")
...
