Workbook
Name Team: 'Club Namen'!$B$3:$B$34

Sheet Club Namen
A2: Group | B2: Team Name | C2: Home Stadium | D2: Country
A3: A | B3: Bayern München | C3: Allianz Arena | D3: Deutschland
B4: Villarreal | C4: El Madrigal | D4: Spanien
B5: Manchester City | C5: City of Manchester | D5: England
B6: Napoli | C6: San Paolo | D6: Italien
A7: B | B7: Internazionale | C7: Giuseppe Meazza | D7: Italien
B8: CSKA Moscow | C8: Luzhniki | D8: Russland
B9: Lille | C9: Stade Lille-Metropole | D9: Frankreich
B10: Trabzonspor | C10: Hüseyin Avni Aker | D10: Türkei
A11: C | B11: Manchester United | C11: Old Trafford | D11: England
B12: Benfica | C12: Estadio da Luz | D12: Portugal
B13: Basel | C13: St. Jakob Park | D13: Schweiz
B14: Oţelul Galaţi | C14: Oţelul | D14: Rumänien
A15: D | B15: Real Madrid | C15: Santiago Bernabeu | D15: Spanien
B16: Lyon | C16: Stade de Gerland | D16: Frankreich
B17: Ajax | C17: Amsterdam Arena | D17: Netherland
B18: Dinamo Zagreb | C18: Maksimir | D18: Kroatien
A19: E | B19: Chelsea | C19: Stamford Bridge | D19: England
B20: Valencia | C20: Mestalla | D20: Spanien
B21: Bayer Leverkusen | C21: Bay Arena | D21: Deutschland
B22: Genk | C22: Cristal Arena | D22: Belgien
A23: F | B23: Arsenal | C23: Emirates Stadium | D23: England
B24: Marseille | C24: Stade Velodrome | D24: Frankreich
B25: Olympiacos | C25: Karaiskakis | D25: Griechenland
B26: Borussia Dortmund | C26: Signal Iduna Park | D26: Deutschland
A27: G | B27: Porto | C27: Estádio do Dragão | D27: Portugal
B28: Shakhtar Donetsk | C28: Donbass Arena | D28: Ukraine
B29: Zenit St. Petersburg | C29: Petrovsky Stadium | D29: Russland
B30: APOEL | C30: GSP Stadium | D30: Zypern
A31: H | B31: Barcelona | C31: Nou Camp | D31: Spanien
B32: AC Milan | C32: Giuseppe Meazza | D32: Italien
B33: Bate Borisov | C33: City Stadium | D33: Weißrussland
B34: Viktoria Plzeň | C34: Štruncovy Sady Stadion | D34: Tschechisch

Sheet Gruppenphase
B2: Besuchen Sie exceltabelle.com fur mehrere vorlagen und updates
CQ3: r musadya
B7: Gruppenphase
C9: Spiele | R9: Tabellen | DB9: Language | DC9: City
D11: Spiel | E11: Gruppe | F11: Datum | G11: Heim | I11: Ergebnis | M11: Gast | N11: Stadion | S11: Gruppe A | T11: S | U11: G | V11: U | W11: V | X11: T - G | Y11: P | DB11: Albanian | DC11: Addis Ababa
D12: Tag | S12: =VLOOKUP(1,'Dummy Table'!$DD$4:$DE$7,2,FALSE) -> Bayern München | T12: =SUM(U12:W12) -> 0 | U12: =SUMIF('Dummy Table'!B$4:B$7,Gruppenphase!S12,'Dummy Table'!Q$4:Q$7) -> 0 | V12: =SUMIF('Dummy Table'!B$4:B$7,Gruppenphase!S12,'Dummy Table'!R$4:R$7) -> 0 | W12: =SUMIF('Dummy Table'!B$4:B$7,Gruppenphase!S12,'Dummy Table'!S$4:S$7) -> 0 | X12: =CONCATENATE(SUMIF('Dummy Table'!B$4:B$7,Gruppenphase!S12,'Dummy Table'!T$4:T$7)," - ",SUMIF('Dummy Table'!B$4:B$7,Gruppenphase!S12,'Dummy Table'!U$4:U$7)) -> 0 - 0 | Y12: =U12*3+V12*1 -> 0 | DB12: Arabic | DC12: Adelaide
D13: 1 | E13: E | F13: 40800 | G13: Genk | J13: - | M13: Valencia | N13: =VLOOKUP(G13,'Club Namen'!$B$3:$C$34,2,FALSE) -> Cristal Arena | S13: =VLOOKUP(2,'Dummy Table'!$DD$4:$DE$7,2,FALSE) -> Villarreal | T13: =SUM(U13:W13) -> 0 | U13: =SUMIF('Dummy Table'!B$4:B$7,Gruppenphase!S13,'Dummy Table'!Q$4:Q$7) -> 0 | V13: =SUMIF('Dummy Table'!B$4:B$7,Gruppenphase!S13,'Dummy Table'!R$4:R$7) -> 0 | W13: =SUMIF('Dummy Table'!B$4:B$7,Gruppenphase!S13,'Dummy Table'!S$4:S$7) -> 0 | X13: =CONCATENATE(SUMIF('Dummy Table'!B$4:B$7,Gruppenphase!S13,'Dummy Table'!T$4:T$7)," - ",SUMIF('Dummy Table'!B$4:B$7,Gruppenphase!S13,'Dummy Table'!U$4:U$7)) -> 0 - 0 | Y13: =U13*3+V13*1 -> 0 | DB13: Bahasa | DC13: Aden
D14: 1 | E14: E | F14: 40800 | G14: Chelsea | J14: - | M14: Bayer Leverkusen | N14: =VLOOKUP(G14,'Club Namen'!$B$3:$C$34,2,FALSE) -> Stamford Bridge | S14: =VLOOKUP(3,'Dummy Table'!$DD$4:$DE$7,2,FALSE) -> Manchester City | T14: =SUM(U14:W14) -> 0 | U14: =SUMIF('Dummy Table'!B$4:B$7,Gruppenphase!S14,'Dummy Table'!Q$4:Q$7) -> 0 | V14: =SUMIF('Dummy Table'!B$4:B$7,Gruppenphase!S14,'Dummy Table'!R$4:R$7) -> 0 | W14: =SUMIF('Dummy Table'!B$4:B$7,Gruppenphase!S14,'Dummy Table'!S$4:S$7) -> 0 | X14: =CONCATENATE(SUMIF('Dummy Table'!B$4:B$7,Gruppenphase!S14,'Dummy Table'!T$4:T$7)," - ",SUMIF('Dummy Table'!B$4:B$7,Gruppenphase!S14,'Dummy Table'!U$4:U$7)) -> 0 - 0 | Y14: =U14*3+V14*1 -> 0 | DB14: Bulgarian | DC14: Algiers
D15: 1 | E15: F | F15: 40800 | G15: Olympiacos | J15: - | M15: Marseille | N15: =VLOOKUP(G15,'Club Namen'!$B$3:$C$34,2,FALSE) -> Karaiskakis | S15: =VLOOKUP(4,'Dummy Table'!$DD$4:$DE$7,2,FALSE) -> Napoli | T15: =SUM(U15:W15) -> 0 | U15: =SUMIF('Dummy Table'!B$4:B$7,Gruppenphase!S15,'Dummy Table'!Q$4:Q$7) -> 0 | V15: =SUMIF('Dummy Table'!B$4:B$7,Gruppenphase!S15,'Dummy Table'!R$4:R$7) -> 0 | W15: =SUMIF('Dummy Table'!B$4:B$7,Gruppenphase!S15,'Dummy Table'!S$4:S$7) -> 0 | X15: =CONCATENATE(SUMIF('Dummy Table'!B$4:B$7,Gruppenphase!S15,'Dummy Table'!T$4:T$7)," - ",SUMIF('Dummy Table'!B$4:B$7,Gruppenphase!S15,'Dummy Table'!U$4:U$7)) -> 0 - 0 | Y15: =U15*3+V15*1 -> 0 | DB15: Chinese | DC15: Almaty
D16: 1 | E16: F | F16: 40800 | G16: Borussia Dortmund | J16: - | M16: Arsenal | N16: =VLOOKUP(G16,'Club Namen'!$B$3:$C$34,2,FALSE) -> Signal Iduna Park | DB16: Croatian | DC16: Amman
D17: 1 | E17: G | F17: 40800 | G17: Porto | J17: - | M17: Shakhtar Donetsk | N17: =VLOOKUP(G17,'Club Namen'!$B$3:$C$34,2,FALSE) -> Estádio do Dragão | DB17: Danish | DC17: Amsterdam
D18: 1 | E18: G | F18: 40800 | G18: APOEL | J18: - | M18: Zenit St. Petersburg | N18: =VLOOKUP(G18,'Club Namen'!$B$3:$C$34,2,FALSE) -> GSP Stadium | S18: Gruppe B | T18: S | U18: G | V18: U | W18: V | X18: T - G | Y18: P | DB18: Dutch | DC18: Anadyr
D19: 1 | E19: H | F19: 40800 | G19: Barcelona | J19: - | M19: AC Milan | N19: =VLOOKUP(G19,'Club Namen'!$B$3:$C$34,2,FALSE) -> Nou Camp | S19: =VLOOKUP(1,'Dummy Table'!$DD$8:$DE$11,2,FALSE) -> Internazionale | T19: =SUM(U19:W19) -> 0 | U19: =SUMIF('Dummy Table'!B$8:B$11,Gruppenphase!S19,'Dummy Table'!Q$8:Q$11) -> 0 | V19: =SUMIF('Dummy Table'!B$8:B$11,Gruppenphase!S19,'Dummy Table'!R$8:R$11) -> 0 | W19: =SUMIF('Dummy Table'!B$8:B$11,Gruppenphase!S19,'Dummy Table'!S$8:S$11) -> 0 | X19: =CONCATENATE(SUMIF('Dummy Table'!B$8:B$11,Gruppenphase!S19,'Dummy Table'!T$8:T$11)," - ",SUMIF('Dummy Table'!B$8:B$11,Gruppenphase!S19,'Dummy Table'!U$8:U$11)) -> 0 - 0 | Y19: =U19*3+V19*1 -> 0 | DB19: English | DC19: Anchorage
D20: 1 | E20: H | F20: 40800 | G20: Viktoria Plzeň | J20: - | M20: Bate Borisov | N20: =VLOOKUP(G20,'Club Namen'!$B$3:$C$34,2,FALSE) -> Štruncovy Sady Stadion | S20: =VLOOKUP(2,'Dummy Table'!$DD$8:$DE$11,2,FALSE) -> CSKA Moscow | T20: =SUM(U20:W20) -> 0 | U20: =SUMIF('Dummy Table'!B$8:B$11,Gruppenphase!S20,'Dummy Table'!Q$8:Q$11) -> 0 | V20: =SUMIF('Dummy Table'!B$8:B$11,Gruppenphase!S20,'Dummy Table'!R$8:R$11) -> 0 | W20: =SUMIF('Dummy Table'!B$8:B$11,Gruppenphase!S20,'Dummy Table'!S$8:S$11) -> 0 | X20: =CONCATENATE(SUMIF('Dummy Table'!B$8:B$11,Gruppenphase!S20,'Dummy Table'!T$8:T$11)," - ",SUMIF('Dummy Table'!B$8:B$11,Gruppenphase!S20,'Dummy Table'!U$8:U$11)) -> 0 - 0 | Y20: =U20*3+V20*1 -> 0 | DB20: Finnish | DC20: Ankara
D21: 1 | E21: A | F21: 40801 | G21: Manchester City | J21: - | M21: Napoli | N21: =VLOOKUP(G21,'Club Namen'!$B$3:$C$34,2,FALSE) -> City of Manchester | S21: =VLOOKUP(3,'Dummy Table'!$DD$8:$DE$11,2,FALSE) -> Lille | T21: =SUM(U21:W21) -> 0 | U21: =SUMIF('Dummy Table'!B$8:B$11,Gruppenphase!S21,'Dummy Table'!Q$8:Q$11) -> 0 | V21: =SUMIF('Dummy Table'!B$8:B$11,Gruppenphase!S21,'Dummy Table'!R$8:R$11) -> 0 | W21: =SUMIF('Dummy Table'!B$8:B$11,Gruppenphase!S21,'Dummy Table'!S$8:S$11) -> 0 | X21: =CONCATENATE(SUMIF('Dummy Table'!B$8:B$11,Gruppenphase!S21,'Dummy Table'!T$8:T$11)," - ",SUMIF('Dummy Table'!B$8:B$11,Gruppenphase!S21,'Dummy Table'!U$8:U$11)) -> 0 - 0 | Y21: =U21*3+V21*1 -> 0 | DB21: France | DC21: Antananarivo
D22: 1 | E22: A | F22: 40801 | G22: Villarreal | J22: - | M22: Bayern München | N22: =VLOOKUP(G22,'Club Namen'!$B$3:$C$34,2,FALSE) -> El Madrigal | S22: =VLOOKUP(4,'Dummy Table'!$DD$8:$DE$11,2,FALSE) -> Trabzonspor | T22: =SUM(U22:W22) -> 0 | U22: =SUMIF('Dummy Table'!B$8:B$11,Gruppenphase!S22,'Dummy Table'!Q$8:Q$11) -> 0 | V22: =SUMIF('Dummy Table'!B$8:B$11,Gruppenphase!S22,'Dummy Table'!R$8:R$11) -> 0 | W22: =SUMIF('Dummy Table'!B$8:B$11,Gruppenphase!S22,'Dummy Table'!S$8:S$11) -> 0 | X22: =CONCATENATE(SUMIF('Dummy Table'!B$8:B$11,Gruppenphase!S22,'Dummy Table'!T$8:T$11)," - ",SUMIF('Dummy Table'!B$8:B$11,Gruppenphase!S22,'Dummy Table'!U$8:U$11)) -> 0 - 0 | Y22: =U22*3+V22*1 -> 0 | DB22: German | DC22: Asuncion
D23: 1 | E23: B | F23: 40801 | G23: Lille | J23: - | M23: CSKA Moscow | N23: =VLOOKUP(G23,'Club Namen'!$B$3:$C$34,2,FALSE) -> Stade Lille-Metropole | DB23: Greek | DC23: Athens
D24: 1 | E24: B | F24: 40801 | G24: Internazionale | J24: - | M24: Trabzonspor | N24: =VLOOKUP(G24,'Club Namen'!$B$3:$C$34,2,FALSE) -> Giuseppe Meazza | DB24: Hungarian | DC24: Atlanta
D25: 1 | E25: C | F25: 40801 | G25: Basel | J25: - | M25: Oţelul Galaţi | N25: =VLOOKUP(G25,'Club Namen'!$B$3:$C$34,2,FALSE) -> St. Jakob Park | S25: Gruppe C | T25: S | U25: G | V25: U | W25: V | X25: T - G | Y25: P | DB25: Italian | DC25: Auckland
D26: 1 | E26: C | F26: 40801 | G26: Benfica | J26: - | M26: Manchester United | N26: =VLOOKUP(G26,'Club Namen'!$B$3:$C$34,2,FALSE) -> Estadio da Luz | S26: =VLOOKUP(1,'Dummy Table'!$DD$12:$DE$15,2,FALSE) -> Manchester United | T26: =SUM(U26:W26) -> 0 | U26: =SUMIF('Dummy Table'!B$12:B$15,Gruppenphase!S26,'Dummy Table'!Q$12:Q$15) -> 0 | V26: =SUMIF('Dummy Table'!B$12:B$15,Gruppenphase!S26,'Dummy Table'!R$12:R$15) -> 0 | W26: =SUMIF('Dummy Table'!B$12:B$15,Gruppenphase!S26,'Dummy Table'!S$12:S$15) -> 0 | X26: =CONCATENATE(SUMIF('Dummy Table'!B$12:B$15,Gruppenphase!S26,'Dummy Table'!T$12:T$15)," - ",SUMIF('Dummy Table'!B$12:B$15,Gruppenphase!S26,'Dummy Table'!U$12:U$15)) -> 0 - 0 | Y26: =U26*3+V26*1 -> 0 | DB26: Lithuanian | DC26: Baghdad
D27: 1 | E27: D | F27: 40801 | G27: Dinamo Zagreb | J27: - | M27: Real Madrid | N27: =VLOOKUP(G27,'Club Namen'!$B$3:$C$34,2,FALSE) -> Maksimir | S27: =VLOOKUP(2,'Dummy Table'!$DD$12:$DE$15,2,FALSE) -> Benfica | T27: =SUM(U27:W27) -> 0 | U27: =SUMIF('Dummy Table'!B$12:B$15,Gruppenphase!S27,'Dummy Table'!Q$12:Q$15) -> 0 | V27: =SUMIF('Dummy Table'!B$12:B$15,Gruppenphase!S27,'Dummy Table'!R$12:R$15) -> 0 | W27: =SUMIF('Dummy Table'!B$12:B$15,Gruppenphase!S27,'Dummy Table'!S$12:S$15) -> 0 | X27: =CONCATENATE(SUMIF('Dummy Table'!B$12:B$15,Gruppenphase!S27,'Dummy Table'!T$12:T$15)," - ",SUMIF('Dummy Table'!B$12:B$15,Gruppenphase!S27,'Dummy Table'!U$12:U$15)) -> 0 - 0 | Y27: =U27*3+V27*1 -> 0 | DB27: Malay | DC27: Bangkok
D28: 1 | E28: D | F28: 40801 | G28: Ajax | J28: - | M28: Lyon | N28: =VLOOKUP(G28,'Club Namen'!$B$3:$C$34,2,FALSE) -> Amsterdam Arena | S28: =VLOOKUP(3,'Dummy Table'!$DD$12:$DE$15,2,FALSE) -> Basel | T28: =SUM(U28:W28) -> 0 | U28: =SUMIF('Dummy Table'!B$12:B$15,Gruppenphase!S28,'Dummy Table'!Q$12:Q$15) -> 0 | V28: =SUMIF('Dummy Table'!B$12:B$15,Gruppenphase!S28,'Dummy Table'!R$12:R$15) -> 0 | W28: =SUMIF('Dummy Table'!B$12:B$15,Gruppenphase!S28,'Dummy Table'!S$12:S$15) -> 0 | X28: =CONCATENATE(SUMIF('Dummy Table'!B$12:B$15,Gruppenphase!S28,'Dummy Table'!T$12:T$15)," - ",SUMIF('Dummy Table'!B$12:B$15,Gruppenphase!S28,'Dummy Table'!U$12:U$15)) -> 0 - 0 | Y28: =U28*3+V28*1 -> 0 | DB28: Maltese | DC28: Barcelona
D29: =D13+1 -> 2 | E29: B | F29: 40813 | G29: CSKA Moscow | J29: - | M29: Internazionale | N29: =VLOOKUP(G29,'Club Namen'!$B$3:$C$34,2,FALSE) -> Luzhniki | S29: =VLOOKUP(4,'Dummy Table'!$DD$12:$DE$15,2,FALSE) -> Oţelul Galaţi | T29: =SUM(U29:W29) -> 0 | U29: =SUMIF('Dummy Table'!B$12:B$15,Gruppenphase!S29,'Dummy Table'!Q$12:Q$15) -> 0 | V29: =SUMIF('Dummy Table'!B$12:B$15,Gruppenphase!S29,'Dummy Table'!R$12:R$15) -> 0 | W29: =SUMIF('Dummy Table'!B$12:B$15,Gruppenphase!S29,'Dummy Table'!S$12:S$15) -> 0 | X29: =CONCATENATE(SUMIF('Dummy Table'!B$12:B$15,Gruppenphase!S29,'Dummy Table'!T$12:T$15)," - ",SUMIF('Dummy Table'!B$12:B$15,Gruppenphase!S29,'Dummy Table'!U$12:U$15)) -> 0 - 0 | Y29: =U29*3+V29*1 -> 0 | DB29: Polish | DC29: Beijing
D30: =D14+1 -> 2 | E30: A | F30: 40814 | G30: Bayern München | J30: - | M30: Manchester City | N30: =VLOOKUP(G30,'Club Namen'!$B$3:$C$34,2,FALSE) -> Allianz Arena | DB30: Portuguese | DC30: Beirut
D31: =D15+1 -> 2 | E31: A | F31: 40814 | G31: Napoli | J31: - | M31: Villarreal | N31: =VLOOKUP(G31,'Club Namen'!$B$3:$C$34,2,FALSE) -> San Paolo | DB31: Romanian | DC31: Belgrade
D32: =D16+1 -> 2 | E32: B | F32: 40814 | G32: Trabzonspor | J32: - | M32: Lille | N32: =VLOOKUP(G32,'Club Namen'!$B$3:$C$34,2,FALSE) -> Hüseyin Avni Aker | S32: Gruppe D | T32: S | U32: G | V32: U | W32: V | X32: T - G | Y32: P | DB32: Russian | DC32: Berlin
D33: =D17+1 -> 2 | E33: C | F33: 40814 | G33: Manchester United | J33: - | M33: Basel | N33: =VLOOKUP(G33,'Club Namen'!$B$3:$C$34,2,FALSE) -> Old Trafford | S33: =VLOOKUP(1,'Dummy Table'!$DD$16:$DE$19,2,FALSE) -> Real Madrid | T33: =SUM(U33:W33) -> 0 | U33: =SUMIF('Dummy Table'!B$16:B$19,Gruppenphase!S33,'Dummy Table'!Q$16:Q$19) -> 0 | V33: =SUMIF('Dummy Table'!B$16:B$19,Gruppenphase!S33,'Dummy Table'!R$16:R$19) -> 0 | W33: =SUMIF('Dummy Table'!B$16:B$19,Gruppenphase!S33,'Dummy Table'!S$16:S$19) -> 0 | X33: =CONCATENATE(SUMIF('Dummy Table'!B$16:B$19,Gruppenphase!S33,'Dummy Table'!T$16:T$19)," - ",SUMIF('Dummy Table'!B$16:B$19,Gruppenphase!S33,'Dummy Table'!U$16:U$19)) -> 0 - 0 | Y33: =U33*3+V33*1 -> 0 | DB33: Serbian | DC33: Bogota
D34: =D18+1 -> 2 | E34: C | F34: 40814 | G34: Oţelul Galaţi | J34: - | M34: Benfica | N34: =VLOOKUP(G34,'Club Namen'!$B$3:$C$34,2,FALSE) -> Oţelul | S34: =VLOOKUP(2,'Dummy Table'!$DD$16:$DE$19,2,FALSE) -> Lyon | T34: =SUM(U34:W34) -> 0 | U34: =SUMIF('Dummy Table'!B$16:B$19,Gruppenphase!S34,'Dummy Table'!Q$16:Q$19) -> 0 | V34: =SUMIF('Dummy Table'!B$16:B$19,Gruppenphase!S34,'Dummy Table'!R$16:R$19) -> 0 | W34: =SUMIF('Dummy Table'!B$16:B$19,Gruppenphase!S34,'Dummy Table'!S$16:S$19) -> 0 | X34: =CONCATENATE(SUMIF('Dummy Table'!B$16:B$19,Gruppenphase!S34,'Dummy Table'!T$16:T$19)," - ",SUMIF('Dummy Table'!B$16:B$19,Gruppenphase!S34,'Dummy Table'!U$16:U$19)) -> 0 - 0 | Y34: =U34*3+V34*1 -> 0 | DB34: Slovenian | DC34: Boston
D35: =D19+1 -> 2 | E35: D | F35: 40814 | G35: Lyon | J35: - | M35: Dinamo Zagreb | N35: =VLOOKUP(G35,'Club Namen'!$B$3:$C$34,2,FALSE) -> Stade de Gerland | S35: =VLOOKUP(3,'Dummy Table'!$DD$16:$DE$19,2,FALSE) -> Ajax | T35: =SUM(U35:W35) -> 0 | U35: =SUMIF('Dummy Table'!B$16:B$19,Gruppenphase!S35,'Dummy Table'!Q$16:Q$19) -> 0 | V35: =SUMIF('Dummy Table'!B$16:B$19,Gruppenphase!S35,'Dummy Table'!R$16:R$19) -> 0 | W35: =SUMIF('Dummy Table'!B$16:B$19,Gruppenphase!S35,'Dummy Table'!S$16:S$19) -> 0 | X35: =CONCATENATE(SUMIF('Dummy Table'!B$16:B$19,Gruppenphase!S35,'Dummy Table'!T$16:T$19)," - ",SUMIF('Dummy Table'!B$16:B$19,Gruppenphase!S35,'Dummy Table'!U$16:U$19)) -> 0 - 0 | Y35: =U35*3+V35*1 -> 0 | DB35: Spanish | DC35: Brasilia
D36: =D20+1 -> 2 | E36: D | F36: 40814 | G36: Real Madrid | J36: - | M36: Ajax | N36: =VLOOKUP(G36,'Club Namen'!$B$3:$C$34,2,FALSE) -> Santiago Bernabeu | S36: =VLOOKUP(4,'Dummy Table'!$DD$16:$DE$19,2,FALSE) -> Dinamo Zagreb | T36: =SUM(U36:W36) -> 0 | U36: =SUMIF('Dummy Table'!B$16:B$19,Gruppenphase!S36,'Dummy Table'!Q$16:Q$19) -> 0 | V36: =SUMIF('Dummy Table'!B$16:B$19,Gruppenphase!S36,'Dummy Table'!R$16:R$19) -> 0 | W36: =SUMIF('Dummy Table'!B$16:B$19,Gruppenphase!S36,'Dummy Table'!S$16:S$19) -> 0 | X36: =CONCATENATE(SUMIF('Dummy Table'!B$16:B$19,Gruppenphase!S36,'Dummy Table'!T$16:T$19)," - ",SUMIF('Dummy Table'!B$16:B$19,Gruppenphase!S36,'Dummy Table'!U$16:U$19)) -> 0 - 0 | Y36: =U36*3+V36*1 -> 0 | DB36: Turkish | DC36: Brisbane
D37: =D21+1 -> 2 | E37: G | F37: 40814 | G37: Zenit St. Petersburg | J37: - | M37: Porto | N37: =VLOOKUP(G37,'Club Namen'!$B$3:$C$34,2,FALSE) -> Petrovsky Stadium | DB37: Vietnamese | DC37: Brussels
D38: =D22+1 -> 2 | E38: E | F38: 40815 | G38: Valencia | J38: - | M38: Chelsea | N38: =VLOOKUP(G38,'Club Namen'!$B$3:$C$34,2,FALSE) -> Mestalla | DC38: Bucharest
D39: =D23+1 -> 2 | E39: E | F39: 40815 | G39: Bayer Leverkusen | J39: - | M39: Genk | N39: =VLOOKUP(G39,'Club Namen'!$B$3:$C$34,2,FALSE) -> Bay Arena | S39: Gruppe E | T39: S | U39: G | V39: U | W39: V | X39: T - G | Y39: P | DC39: Budapest
D40: =D24+1 -> 2 | E40: F | F40: 40815 | G40: Arsenal | J40: - | M40: Olympiacos | N40: =VLOOKUP(G40,'Club Namen'!$B$3:$C$34,2,FALSE) -> Emirates Stadium | S40: =VLOOKUP(1,'Dummy Table'!$DD$20:$DE$23,2,FALSE) -> Chelsea | T40: =SUM(U40:W40) -> 0 | U40: =SUMIF('Dummy Table'!B$20:B$23,Gruppenphase!S40,'Dummy Table'!Q$20:Q$23) -> 0 | V40: =SUMIF('Dummy Table'!B$20:B$23,Gruppenphase!S40,'Dummy Table'!R$20:R$23) -> 0 | W40: =SUMIF('Dummy Table'!B$20:B$23,Gruppenphase!S40,'Dummy Table'!S$20:S$23) -> 0 | X40: =CONCATENATE(SUMIF('Dummy Table'!B$20:B$23,Gruppenphase!S40,'Dummy Table'!T$20:T$23)," - ",SUMIF('Dummy Table'!B$20:B$23,Gruppenphase!S40,'Dummy Table'!U$20:U$23)) -> 0 - 0 | Y40: =U40*3+V40*1 -> 0 | DC40: Buenos Aires
D41: =D25+1 -> 2 | E41: F | F41: 40815 | G41: Marseille | J41: - | M41: Borussia Dortmund | N41: =VLOOKUP(G41,'Club Namen'!$B$3:$C$34,2,FALSE) -> Stade Velodrome | S41: =VLOOKUP(2,'Dummy Table'!$DD$20:$DE$23,2,FALSE) -> Valencia | T41: =SUM(U41:W41) -> 0 | U41: =SUMIF('Dummy Table'!B$20:B$23,Gruppenphase!S41,'Dummy Table'!Q$20:Q$23) -> 0 | V41: =SUMIF('Dummy Table'!B$20:B$23,Gruppenphase!S41,'Dummy Table'!R$20:R$23) -> 0 | W41: =SUMIF('Dummy Table'!B$20:B$23,Gruppenphase!S41,'Dummy Table'!S$20:S$23) -> 0 | X41: =CONCATENATE(SUMIF('Dummy Table'!B$20:B$23,Gruppenphase!S41,'Dummy Table'!T$20:T$23)," - ",SUMIF('Dummy Table'!B$20:B$23,Gruppenphase!S41,'Dummy Table'!U$20:U$23)) -> 0 - 0 | Y41: =U41*3+V41*1 -> 0 | DC41: Cairo
D42: =D26+1 -> 2 | E42: G | F42: 40815 | G42: Shakhtar Donetsk | J42: - | M42: APOEL | N42: =VLOOKUP(G42,'Club Namen'!$B$3:$C$34,2,FALSE) -> Donbass Arena | S42: =VLOOKUP(3,'Dummy Table'!$DD$20:$DE$23,2,FALSE) -> Bayer Leverkusen | T42: =SUM(U42:W42) -> 0 | U42: =SUMIF('Dummy Table'!B$20:B$23,Gruppenphase!S42,'Dummy Table'!Q$20:Q$23) -> 0 | V42: =SUMIF('Dummy Table'!B$20:B$23,Gruppenphase!S42,'Dummy Table'!R$20:R$23) -> 0 | W42: =SUMIF('Dummy Table'!B$20:B$23,Gruppenphase!S42,'Dummy Table'!S$20:S$23) -> 0 | X42: =CONCATENATE(SUMIF('Dummy Table'!B$20:B$23,Gruppenphase!S42,'Dummy Table'!T$20:T$23)," - ",SUMIF('Dummy Table'!B$20:B$23,Gruppenphase!S42,'Dummy Table'!U$20:U$23)) -> 0 - 0 | Y42: =U42*3+V42*1 -> 0 | DC42: Canberra
D43: =D27+1 -> 2 | E43: H | F43: 40815 | G43: Bate Borisov | J43: - | M43: Barcelona | N43: =VLOOKUP(G43,'Club Namen'!$B$3:$C$34,2,FALSE) -> City Stadium | S43: =VLOOKUP(4,'Dummy Table'!$DD$20:$DE$23,2,FALSE) -> Genk | T43: =SUM(U43:W43) -> 0 | U43: =SUMIF('Dummy Table'!B$20:B$23,Gruppenphase!S43,'Dummy Table'!Q$20:Q$23) -> 0 | V43: =SUMIF('Dummy Table'!B$20:B$23,Gruppenphase!S43,'Dummy Table'!R$20:R$23) -> 0 | W43: =SUMIF('Dummy Table'!B$20:B$23,Gruppenphase!S43,'Dummy Table'!S$20:S$23) -> 0 | X43: =CONCATENATE(SUMIF('Dummy Table'!B$20:B$23,Gruppenphase!S43,'Dummy Table'!T$20:T$23)," - ",SUMIF('Dummy Table'!B$20:B$23,Gruppenphase!S43,'Dummy Table'!U$20:U$23)) -> 0 - 0 | Y43: =U43*3+V43*1 -> 0 | DC43: Cape Town
D44: =D28+1 -> 2 | E44: H | F44: 40815 | G44: AC Milan | J44: - | M44: Viktoria Plzeň | N44: =VLOOKUP(G44,'Club Namen'!$B$3:$C$34,2,FALSE) -> Giuseppe Meazza | DC44: Caracas
D45: =D29+1 -> 3 | E45: B | F45: 40834 | G45: CSKA Moscow | J45: - | M45: Trabzonspor | N45: =VLOOKUP(G45,'Club Namen'!$B$3:$C$34,2,FALSE) -> Luzhniki | DC45: Casablanca
D46: =D30+1 -> 3 | E46: A | F46: 40835 | G46: Napoli | J46: - | M46: Bayern München | N46: =VLOOKUP(G46,'Club Namen'!$B$3:$C$34,2,FALSE) -> San Paolo | S46: Gruppe F | T46: S | U46: G | V46: U | W46: V | X46: T - G | Y46: P | DC46: Chicago
...

Sheet Achtelfinale - Finale
D2: Besuchen Sie exceltabelle.com fur mehrere vorlagen und updates
CP3: r musadya
B7: Achtelfinale - Finale
B9: Achtelfinale | CF9: Language | CG9: City
C11: Hinspiel | R11: Rückspiel
D13: Spiel | E13: : | F13: 1 | H13: =IF(ISNA(VLOOKUP(F13,Gruppenphase!$V$96:$X$103,3,FALSE)),"",VLOOKUP(F13,Gruppenphase!$V$96:$X$103,3,FALSE)) | K13: - | N13: =Z13 | T13: =H13 | W13: - | Z13: =IF(ISNA(VLOOKUP(AE13,Gruppenphase!$V$86:$X$93,3,FALSE)),"",VLOOKUP(AE13,Gruppenphase!$V$86:$X$93,3,FALSE)) | AC13: =D13 -> Spiel | AD13: : | AE13: =F13 -> 1
D14: Datum | E14: : | AC14: =D14 -> Datum | AD14: :
D15: Zeit | E15: : | N15: Gesamtergebnis | O15: : | P15: =IF(AND(P16<>"",R16<>""),IF(P16>R16,N16&" win",IF(R16>P16,T16&" win",IF(AND(P16=R16,L13>V13),T16&" win on away goals",IF(AND(P16=R16,L13<V13),N16&" win on away goals","")))),"") | AC15: =D15 -> Zeit | AD15: :
D16: Stadion | E16: : | F16: =IF(H13<>"",VLOOKUP(H13,'Club Namen'!$B$3:$C$34,2,FALSE),"") | M16: =IF(SUM(#REF!)=12,#REF!,"Group A Winner") -> #REF! | N16: =H13 | P16: =IF(P17="","",IF(AND(P17=R17,P17<>"",R17<>""),IF(AND(L13=V13,J13=X13),IF(AND(P18=R18,P18<>"",R18<>""),IF(AND(P19=R19,P19<>"",R19<>""),"",P17+P18+P19),P17+P18),P17),P17)) | Q16: - | R16: =IF(R17="","",IF(AND(P17=R17,P17<>"",R17<>""),IF(AND(L13=V13,J13=X13),IF(AND(P18=R18,P18<>"",R18<>""),IF(AND(P19=R19,P19<>"",R19<>""),"",R17+R18+R19),R17+R18),R17),R17)) | T16: =Z13 | AC16: =D16 -> Stadion | AD16: : | AE16: =IF(Z13<>"",VLOOKUP(Z13,'Club Namen'!$B$3:$C$34,2,FALSE),"")
F17: =IF(H13<>"",VLOOKUP(H13,'Club Namen'!$B$3:$D$34,3,FALSE),"") | N17: Reguläre Spielzeit | P17: =IF(AND(J13<>"",V13<>""),J13+V13,"") | Q17: - | R17: =IF(AND(L13<>"",X13<>""),L13+X13,"") | AE17: =IF(Z13<>"",VLOOKUP(Z13,'Club Namen'!$B$3:$D$34,3,FALSE),"")
N18: Verlängerung | Q18: -
N19: Elfmeterschießen | Q19: -
C21: Hinspiel | R21: Rückspiel
D23: =D13 -> Spiel | E23: : | F23: 2 | H23: =IF(ISNA(VLOOKUP(F23,Gruppenphase!$V$96:$X$103,3,FALSE)),"",VLOOKUP(F23,Gruppenphase!$V$96:$X$103,3,FALSE)) | K23: - | N23: =Z23 | T23: =H23 | W23: - | Z23: =IF(ISNA(VLOOKUP(AE23,Gruppenphase!$V$86:$X$93,3,FALSE)),"",VLOOKUP(AE23,Gruppenphase!$V$86:$X$93,3,FALSE)) | AC23: =AC13 -> Spiel | AD23: : | AE23: =F23 -> 2
D24: =D14 -> Datum | E24: : | AC24: =AC14 -> Datum | AD24: :
D25: =D15 -> Zeit | E25: : | N25: Gesamtergebnis | O25: : | P25: =IF(AND(P26<>"",R26<>""),IF(P26>R26,N26&" win",IF(R26>P26,T26&" win",IF(AND(P26=R26,L23>V23),T26&" win on away goals",IF(AND(P26=R26,L23<V23),N26&" win on away goals","")))),"") | AC25: =AC15 -> Zeit | AD25: :
D26: =D16 -> Stadion | E26: : | F26: =IF(H23<>"",VLOOKUP(H23,'Club Namen'!$B$3:$C$34,2,FALSE),"") | M26: =IF(SUM(#REF!)=12,#REF!,"Group A Winner") -> #REF! | N26: =H23 | P26: =IF(P27="","",IF(AND(P27=R27,P27<>"",R27<>""),IF(AND(L23=V23,J23=X23),IF(AND(P28=R28,P28<>"",R28<>""),IF(AND(P29=R29,P29<>"",R29<>""),"",P27+P28+P29),P27+P28),P27),P27)) | Q26: - | R26: =IF(R27="","",IF(AND(P27=R27,P27<>"",R27<>""),IF(AND(L23=V23,J23=X23),IF(AND(P28=R28,P28<>"",R28<>""),IF(AND(P29=R29,P29<>"",R29<>""),"",R27+R28+R29),R27+R28),R27),R27)) | T26: =Z23 | AC26: =AC16 -> Stadion | AD26: : | AE26: =IF(Z23<>"",VLOOKUP(Z23,'Club Namen'!$B$3:$C$34,2,FALSE),"")
F27: =IF(H23<>"",VLOOKUP(H23,'Club Namen'!$B$3:$D$34,3,FALSE),"") | N27: Reguläre Spielzeit | P27: =IF(AND(J23<>"",V23<>""),J23+V23,"") | Q27: - | R27: =IF(AND(L23<>"",X23<>""),L23+X23,"") | AE27: =IF(Z23<>"",VLOOKUP(Z23,'Club Namen'!$B$3:$D$34,3,FALSE),"")
N28: Verlängerung | Q28: -
N29: Elfmeterschießen | Q29: -
C31: Hinspiel | R31: Rückspiel
D33: =D23 -> Spiel | E33: : | F33: 3 | H33: =IF(ISNA(VLOOKUP(F33,Gruppenphase!$V$96:$X$103,3,FALSE)),"",VLOOKUP(F33,Gruppenphase!$V$96:$X$103,3,FALSE)) | K33: - | N33: =Z33 | T33: =H33 | W33: - | Z33: =IF(ISNA(VLOOKUP(AE33,Gruppenphase!$V$86:$X$93,3,FALSE)),"",VLOOKUP(AE33,Gruppenphase!$V$86:$X$93,3,FALSE)) | AC33: =AC23 -> Spiel | AD33: : | AE33: =F33 -> 3
D34: =D24 -> Datum | E34: : | AC34: =AC24 -> Datum | AD34: :
D35: =D25 -> Zeit | E35: : | N35: Gesamtergebnis | O35: : | P35: =IF(AND(P36<>"",R36<>""),IF(P36>R36,N36&" win",IF(R36>P36,T36&" win",IF(AND(P36=R36,L33>V33),T36&" win on away goals",IF(AND(P36=R36,L33<V33),N36&" win on away goals","")))),"") | AC35: =AC25 -> Zeit | AD35: :
D36: =D26 -> Stadion | E36: : | F36: =IF(H33<>"",VLOOKUP(H33,'Club Namen'!$B$3:$C$34,2,FALSE),"") | M36: =IF(SUM(#REF!)=12,#REF!,"Group A Winner") -> #REF! | N36: =H33 | P36: =IF(P37="","",IF(AND(P37=R37,P37<>"",R37<>""),IF(AND(L33=V33,J33=X33),IF(AND(P38=R38,P38<>"",R38<>""),IF(AND(P39=R39,P39<>"",R39<>""),"",P37+P38+P39),P37+P38),P37),P37)) | Q36: - | R36: =IF(R37="","",IF(AND(P37=R37,P37<>"",R37<>""),IF(AND(L33=V33,J33=X33),IF(AND(P38=R38,P38<>"",R38<>""),IF(AND(P39=R39,P39<>"",R39<>""),"",R37+R38+R39),R37+R38),R37),R37)) | T36: =Z33 | AC36: =AC26 -> Stadion | AD36: : | AE36: =IF(Z33<>"",VLOOKUP(Z33,'Club Namen'!$B$3:$C$34,2,FALSE),"")
F37: =IF(H33<>"",VLOOKUP(H33,'Club Namen'!$B$3:$D$34,3,FALSE),"") | N37: Reguläre Spielzeit | P37: =IF(AND(J33<>"",V33<>""),J33+V33,"") | Q37: - | R37: =IF(AND(L33<>"",X33<>""),L33+X33,"") | AE37: =IF(Z33<>"",VLOOKUP(Z33,'Club Namen'!$B$3:$D$34,3,FALSE),"")
N38: Verlängerung | Q38: -
N39: Elfmeterschießen | Q39: -
C41: Hinspiel | R41: Rückspiel
D43: =D33 -> Spiel | E43: : | F43: 4 | H43: =IF(ISNA(VLOOKUP(F43,Gruppenphase!$V$96:$X$103,3,FALSE)),"",VLOOKUP(F43,Gruppenphase!$V$96:$X$103,3,FALSE)) | K43: - | N43: =Z43 | T43: =H43 | W43: - | Z43: =IF(ISNA(VLOOKUP(AE43,Gruppenphase!$V$86:$X$93,3,FALSE)),"",VLOOKUP(AE43,Gruppenphase!$V$86:$X$93,3,FALSE)) | AC43: =AC33 -> Spiel | AD43: : | AE43: =F43 -> 4
D44: =D34 -> Datum | E44: : | AC44: =AC34 -> Datum | AD44: :
D45: =D35 -> Zeit | E45: : | N45: Gesamtergebnis | O45: : | P45: =IF(AND(P46<>"",R46<>""),IF(P46>R46,N46&" win",IF(R46>P46,T46&" win",IF(AND(P46=R46,L43>V43),T46&" win on away goals",IF(AND(P46=R46,L43<V43),N46&" win on away goals","")))),"") | AC45: =AC35 -> Zeit | AD45: :
D46: =D36 -> Stadion | E46: : | F46: =IF(H43<>"",VLOOKUP(H43,'Club Namen'!$B$3:$C$34,2,FALSE),"") | M46: =IF(SUM(#REF!)=12,#REF!,"Group A Winner") -> #REF! | N46: =H43 | P46: =IF(P47="","",IF(AND(P47=R47,P47<>"",R47<>""),IF(AND(L43=V43,J43=X43),IF(AND(P48=R48,P48<>"",R48<>""),IF(AND(P49=R49,P49<>"",R49<>""),"",P47+P48+P49),P47+P48),P47),P47)) | Q46: - | R46: =IF(R47="","",IF(AND(P47=R47,P47<>"",R47<>""),IF(AND(L43=V43,J43=X43),IF(AND(P48=R48,P48<>"",R48<>""),IF(AND(P49=R49,P49<>"",R49<>""),"",R47+R48+R49),R47+R48),R47),R47)) | T46: =Z43 | AC46: =AC36 -> Stadion | AD46: : | AE46: =IF(Z43<>"",VLOOKUP(Z43,'Club Namen'!$B$3:$C$34,2,FALSE),"")
F47: =IF(H43<>"",VLOOKUP(H43,'Club Namen'!$B$3:$D$34,3,FALSE),"") | N47: Reguläre Spielzeit | P47: =IF(AND(J43<>"",V43<>""),J43+V43,"") | Q47: - | R47: =IF(AND(L43<>"",X43<>""),L43+X43,"") | AE47: =IF(Z43<>"",VLOOKUP(Z43,'Club Namen'!$B$3:$D$34,3,FALSE),"")
N48: Verlängerung | Q48: -
N49: Elfmeterschießen | Q49: -
C51: Hinspiel | R51: Rückspiel
D53: =D43 -> Spiel | E53: : | F53: 5 | H53: =IF(ISNA(VLOOKUP(F53,Gruppenphase!$V$96:$X$103,3,FALSE)),"",VLOOKUP(F53,Gruppenphase!$V$96:$X$103,3,FALSE)) | K53: - | N53: =Z53 | T53: =H53 | W53: - | Z53: =IF(ISNA(VLOOKUP(AE53,Gruppenphase!$V$86:$X$93,3,FALSE)),"",VLOOKUP(AE53,Gruppenphase!$V$86:$X$93,3,FALSE)) | AC53: =AC43 -> Spiel | AD53: : | AE53: =F53 -> 5
D54: =D44 -> Datum | E54: : | AC54: =AC44 -> Datum | AD54: :
D55: =D45 -> Zeit | E55: : | N55: Gesamtergebnis | O55: : | P55: =IF(AND(P56<>"",R56<>""),IF(P56>R56,N56&" win",IF(R56>P56,T56&" win",IF(AND(P56=R56,L53>V53),T56&" win on away goals",IF(AND(P56=R56,L53<V53),N56&" win on away goals","")))),"") | AC55: =AC45 -> Zeit | AD55: :
...

Sheet Dummy Table
A4: =Y4+Z4+AA4+AB4 -> 1 | B4: ='Club Namen'!B3 -> Bayern München | C4: =SUMPRODUCT((Gruppenphase!$I$13:$I$108<>"")*(Gruppenphase!$K$13:$K$108<>"")*(Gruppenphase!$G$13:$G$108='Dummy Table'!$B4)*(Gruppenphase!$I$13:$I$108>Gruppenphase!$K$13:$K$108)) -> 0 | D4: =SUMPRODUCT((Gruppenphase!$I$13:$I$108<>"")*(Gruppenphase!$K$13:$K$108<>"")*(Gruppenphase!$G$13:$G$108='Dummy Table'!$B4)*(Gruppenphase!$I$13:$I$108=Gruppenphase!$K$13:$K$108)) -> 0 | E4: =SUMPRODUCT((Gruppenphase!$I$13:$I$108<>"")*(Gruppenphase!$K$13:$K$108<>"")*(Gruppenphase!$G$13:$G$108='Dummy Table'!$B4)*(Gruppenphase!$I$13:$I$108<Gruppenphase!$K$13:$K$108)) -> 0 | F4: =SUMIF(Gruppenphase!$G$13:$G$108,'Dummy Table'!$B4,Gruppenphase!$I$13:$I$108) -> 0 | G4: =SUMIF(Gruppenphase!$G$13:$G$108,'Dummy Table'!$B4,Gruppenphase!$K$13:$K$108) -> 0 | H4: =F4-G4 -> 0 | I4: =C4*3+D4*1 -> 0 | J4: =SUMPRODUCT((Gruppenphase!$I$13:$I$108<>"")*(Gruppenphase!$K$13:$K$108<>"")*(Gruppenphase!$M$13:$M$108='Dummy Table'!$B4)*(Gruppenphase!$I$13:$I$108<Gruppenphase!$K$13:$K$108)) -> 0 | K4: =SUMPRODUCT((Gruppenphase!$I$13:$I$108<>"")*(Gruppenphase!$K$13:$K$108<>"")*(Gruppenphase!$M$13:$M$108='Dummy Table'!$B4)*(Gruppenphase!$I$13:$I$108=Gruppenphase!$K$13:$K$108)) -> 0 | L4: =SUMPRODUCT((Gruppenphase!$I$13:$I$108<>"")*(Gruppenphase!$K$13:$K$108<>"")*(Gruppenphase!$M$13:$M$108='Dummy Table'!$B4)*(Gruppenphase!$I$13:$I$108>Gruppenphase!$K$13:$K$108)) -> 0 | M4: =SUMIF(Gruppenphase!$M$13:$M$108,'Dummy Table'!$B4,Gruppenphase!$K$13:$K$108) -> 0 | N4: =SUMIF(Gruppenphase!$M$13:$M$108,'Dummy Table'!$B4,Gruppenphase!$I$13:$I$108) -> 0 | O4: =M4-N4 -> 0 | P4: =J4*3+K4*1 -> 0 | Q4: =C4+J4 -> 0 | R4: =D4+K4 -> 0 | S4: =E4+L4 -> 0 | T4: =F4+M4 -> 0 | U4: =G4+N4 -> 0 | V4: =H4+O4 -> 0 | W4: =I4+P4 -> 0 | X4: 98 | Y4: =RANK(W4,W$4:W$7) -> 1 | Z4: =SUMPRODUCT((W$4:W$7=W4)*(V$4:V$7>V4)) -> 0 | AA4: =SUMPRODUCT((Y$4:Y$7=Y4)*(Z$4:Z$7=Z4)*(T$4:T$7>T4)) -> 0 | AB4: =SUMPRODUCT((Y$4:Y$7=Y4)*(Z$4:Z$7=Z4)*(T$4:T$7=T4)*(X$4:X$7>X4)) -> 0 | AC4: 1 | AD4: =VLOOKUP(AC4,$A$4:$B$7,2,FALSE) -> Bayern München | AE4: =VLOOKUP($AD4,$B$4:$W$7,22,FALSE) -> 0 | AF4: =IF(AE4=AE5,AD4,"") -> Bayern München | AG4: =SUMPRODUCT(($BK$4:$BK$99='Dummy Table'!$AF4)*($BL$4:$BL$99>$BM$4:$BM$99)) -> 0 | AH4: =SUMPRODUCT(($BK$4:$BK$99='Dummy Table'!$AF4)*($BL$4:$BL$99=$BM$4:$BM$99)) -> 0 | AI4: =SUMPRODUCT(($BK$4:$BK$99='Dummy Table'!$AF4)*($BL$4:$BL$99<$BM$4:$BM$99)) -> 0 | AJ4: =SUMIF($BK$4:$BK$99,'Dummy Table'!$AF4,$BL$4:$BL$99) -> 0 | AK4: =SUMIF($BK$4:$BK$99,'Dummy Table'!$AF4,$BM$4:$BM$99) -> 0 | AL4: =AJ4-AK4 -> 0 | AM4: =IF(AF4<>"",AG4*3+AH4*1,"") -> 0 | AN4: =SUMPRODUCT(($BN$4:$BN$99='Dummy Table'!$AF4)*($BL$4:$BL$99<$BM$4:$BM$99)) -> 0 | AO4: =SUMPRODUCT(($BN$4:$BN$99='Dummy Table'!$AF4)*($BL$4:$BL$99=$BM$4:$BM$99)) -> 0 | AP4: =SUMPRODUCT(($BN$4:$BN$99='Dummy Table'!$AF4)*($BL$4:$BL$99>$BM$4:$BM$99)) -> 0 | AQ4: =SUMIF($BN$4:$BN$99,'Dummy Table'!$AF4,$BM$4:$BM$99) -> 0 | AR4: =SUMIF($BN$4:$BN$99,'Dummy Table'!$AF4,$BL$4:$BL$99) -> 0 | AS4: =AQ4-AR4 -> 0 | AT4: =IF(AF4<>"",AN4*3+AO4*1,"") -> 0 | AU4: =AG4+AN4 -> 0 | AV4: =AH4+AO4 -> 0 | AW4: =AI4+AP4 -> 0 | AX4: =AJ4+AQ4 -> 0 | AY4: =AK4+AR4 -> 0 | AZ4: =AL4+AS4 -> 0 | BA4: =IF(AF4<>"",AM4+AT4,-1) -> 0 | BB4: =IF(AF4<>"",VLOOKUP(AF4,$B$4:$V$35,21,FALSE),"") -> 0 | BC4: =IF(AF4<>"",VLOOKUP(AF4,$B$4:$T$35,19,FALSE),"") -> 0 | BD4: =IF(AF4<>"",VLOOKUP(AF4,$B$4:$X$35,23,FALSE),"") -> 98 | BE4: =RANK(BA4,BA$4:BA$7) -> 1 | BF4: =SUMPRODUCT((BA$4:BA$7=BA4)*(AZ$4:AZ$7>AZ4)) -> 0 | BG4: =SUMPRODUCT((BA$4:BA$7=BA4)*(BE$4:BE$7=BE4)*(AZ$4:AZ$7=AZ4)*(AQ$4:AQ$7>AQ4)) -> 0 | BH4: =SUMPRODUCT((BA$4:BA$7=BA4)*(BE$4:BE$7=BE4)*(AZ$4:AZ$7=AZ4)*(AQ$4:AQ$7=AQ4)*(BB$4:BB$7>BB4)) -> 0 | BI4: =SUMPRODUCT((BA$4:BA$7=BA4)*(BE$4:BE$7=BE4)*(AZ$4:AZ$7=AZ4)*(AQ$4:AQ$7=AQ4)*(BB$4:BB$7=BB4)*(BC$4:BC$7>BC4)) -> 0 | BJ4: =SUMPRODUCT((BA$4:BA$7=BA4)*(BE$4:BE$7=BE4)*(AZ$4:AZ$7=AZ4)*(AQ$4:AQ$7=AQ4)*(BB$4:BB$7=BB4)*(BC$4:BC$7=BC4)*(BD$4:BD$7>BD4)) -> 0 | BK4: =IF(AND(COUNTIF($AF$4:$AF$35,Gruppenphase!G13)>0,COUNTIF($AF$4:$AF$35,Gruppenphase!M13)>0,Gruppenphase!I13<>"",Gruppenphase!K13<>""),Gruppenphase!G13,"") | BL4: =IF($BK4<>"",Gruppenphase!$I13,"") | BM4: =IF($BK4<>"",Gruppenphase!$K13,"") | BN4: =IF($BK4<>"",Gruppenphase!$M13,"") | BO4: =IF(AF4="","",SUM(BE4:BJ4)) -> 1 | BP4: =IF(AF4="","",AF4) -> Bayern München | BQ4: =VLOOKUP($AD4,$B$4:$W$7,22,FALSE) -> 0 | BS4: =SUMPRODUCT(($BK$4:$BK$99='Dummy Table'!$AF4)*($BL$4:$BL$99>$BM$4:$BM$99)) -> 0 | BT4: =SUMPRODUCT(($BK$4:$BK$99='Dummy Table'!$AF4)*($BL$4:$BL$99=$BM$4:$BM$99)) -> 0 | BU4: =SUMPRODUCT(($BK$4:$BK$99='Dummy Table'!$AF4)*($BL$4:$BL$99<$BM$4:$BM$99)) -> 0 | BV4: =SUMIF($BK$4:$BK$99,'Dummy Table'!$AF4,$BL$4:$BL$99) -> 0 | BW4: =SUMIF($BK$4:$BK$99,'Dummy Table'!$AF4,$BM$4:$BM$99) -> 0 | BX4: =BV4-BW4 -> 0 | BY4: =IF(BR4<>"",BS4*3+BT4*1,"") | BZ4: =SUMPRODUCT(($BN$4:$BN$99='Dummy Table'!$AF4)*($BL$4:$BL$99<$BM$4:$BM$99)) -> 0 | CA4: =SUMPRODUCT(($BN$4:$BN$99='Dummy Table'!$AF4)*($BL$4:$BL$99=$BM$4:$BM$99)) -> 0 | CB4: =SUMPRODUCT(($BN$4:$BN$99='Dummy Table'!$AF4)*($BL$4:$BL$99>$BM$4:$BM$99)) -> 0 | CC4: =SUMIF($BN$4:$BN$99,'Dummy Table'!$AF4,$BM$4:$BM$99) -> 0 | CD4: =SUMIF($BN$4:$BN$99,'Dummy Table'!$AF4,$BL$4:$BL$99) -> 0 | CE4: =CC4-CD4 -> 0 | CF4: =IF(BR4<>"",BZ4*3+CA4*1,"") | CG4: =BS4+BZ4 -> 0 | CH4: =BT4+CA4 -> 0 | CI4: =BU4+CB4 -> 0 | CJ4: =BV4+CC4 -> 0 | CK4: =BW4+CD4 -> 0 | CL4: =BX4+CE4 -> 0 | CM4: =IF(BR4<>"",BY4+CF4,-1) -> -1 | CN4: 1 | CO4: =RANK(CM4,CM$4:CM$7) -> 1 | CP4: =SUMPRODUCT((CM$4:CM$7=CM4)*(CO$4:CO$7=CO4)*(CC$4:CC$7>CC4)) -> 0 | CQ4: =SUMPRODUCT((CM$4:CM$7=CM4)*(CL$4:CL$7>CL4)) -> 0 | CR4: =SUMPRODUCT((CO$4:CO$7=CO4)*(CQ$4:CQ$7=CQ4)*(CJ$4:CJ$7>CJ4)) -> 0 | CS4: =SUMPRODUCT((CO$4:CO$7=CO4)*(CQ$4:CQ$7=CQ4)*(CJ$4:CJ$7=CJ4)*(CN$4:CN$7>CN4)) -> 3 | CT4: =IF(AND(COUNTIF($AF$4:$AF$35,Gruppenphase!$G13)>0,COUNTIF($AF$4:$AF$35,Gruppenphase!$M13)>0),Gruppenphase!$G13,"") -> Genk | CU4: =IF($BK4<>"",Gruppenphase!$I13,"") | CV4: =IF($BK4<>"",Gruppenphase!$K13,"") | CW4: =IF($BK4<>"",Gruppenphase!$M13,"") | CX4: =IF(BR4="","",SUM(CO4:CS4)) | CY4: =IF(BR4="","",BR4) | CZ4: 1 | DA4: =IF(AF4="",AD4,"") | DB4: =IF(DA4="",CZ4,"") -> 1 | DC4: =VLOOKUP(DB4,$BO$4:$BP$7,2,FALSE) -> Bayern München | DD4: 1 | DE4: =IF(DA4="",DC4,DA4) -> Bayern München
A5: =Y5+Z5+AA5+AB5 -> 2 | B5: ='Club Namen'!B4 -> Villarreal | C5: =SUMPRODUCT((Gruppenphase!$I$13:$I$108<>"")*(Gruppenphase!$K$13:$K$108<>"")*(Gruppenphase!$G$13:$G$108='Dummy Table'!$B5)*(Gruppenphase!$I$13:$I$108>Gruppenphase!$K$13:$K$108)) -> 0 | D5: =SUMPRODUCT((Gruppenphase!$I$13:$I$108<>"")*(Gruppenphase!$K$13:$K$108<>"")*(Gruppenphase!$G$13:$G$108='Dummy Table'!$B5)*(Gruppenphase!$I$13:$I$108=Gruppenphase!$K$13:$K$108)) -> 0 | E5: =SUMPRODUCT((Gruppenphase!$I$13:$I$108<>"")*(Gruppenphase!$K$13:$K$108<>"")*(Gruppenphase!$G$13:$G$108='Dummy Table'!$B5)*(Gruppenphase!$I$13:$I$108<Gruppenphase!$K$13:$K$108)) -> 0 | F5: =SUMIF(Gruppenphase!$G$13:$G$108,'Dummy Table'!$B5,Gruppenphase!$I$13:$I$108) -> 0 | G5: =SUMIF(Gruppenphase!$G$13:$G$108,'Dummy Table'!$B5,Gruppenphase!$K$13:$K$108) -> 0 | H5: =F5-G5 -> 0 | I5: =C5*3+D5*1 -> 0 | J5: =SUMPRODUCT((Gruppenphase!$I$13:$I$108<>"")*(Gruppenphase!$K$13:$K$108<>"")*(Gruppenphase!$M$13:$M$108='Dummy Table'!$B5)*(Gruppenphase!$I$13:$I$108<Gruppenphase!$K$13:$K$108)) -> 0 | K5: =SUMPRODUCT((Gruppenphase!$I$13:$I$108<>"")*(Gruppenphase!$K$13:$K$108<>"")*(Gruppenphase!$M$13:$M$108='Dummy Table'!$B5)*(Gruppenphase!$I$13:$I$108=Gruppenphase!$K$13:$K$108)) -> 0 | L5: =SUMPRODUCT((Gruppenphase!$I$13:$I$108<>"")*(Gruppenphase!$K$13:$K$108<>"")*(Gruppenphase!$M$13:$M$108='Dummy Table'!$B5)*(Gruppenphase!$I$13:$I$108>Gruppenphase!$K$13:$K$108)) -> 0 | M5: =SUMIF(Gruppenphase!$M$13:$M$108,'Dummy Table'!$B5,Gruppenphase!$K$13:$K$108) -> 0 | N5: =SUMIF(Gruppenphase!$M$13:$M$108,'Dummy Table'!$B5,Gruppenphase!$I$13:$I$108) -> 0 | O5: =M5-N5 -> 0 | P5: =J5*3+K5*1 -> 0 | Q5: =C5+J5 -> 0 | R5: =D5+K5 -> 0 | S5: =E5+L5 -> 0 | T5: =F5+M5 -> 0 | U5: =G5+N5 -> 0 | V5: =H5+O5 -> 0 | W5: =I5+P5 -> 0 | X5: 63 | Y5: =RANK(W5,W$4:W$7) -> 1 | Z5: =SUMPRODUCT((W$4:W$7=W5)*(V$4:V$7>V5)) -> 0 | AA5: =SUMPRODUCT((Y$4:Y$7=Y5)*(Z$4:Z$7=Z5)*(T$4:T$7>T5)) -> 0 | AB5: =SUMPRODUCT((Y$4:Y$7=Y5)*(Z$4:Z$7=Z5)*(T$4:T$7=T5)*(X$4:X$7>X5)) -> 1 | AC5: 2 | AD5: =VLOOKUP(AC5,$A$4:$B$7,2,FALSE) -> Villarreal | AE5: =VLOOKUP($AD5,$B$4:$W$7,22,FALSE) -> 0 | AF5: =IF(OR(AE5=AE4,AE5=AE6),AD5,"") -> Villarreal | AG5: =SUMPRODUCT(($BK$4:$BK$99='Dummy Table'!$AF5)*($BL$4:$BL$99>$BM$4:$BM$99)) -> 0 | AH5: =SUMPRODUCT(($BK$4:$BK$99='Dummy Table'!$AF5)*($BL$4:$BL$99=$BM$4:$BM$99)) -> 0 | AI5: =SUMPRODUCT(($BK$4:$BK$99='Dummy Table'!$AF5)*($BL$4:$BL$99<$BM$4:$BM$99)) -> 0 | AJ5: =SUMIF($BK$4:$BK$99,'Dummy Table'!$AF5,$BL$4:$BL$99) -> 0 | AK5: =SUMIF($BK$4:$BK$99,'Dummy Table'!$AF5,$BM$4:$BM$99) -> 0 | AL5: =AJ5-AK5 -> 0 | AM5: =IF(AF5<>"",AG5*3+AH5*1,"") -> 0 | AN5: =SUMPRODUCT(($BN$4:$BN$99='Dummy Table'!$AF5)*($BL$4:$BL$99<$BM$4:$BM$99)) -> 0 | AO5: =SUMPRODUCT(($BN$4:$BN$99='Dummy Table'!$AF5)*($BL$4:$BL$99=$BM$4:$BM$99)) -> 0 | AP5: =SUMPRODUCT(($BN$4:$BN$99='Dummy Table'!$AF5)*($BL$4:$BL$99>$BM$4:$BM$99)) -> 0 | AQ5: =SUMIF($BN$4:$BN$99,'Dummy Table'!$AF5,$BM$4:$BM$99) -> 0 | AR5: =SUMIF($BN$4:$BN$99,'Dummy Table'!$AF5,$BL$4:$BL$99) -> 0 | AS5: =AQ5-AR5 -> 0 | AT5: =IF(AF5<>"",AN5*3+AO5*1,"") -> 0 | AU5: =AG5+AN5 -> 0 | AV5: =AH5+AO5 -> 0 | AW5: =AI5+AP5 -> 0 | AX5: =AJ5+AQ5 -> 0 | AY5: =AK5+AR5 -> 0 | AZ5: =AL5+AS5 -> 0 | BA5: =IF(AF5<>"",AM5+AT5,-1) -> 0 | BB5: =IF(AF5<>"",VLOOKUP(AF5,$B$4:$V$35,21,FALSE),"") -> 0 | BC5: =IF(AF5<>"",VLOOKUP(AF5,$B$4:$T$35,19,FALSE),"") -> 0 | BD5: =IF(AF5<>"",VLOOKUP(AF5,$B$4:$X$35,23,FALSE),"") -> 63 | BE5: =RANK(BA5,BA$4:BA$7) -> 1 | BF5: =SUMPRODUCT((BA$4:BA$7=BA5)*(AZ$4:AZ$7>AZ5)) -> 0 | BG5: =SUMPRODUCT((BA$4:BA$7=BA5)*(BE$4:BE$7=BE5)*(AZ$4:AZ$7=AZ5)*(AQ$4:AQ$7>AQ5)) -> 0 | BH5: =SUMPRODUCT((BA$4:BA$7=BA5)*(BE$4:BE$7=BE5)*(AZ$4:AZ$7=AZ5)*(AQ$4:AQ$7=AQ5)*(BB$4:BB$7>BB5)) -> 0 | BI5: =SUMPRODUCT((BA$4:BA$7=BA5)*(BE$4:BE$7=BE5)*(AZ$4:AZ$7=AZ5)*(AQ$4:AQ$7=AQ5)*(BB$4:BB$7=BB5)*(BC$4:BC$7>BC5)) -> 0 | BJ5: =SUMPRODUCT((BA$4:BA$7=BA5)*(BE$4:BE$7=BE5)*(AZ$4:AZ$7=AZ5)*(AQ$4:AQ$7=AQ5)*(BB$4:BB$7=BB5)*(BC$4:BC$7=BC5)*(BD$4:BD$7>BD5)) -> 1 | BK5: =IF(AND(COUNTIF($AF$4:$AF$35,Gruppenphase!G14)>0,COUNTIF($AF$4:$AF$35,Gruppenphase!M14)>0,Gruppenphase!I14<>"",Gruppenphase!K14<>""),Gruppenphase!G14,"") | BL5: =IF($BK5<>"",Gruppenphase!I14,"") | BM5: =IF($BK5<>"",Gruppenphase!K14,"") | BN5: =IF($BK5<>"",Gruppenphase!M14,"") | BO5: =IF(AF5="","",SUM(BE5:BJ5)) -> 2 | BP5: =IF(AF5="","",AF5) -> Villarreal | BQ5: =VLOOKUP($AD5,$B$4:$W$7,22,FALSE) -> 0 | BS5: =SUMPRODUCT(($BK$4:$BK$99='Dummy Table'!$AF5)*($BL$4:$BL$99>$BM$4:$BM$99)) -> 0 | BT5: =SUMPRODUCT(($BK$4:$BK$99='Dummy Table'!$AF5)*($BL$4:$BL$99=$BM$4:$BM$99)) -> 0 | BU5: =SUMPRODUCT(($BK$4:$BK$99='Dummy Table'!$AF5)*($BL$4:$BL$99<$BM$4:$BM$99)) -> 0 | BV5: =SUMIF($BK$4:$BK$99,'Dummy Table'!$AF5,$BL$4:$BL$99) -> 0 | BW5: =SUMIF($BK$4:$BK$99,'Dummy Table'!$AF5,$BM$4:$BM$99) -> 0 | BX5: =BV5-BW5 -> 0 | BY5: =IF(BR5<>"",BS5*3+BT5*1,"") | BZ5: =SUMPRODUCT(($BN$4:$BN$99='Dummy Table'!$AF5)*($BL$4:$BL$99<$BM$4:$BM$99)) -> 0 | CA5: =SUMPRODUCT(($BN$4:$BN$99='Dummy Table'!$AF5)*($BL$4:$BL$99=$BM$4:$BM$99)) -> 0 | CB5: =SUMPRODUCT(($BN$4:$BN$99='Dummy Table'!$AF5)*($BL$4:$BL$99>$BM$4:$BM$99)) -> 0 | CC5: =SUMIF($BN$4:$BN$99,'Dummy Table'!$AF5,$BM$4:$BM$99) -> 0 | CD5: =SUMIF($BN$4:$BN$99,'Dummy Table'!$AF5,$BL$4:$BL$99) -> 0 | CE5: =CC5-CD5 -> 0 | CF5: =IF(BR5<>"",BZ5*3+CA5*1,"") | CG5: =BS5+BZ5 -> 0 | CH5: =BT5+CA5 -> 0 | CI5: =BU5+CB5 -> 0 | CJ5: =BV5+CC5 -> 0 | CK5: =BW5+CD5 -> 0 | CL5: =BX5+CE5 -> 0 | CM5: =IF(BR5<>"",BY5+CF5,-1) -> -1 | CN5: 2 | CO5: =RANK(CM5,CM$4:CM$7) -> 1 | CP5: =SUMPRODUCT((CM$4:CM$7=CM5)*(CO$4:CO$7=CO5)*(CC$4:CC$7>CC5)) -> 0 | CQ5: =SUMPRODUCT((CM$4:CM$7=CM5)*(CL$4:CL$7>CL5)) -> 0 | CR5: =SUMPRODUCT((CO$4:CO$7=CO5)*(CQ$4:CQ$7=CQ5)*(CJ$4:CJ$7>CJ5)) -> 0 | CS5: =SUMPRODUCT((CO$4:CO$7=CO5)*(CQ$4:CQ$7=CQ5)*(CJ$4:CJ$7=CJ5)*(CN$4:CN$7>CN5)) -> 2 | CT5: =IF(AND(COUNTIF($AF$4:$AF$35,Gruppenphase!$G14)>0,COUNTIF($AF$4:$AF$35,Gruppenphase!$M14)>0),Gruppenphase!$G14,"") -> Chelsea | CU5: =IF($BK5<>"",Gruppenphase!$I14,"") | CV5: =IF($BK5<>"",Gruppenphase!$K14,"") | CW5: =IF($BK5<>"",Gruppenphase!$M14,"") | CX5: =IF(BR5="","",SUM(CO5:CS5)) | CY5: =IF(BR5="","",BR5) | CZ5: 2 | DA5: =IF(AF5="",AD5,"") | DB5: =IF(AND(DA5="",DA4=""),CZ5,IF(AND(DA4<>"",DA5=""),1,"")) -> 2 | DC5: =VLOOKUP(DB5,$BO$4:$BP$7,2,FALSE) -> Villarreal | DD5: 2 | DE5: =IF(DA5="",DC5,DA5) -> Villarreal
A6: =Y6+Z6+AA6+AB6 -> 3 | B6: ='Club Namen'!B5 -> Manchester City | C6: =SUMPRODUCT((Gruppenphase!$I$13:$I$108<>"")*(Gruppenphase!$K$13:$K$108<>"")*(Gruppenphase!$G$13:$G$108='Dummy Table'!$B6)*(Gruppenphase!$I$13:$I$108>Gruppenphase!$K$13:$K$108)) -> 0 | D6: =SUMPRODUCT((Gruppenphase!$I$13:$I$108<>"")*(Gruppenphase!$K$13:$K$108<>"")*(Gruppenphase!$G$13:$G$108='Dummy Table'!$B6)*(Gruppenphase!$I$13:$I$108=Gruppenphase!$K$13:$K$108)) -> 0 | E6: =SUMPRODUCT((Gruppenphase!$I$13:$I$108<>"")*(Gruppenphase!$K$13:$K$108<>"")*(Gruppenphase!$G$13:$G$108='Dummy Table'!$B6)*(Gruppenphase!$I$13:$I$108<Gruppenphase!$K$13:$K$108)) -> 0 | F6: =SUMIF(Gruppenphase!$G$13:$G$108,'Dummy Table'!$B6,Gruppenphase!$I$13:$I$108) -> 0 | G6: =SUMIF(Gruppenphase!$G$13:$G$108,'Dummy Table'!$B6,Gruppenphase!$K$13:$K$108) -> 0 | H6: =F6-G6 -> 0 | I6: =C6*3+D6*1 -> 0 | J6: =SUMPRODUCT((Gruppenphase!$I$13:$I$108<>"")*(Gruppenphase!$K$13:$K$108<>"")*(Gruppenphase!$M$13:$M$108='Dummy Table'!$B6)*(Gruppenphase!$I$13:$I$108<Gruppenphase!$K$13:$K$108)) -> 0 | K6: =SUMPRODUCT((Gruppenphase!$I$13:$I$108<>"")*(Gruppenphase!$K$13:$K$108<>"")*(Gruppenphase!$M$13:$M$108='Dummy Table'!$B6)*(Gruppenphase!$I$13:$I$108=Gruppenphase!$K$13:$K$108)) -> 0 | L6: =SUMPRODUCT((Gruppenphase!$I$13:$I$108<>"")*(Gruppenphase!$K$13:$K$108<>"")*(Gruppenphase!$M$13:$M$108='Dummy Table'!$B6)*(Gruppenphase!$I$13:$I$108>Gruppenphase!$K$13:$K$108)) -> 0 | M6: =SUMIF(Gruppenphase!$M$13:$M$108,'Dummy Table'!$B6,Gruppenphase!$K$13:$K$108) -> 0 | N6: =SUMIF(Gruppenphase!$M$13:$M$108,'Dummy Table'!$B6,Gruppenphase!$I$13:$I$108) -> 0 | O6: =M6-N6 -> 0 | P6: =J6*3+K6*1 -> 0 | Q6: =C6+J6 -> 0 | R6: =D6+K6 -> 0 | S6: =E6+L6 -> 0 | T6: =F6+M6 -> 0 | U6: =G6+N6 -> 0 | V6: =H6+O6 -> 0 | W6: =I6+P6 -> 0 | X6: 40 | Y6: =RANK(W6,W$4:W$7) -> 1 | Z6: =SUMPRODUCT((W$4:W$7=W6)*(V$4:V$7>V6)) -> 0 | AA6: =SUMPRODUCT((Y$4:Y$7=Y6)*(Z$4:Z$7=Z6)*(T$4:T$7>T6)) -> 0 | AB6: =SUMPRODUCT((Y$4:Y$7=Y6)*(Z$4:Z$7=Z6)*(T$4:T$7=T6)*(X$4:X$7>X6)) -> 2 | AC6: 3 | AD6: =VLOOKUP(AC6,$A$4:$B$7,2,FALSE) -> Manchester City | AE6: =VLOOKUP($AD6,$B$4:$W$7,22,FALSE) -> 0 | AF6: =IF(AE6=AE5,AD6,"") -> Manchester City | AG6: =SUMPRODUCT(($BK$4:$BK$99='Dummy Table'!$AF6)*($BL$4:$BL$99>$BM$4:$BM$99)) -> 0 | AH6: =SUMPRODUCT(($BK$4:$BK$99='Dummy Table'!$AF6)*($BL$4:$BL$99=$BM$4:$BM$99)) -> 0 | AI6: =SUMPRODUCT(($BK$4:$BK$99='Dummy Table'!$AF6)*($BL$4:$BL$99<$BM$4:$BM$99)) -> 0 | AJ6: =SUMIF($BK$4:$BK$99,'Dummy Table'!$AF6,$BL$4:$BL$99) -> 0 | AK6: =SUMIF($BK$4:$BK$99,'Dummy Table'!$AF6,$BM$4:$BM$99) -> 0 | AL6: =AJ6-AK6 -> 0 | AM6: =IF(AF6<>"",AG6*3+AH6*1,"") -> 0 | AN6: =SUMPRODUCT(($BN$4:$BN$99='Dummy Table'!$AF6)*($BL$4:$BL$99<$BM$4:$BM$99)) -> 0 | AO6: =SUMPRODUCT(($BN$4:$BN$99='Dummy Table'!$AF6)*($BL$4:$BL$99=$BM$4:$BM$99)) -> 0 | AP6: =SUMPRODUCT(($BN$4:$BN$99='Dummy Table'!$AF6)*($BL$4:$BL$99>$BM$4:$BM$99)) -> 0 | AQ6: =SUMIF($BN$4:$BN$99,'Dummy Table'!$AF6,$BM$4:$BM$99) -> 0 | AR6: =SUMIF($BN$4:$BN$99,'Dummy Table'!$AF6,$BL$4:$BL$99) -> 0 | AS6: =AQ6-AR6 -> 0 | AT6: =IF(AF6<>"",AN6*3+AO6*1,"") -> 0 | AU6: =AG6+AN6 -> 0 | AV6: =AH6+AO6 -> 0 | AW6: =AI6+AP6 -> 0 | AX6: =AJ6+AQ6 -> 0 | AY6: =AK6+AR6 -> 0 | AZ6: =AL6+AS6 -> 0 | BA6: =IF(AF6<>"",AM6+AT6,-1) -> 0 | BB6: =IF(AF6<>"",VLOOKUP(AF6,$B$4:$V$35,21,FALSE),"") -> 0 | BC6: =IF(AF6<>"",VLOOKUP(AF6,$B$4:$T$35,19,FALSE),"") -> 0 | BD6: =IF(AF6<>"",VLOOKUP(AF6,$B$4:$X$35,23,FALSE),"") -> 40 | BE6: =RANK(BA6,BA$4:BA$7) -> 1 | BF6: =SUMPRODUCT((BA$4:BA$7=BA6)*(AZ$4:AZ$7>AZ6)) -> 0 | BG6: =SUMPRODUCT((BA$4:BA$7=BA6)*(BE$4:BE$7=BE6)*(AZ$4:AZ$7=AZ6)*(AQ$4:AQ$7>AQ6)) -> 0 | BH6: =SUMPRODUCT((BA$4:BA$7=BA6)*(BE$4:BE$7=BE6)*(AZ$4:AZ$7=AZ6)*(AQ$4:AQ$7=AQ6)*(BB$4:BB$7>BB6)) -> 0 | BI6: =SUMPRODUCT((BA$4:BA$7=BA6)*(BE$4:BE$7=BE6)*(AZ$4:AZ$7=AZ6)*(AQ$4:AQ$7=AQ6)*(BB$4:BB$7=BB6)*(BC$4:BC$7>BC6)) -> 0 | BJ6: =SUMPRODUCT((BA$4:BA$7=BA6)*(BE$4:BE$7=BE6)*(AZ$4:AZ$7=AZ6)*(AQ$4:AQ$7=AQ6)*(BB$4:BB$7=BB6)*(BC$4:BC$7=BC6)*(BD$4:BD$7>BD6)) -> 2 | BK6: =IF(AND(COUNTIF($AF$4:$AF$35,Gruppenphase!G15)>0,COUNTIF($AF$4:$AF$35,Gruppenphase!M15)>0,Gruppenphase!I15<>"",Gruppenphase!K15<>""),Gruppenphase!G15,"") | BL6: =IF($BK6<>"",Gruppenphase!I15,"") | BM6: =IF($BK6<>"",Gruppenphase!K15,"") | BN6: =IF($BK6<>"",Gruppenphase!M15,"") | BO6: =IF(AF6="","",SUM(BE6:BJ6)) -> 3 | BP6: =IF(AF6="","",AF6) -> Manchester City | BQ6: =VLOOKUP($AD6,$B$4:$W$7,22,FALSE) -> 0 | BR6: =IF(AND(BQ6<>BQ5,BQ6=BQ7),AD6,"") | BS6: =SUMPRODUCT(($BK$4:$BK$99='Dummy Table'!$AF6)*($BL$4:$BL$99>$BM$4:$BM$99)) -> 0 | BT6: =SUMPRODUCT(($BK$4:$BK$99='Dummy Table'!$AF6)*($BL$4:$BL$99=$BM$4:$BM$99)) -> 0 | BU6: =SUMPRODUCT(($BK$4:$BK$99='Dummy Table'!$AF6)*($BL$4:$BL$99<$BM$4:$BM$99)) -> 0 | BV6: =SUMIF($BK$4:$BK$99,'Dummy Table'!$AF6,$BL$4:$BL$99) -> 0 | BW6: =SUMIF($BK$4:$BK$99,'Dummy Table'!$AF6,$BM$4:$BM$99) -> 0 | BX6: =BV6-BW6 -> 0 | BY6: =IF(BR6<>"",BS6*3+BT6*1,"") | BZ6: =SUMPRODUCT(($BN$4:$BN$99='Dummy Table'!$AF6)*($BL$4:$BL$99<$BM$4:$BM$99)) -> 0 | CA6: =SUMPRODUCT(($BN$4:$BN$99='Dummy Table'!$AF6)*($BL$4:$BL$99=$BM$4:$BM$99)) -> 0 | CB6: =SUMPRODUCT(($BN$4:$BN$99='Dummy Table'!$AF6)*($BL$4:$BL$99>$BM$4:$BM$99)) -> 0 | CC6: =SUMIF($BN$4:$BN$99,'Dummy Table'!$AF6,$BM$4:$BM$99) -> 0 | CD6: =SUMIF($BN$4:$BN$99,'Dummy Table'!$AF6,$BL$4:$BL$99) -> 0 | CE6: =CC6-CD6 -> 0 | CF6: =IF(BR6<>"",BZ6*3+CA6*1,"") | CG6: =BS6+BZ6 -> 0 | CH6: =BT6+CA6 -> 0 | CI6: =BU6+CB6 -> 0 | CJ6: =BV6+CC6 -> 0 | CK6: =BW6+CD6 -> 0 | CL6: =BX6+CE6 -> 0 | CM6: =IF(BR6<>"",BY6+CF6,-1) -> -1 | CN6: 3 | CO6: =RANK(CM6,CM$4:CM$7) -> 1 | CP6: =SUMPRODUCT((CM$4:CM$7=CM6)*(CO$4:CO$7=CO6)*(CC$4:CC$7>CC6)) -> 0 | CQ6: =SUMPRODUCT((CM$4:CM$7=CM6)*(CL$4:CL$7>CL6)) -> 0 | CR6: =SUMPRODUCT((CO$4:CO$7=CO6)*(CQ$4:CQ$7=CQ6)*(CJ$4:CJ$7>CJ6)) -> 0 | CS6: =SUMPRODUCT((CO$4:CO$7=CO6)*(CQ$4:CQ$7=CQ6)*(CJ$4:CJ$7=CJ6)*(CN$4:CN$7>CN6)) -> 1 | CT6: =IF(AND(COUNTIF($AF$4:$AF$35,Gruppenphase!$G15)>0,COUNTIF($AF$4:$AF$35,Gruppenphase!$M15)>0),Gruppenphase!$G15,"") -> Olympiacos | CU6: =IF($BK6<>"",Gruppenphase!$I15,"") | CV6: =IF($BK6<>"",Gruppenphase!$K15,"") | CW6: =IF($BK6<>"",Gruppenphase!$M15,"") | CX6: =IF(BR6="","",SUM(CO6:CS6)) | CY6: =IF(BR6="","",BR6) | CZ6: 3 | DA6: =IF(AF6="",AD6,"") | DB6: =IF(AND(DA6="",DA5="",DA4=""),CZ6,IF(AND(DA4<>"",DA5="",DA6=""),2,IF(AND(DA4<>"",DA5<>"",DA6=""),1,""))) -> 3 | DC6: =VLOOKUP(DB6,$BO$4:$BP$7,2,FALSE) -> Manchester City | DD6: 3 | DE6: =IF(CY6<>"",IF(CX6<CX7,CY6,CY7),IF(DC6<>"",DC6,DA6)) -> Manchester City
A7: =Y7+Z7+AA7+AB7 -> 4 | B7: ='Club Namen'!B6 -> Napoli | C7: =SUMPRODUCT((Gruppenphase!$I$13:$I$108<>"")*(Gruppenphase!$K$13:$K$108<>"")*(Gruppenphase!$G$13:$G$108='Dummy Table'!$B7)*(Gruppenphase!$I$13:$I$108>Gruppenphase!$K$13:$K$108)) -> 0 | D7: =SUMPRODUCT((Gruppenphase!$I$13:$I$108<>"")*(Gruppenphase!$K$13:$K$108<>"")*(Gruppenphase!$G$13:$G$108='Dummy Table'!$B7)*(Gruppenphase!$I$13:$I$108=Gruppenphase!$K$13:$K$108)) -> 0 | E7: =SUMPRODUCT((Gruppenphase!$I$13:$I$108<>"")*(Gruppenphase!$K$13:$K$108<>"")*(Gruppenphase!$G$13:$G$108='Dummy Table'!$B7)*(Gruppenphase!$I$13:$I$108<Gruppenphase!$K$13:$K$108)) -> 0 | F7: =SUMIF(Gruppenphase!$G$13:$G$108,'Dummy Table'!$B7,Gruppenphase!$I$13:$I$108) -> 0 | G7: =SUMIF(Gruppenphase!$G$13:$G$108,'Dummy Table'!$B7,Gruppenphase!$K$13:$K$108) -> 0 | H7: =F7-G7 -> 0 | I7: =C7*3+D7*1 -> 0 | J7: =SUMPRODUCT((Gruppenphase!$I$13:$I$108<>"")*(Gruppenphase!$K$13:$K$108<>"")*(Gruppenphase!$M$13:$M$108='Dummy Table'!$B7)*(Gruppenphase!$I$13:$I$108<Gruppenphase!$K$13:$K$108)) -> 0 | K7: =SUMPRODUCT((Gruppenphase!$I$13:$I$108<>"")*(Gruppenphase!$K$13:$K$108<>"")*(Gruppenphase!$M$13:$M$108='Dummy Table'!$B7)*(Gruppenphase!$I$13:$I$108=Gruppenphase!$K$13:$K$108)) -> 0 | L7: =SUMPRODUCT((Gruppenphase!$I$13:$I$108<>"")*(Gruppenphase!$K$13:$K$108<>"")*(Gruppenphase!$M$13:$M$108='Dummy Table'!$B7)*(Gruppenphase!$I$13:$I$108>Gruppenphase!$K$13:$K$108)) -> 0 | M7: =SUMIF(Gruppenphase!$M$13:$M$108,'Dummy Table'!$B7,Gruppenphase!$K$13:$K$108) -> 0 | N7: =SUMIF(Gruppenphase!$M$13:$M$108,'Dummy Table'!$B7,Gruppenphase!$I$13:$I$108) -> 0 | O7: =M7-N7 -> 0 | P7: =J7*3+K7*1 -> 0 | Q7: =C7+J7 -> 0 | R7: =D7+K7 -> 0 | S7: =E7+L7 -> 0 | T7: =F7+M7 -> 0 | U7: =G7+N7 -> 0 | V7: =H7+O7 -> 0 | W7: =I7+P7 -> 0 | X7: 17 | Y7: =RANK(W7,W$4:W$7) -> 1 | Z7: =SUMPRODUCT((W$4:W$7=W7)*(V$4:V$7>V7)) -> 0 | AA7: =SUMPRODUCT((Y$4:Y$7=Y7)*(Z$4:Z$7=Z7)*(T$4:T$7>T7)) -> 0 | AB7: =SUMPRODUCT((Y$4:Y$7=Y7)*(Z$4:Z$7=Z7)*(T$4:T$7=T7)*(X$4:X$7>X7)) -> 3 | AC7: 4 | AD7: =VLOOKUP(AC7,$A$4:$B$7,2,FALSE) -> Napoli | AE7: =VLOOKUP($AD7,$B$4:$W$7,22,FALSE) -> 0 | AF7: =IF(AND(AE7=AE6,AE6=AE5),AD7,"") -> Napoli | AG7: =SUMPRODUCT(($BK$4:$BK$99='Dummy Table'!$AF7)*($BL$4:$BL$99>$BM$4:$BM$99)) -> 0 | AH7: =SUMPRODUCT(($BK$4:$BK$99='Dummy Table'!$AF7)*($BL$4:$BL$99=$BM$4:$BM$99)) -> 0 | AI7: =SUMPRODUCT(($BK$4:$BK$99='Dummy Table'!$AF7)*($BL$4:$BL$99<$BM$4:$BM$99)) -> 0 | AJ7: =SUMIF($BK$4:$BK$99,'Dummy Table'!$AF7,$BL$4:$BL$99) -> 0 | AK7: =SUMIF($BK$4:$BK$99,'Dummy Table'!$AF7,$BM$4:$BM$99) -> 0 | AL7: =AJ7-AK7 -> 0 | AM7: =IF(AF7<>"",AG7*3+AH7*1,"") -> 0 | AN7: =SUMPRODUCT(($BN$4:$BN$99='Dummy Table'!$AF7)*($BL$4:$BL$99<$BM$4:$BM$99)) -> 0 | AO7: =SUMPRODUCT(($BN$4:$BN$99='Dummy Table'!$AF7)*($BL$4:$BL$99=$BM$4:$BM$99)) -> 0 | AP7: =SUMPRODUCT(($BN$4:$BN$99='Dummy Table'!$AF7)*($BL$4:$BL$99>$BM$4:$BM$99)) -> 0 | AQ7: =SUMIF($BN$4:$BN$99,'Dummy Table'!$AF7,$BM$4:$BM$99) -> 0 | AR7: =SUMIF($BN$4:$BN$99,'Dummy Table'!$AF7,$BL$4:$BL$99) -> 0 | AS7: =AQ7-AR7 -> 0 | AT7: =IF(AF7<>"",AN7*3+AO7*1,"") -> 0 | AU7: =AG7+AN7 -> 0 | AV7: =AH7+AO7 -> 0 | AW7: =AI7+AP7 -> 0 | AX7: =AJ7+AQ7 -> 0 | AY7: =AK7+AR7 -> 0 | AZ7: =AL7+AS7 -> 0 | BA7: =IF(AF7<>"",AM7+AT7,-1) -> 0 | BB7: =IF(AF7<>"",VLOOKUP(AF7,$B$4:$V$35,21,FALSE),"") -> 0 | BC7: =IF(AF7<>"",VLOOKUP(AF7,$B$4:$T$35,19,FALSE),"") -> 0 | BD7: =IF(AF7<>"",VLOOKUP(AF7,$B$4:$X$35,23,FALSE),"") -> 17 | BE7: =RANK(BA7,BA$4:BA$7) -> 1 | BF7: =SUMPRODUCT((BA$4:BA$7=BA7)*(AZ$4:AZ$7>AZ7)) -> 0 | BG7: =SUMPRODUCT((BA$4:BA$7=BA7)*(BE$4:BE$7=BE7)*(AZ$4:AZ$7=AZ7)*(AQ$4:AQ$7>AQ7)) -> 0 | BH7: =SUMPRODUCT((BA$4:BA$7=BA7)*(BE$4:BE$7=BE7)*(AZ$4:AZ$7=AZ7)*(AQ$4:AQ$7=AQ7)*(BB$4:BB$7>BB7)) -> 0 | BI7: =SUMPRODUCT((BA$4:BA$7=BA7)*(BE$4:BE$7=BE7)*(AZ$4:AZ$7=AZ7)*(AQ$4:AQ$7=AQ7)*(BB$4:BB$7=BB7)*(BC$4:BC$7>BC7)) -> 0 | BJ7: =SUMPRODUCT((BA$4:BA$7=BA7)*(BE$4:BE$7=BE7)*(AZ$4:AZ$7=AZ7)*(AQ$4:AQ$7=AQ7)*(BB$4:BB$7=BB7)*(BC$4:BC$7=BC7)*(BD$4:BD$7>BD7)) -> 3 | BK7: =IF(AND(COUNTIF($AF$4:$AF$35,Gruppenphase!G16)>0,COUNTIF($AF$4:$AF$35,Gruppenphase!M16)>0,Gruppenphase!I16<>"",Gruppenphase!K16<>""),Gruppenphase!G16,"") | BL7: =IF($BK7<>"",Gruppenphase!I16,"") | BM7: =IF($BK7<>"",Gruppenphase!K16,"") | BN7: =IF($BK7<>"",Gruppenphase!M16,"") | BO7: =IF(AF7="","",SUM(BE7:BJ7)) -> 4 | BP7: =IF(AF7="","",AF7) -> Napoli | BQ7: =VLOOKUP($AD7,$B$4:$W$7,22,FALSE) -> 0 | BR7: =IF(BR6<>"",AD7,"") | BS7: =SUMPRODUCT(($BK$4:$BK$99='Dummy Table'!$AF7)*($BL$4:$BL$99>$BM$4:$BM$99)) -> 0 | BT7: =SUMPRODUCT(($BK$4:$BK$99='Dummy Table'!$AF7)*($BL$4:$BL$99=$BM$4:$BM$99)) -> 0 | BU7: =SUMPRODUCT(($BK$4:$BK$99='Dummy Table'!$AF7)*($BL$4:$BL$99<$BM$4:$BM$99)) -> 0 | BV7: =SUMIF($BK$4:$BK$99,'Dummy Table'!$AF7,$BL$4:$BL$99) -> 0 | BW7: =SUMIF($BK$4:$BK$99,'Dummy Table'!$AF7,$BM$4:$BM$99) -> 0 | BX7: =BV7-BW7 -> 0 | BY7: =IF(BR7<>"",BS7*3+BT7*1,"") | BZ7: =SUMPRODUCT(($BN$4:$BN$99='Dummy Table'!$AF7)*($BL$4:$BL$99<$BM$4:$BM$99)) -> 0 | CA7: =SUMPRODUCT(($BN$4:$BN$99='Dummy Table'!$AF7)*($BL$4:$BL$99=$BM$4:$BM$99)) -> 0 | CB7: =SUMPRODUCT(($BN$4:$BN$99='Dummy Table'!$AF7)*($BL$4:$BL$99>$BM$4:$BM$99)) -> 0 | CC7: =SUMIF($BN$4:$BN$99,'Dummy Table'!$AF7,$BM$4:$BM$99) -> 0 | CD7: =SUMIF($BN$4:$BN$99,'Dummy Table'!$AF7,$BL$4:$BL$99) -> 0 | CE7: =CC7-CD7 -> 0 | CF7: =IF(BR7<>"",BZ7*3+CA7*1,"") | CG7: =BS7+BZ7 -> 0 | CH7: =BT7+CA7 -> 0 | CI7: =BU7+CB7 -> 0 | CJ7: =BV7+CC7 -> 0 | CK7: =BW7+CD7 -> 0 | CL7: =BX7+CE7 -> 0 | CM7: =IF(BR7<>"",BY7+CF7,-1) -> -1 | CN7: 4 | CO7: =RANK(CM7,CM$4:CM$7) -> 1 | CP7: =SUMPRODUCT((CM$4:CM$7=CM7)*(CO$4:CO$7=CO7)*(CC$4:CC$7>CC7)) -> 0 | CQ7: =SUMPRODUCT((CM$4:CM$7=CM7)*(CL$4:CL$7>CL7)) -> 0 | CR7: =SUMPRODUCT((CO$4:CO$7=CO7)*(CQ$4:CQ$7=CQ7)*(CJ$4:CJ$7>CJ7)) -> 0 | CS7: =SUMPRODUCT((CO$4:CO$7=CO7)*(CQ$4:CQ$7=CQ7)*(CJ$4:CJ$7=CJ7)*(CN$4:CN$7>CN7)) -> 0 | CT7: =IF(AND(COUNTIF($AF$4:$AF$35,Gruppenphase!$G16)>0,COUNTIF($AF$4:$AF$35,Gruppenphase!$M16)>0),Gruppenphase!$G16,"") -> Borussia Dortmund | CU7: =IF($BK7<>"",Gruppenphase!$I16,"") | CV7: =IF($BK7<>"",Gruppenphase!$K16,"") | CW7: =IF($BK7<>"",Gruppenphase!$M16,"") | CX7: =IF(BR7="","",SUM(CO7:CS7)) | CY7: =IF(BR7="","",BR7) | CZ7: 4 | DA7: =IF(AF7="",AD7,"") | DB7: =IF(AND(DA7="",DA6="",DA5="",DA4=""),4,IF(AND(DA7="",DA6="",DA5=""),3,IF(AND(DA5<>"",DA6="",DA7=""),2,IF(AND(DA5<>"",DA6<>"",DA7=""),1,"")))) -> 4 | DC7: =VLOOKUP(DB7,$BO$4:$BP$7,2,FALSE) -> Napoli | DD7: 4 | DE7: =IF(CY7<>"",IF(CX6<CX7,CY7,CY6),IF(DC7<>"",DC7,DA7)) -> Napoli
A8: =Y8+Z8+AA8+AB8 -> 1 | B8: ='Club Namen'!B7 -> Internazionale | C8: =SUMPRODUCT((Gruppenphase!$I$13:$I$108<>"")*(Gruppenphase!$K$13:$K$108<>"")*(Gruppenphase!$G$13:$G$108='Dummy Table'!$B8)*(Gruppenphase!$I$13:$I$108>Gruppenphase!$K$13:$K$108)) -> 0 | D8: =SUMPRODUCT((Gruppenphase!$I$13:$I$108<>"")*(Gruppenphase!$K$13:$K$108<>"")*(Gruppenphase!$G$13:$G$108='Dummy Table'!$B8)*(Gruppenphase!$I$13:$I$108=Gruppenphase!$K$13:$K$108)) -> 0 | E8: =SUMPRODUCT((Gruppenphase!$I$13:$I$108<>"")*(Gruppenphase!$K$13:$K$108<>"")*(Gruppenphase!$G$13:$G$108='Dummy Table'!$B8)*(Gruppenphase!$I$13:$I$108<Gruppenphase!$K$13:$K$108)) -> 0 | F8: =SUMIF(Gruppenphase!$G$13:$G$108,'Dummy Table'!$B8,Gruppenphase!$I$13:$I$108) -> 0 | G8: =SUMIF(Gruppenphase!$G$13:$G$108,'Dummy Table'!$B8,Gruppenphase!$K$13:$K$108) -> 0 | H8: =F8-G8 -> 0 | I8: =C8*3+D8*1 -> 0 | J8: =SUMPRODUCT((Gruppenphase!$I$13:$I$108<>"")*(Gruppenphase!$K$13:$K$108<>"")*(Gruppenphase!$M$13:$M$108='Dummy Table'!$B8)*(Gruppenphase!$I$13:$I$108<Gruppenphase!$K$13:$K$108)) -> 0 | K8: =SUMPRODUCT((Gruppenphase!$I$13:$I$108<>"")*(Gruppenphase!$K$13:$K$108<>"")*(Gruppenphase!$M$13:$M$108='Dummy Table'!$B8)*(Gruppenphase!$I$13:$I$108=Gruppenphase!$K$13:$K$108)) -> 0 | L8: =SUMPRODUCT((Gruppenphase!$I$13:$I$108<>"")*(Gruppenphase!$K$13:$K$108<>"")*(Gruppenphase!$M$13:$M$108='Dummy Table'!$B8)*(Gruppenphase!$I$13:$I$108>Gruppenphase!$K$13:$K$108)) -> 0 | M8: =SUMIF(Gruppenphase!$M$13:$M$108,'Dummy Table'!$B8,Gruppenphase!$K$13:$K$108) -> 0 | N8: =SUMIF(Gruppenphase!$M$13:$M$108,'Dummy Table'!$B8,Gruppenphase!$I$13:$I$108) -> 0 | O8: =M8-N8 -> 0 | P8: =J8*3+K8*1 -> 0 | Q8: =C8+J8 -> 0 | R8: =D8+K8 -> 0 | S8: =E8+L8 -> 0 | T8: =F8+M8 -> 0 | U8: =G8+N8 -> 0 | V8: =H8+O8 -> 0 | W8: =I8+P8 -> 0 | X8: 111 | Y8: =RANK(W8,W$8:W$11) -> 1 | Z8: =SUMPRODUCT((W$8:W$11=W8)*(V$8:V$11>V8)) -> 0 | AA8: =SUMPRODUCT((Y$8:Y$11=Y8)*(Z$8:Z$11=Z8)*(T$8:T$11>T8)) -> 0 | AB8: =SUMPRODUCT((Y$8:Y$11=Y8)*(Z$8:Z$11=Z8)*(T$8:T$11=T8)*(X$8:X$11>X8)) -> 0 | AC8: 1 | AD8: =VLOOKUP(AC8,$A$8:$B$11,2,FALSE) -> Internazionale | AE8: =VLOOKUP($AD8,$B$8:$W$11,22,FALSE) -> 0 | AF8: =IF(AE8=AE9,AD8,"") -> Internazionale | AG8: =SUMPRODUCT(($BK$4:$BK$99='Dummy Table'!$AF8)*($BL$4:$BL$99>$BM$4:$BM$99)) -> 0 | AH8: =SUMPRODUCT(($BK$4:$BK$99='Dummy Table'!$AF8)*($BL$4:$BL$99=$BM$4:$BM$99)) -> 0 | AI8: =SUMPRODUCT(($BK$4:$BK$99='Dummy Table'!$AF8)*($BL$4:$BL$99<$BM$4:$BM$99)) -> 0 | AJ8: =SUMIF($BK$4:$BK$99,'Dummy Table'!$AF8,$BL$4:$BL$99) -> 0 | AK8: =SUMIF($BK$4:$BK$99,'Dummy Table'!$AF8,$BM$4:$BM$99) -> 0 | AL8: =AJ8-AK8 -> 0 | AM8: =IF(AF8<>"",AG8*3+AH8*1,"") -> 0 | AN8: =SUMPRODUCT(($BN$4:$BN$99='Dummy Table'!$AF8)*($BL$4:$BL$99<$BM$4:$BM$99)) -> 0 | AO8: =SUMPRODUCT(($BN$4:$BN$99='Dummy Table'!$AF8)*($BL$4:$BL$99=$BM$4:$BM$99)) -> 0 | AP8: =SUMPRODUCT(($BN$4:$BN$99='Dummy Table'!$AF8)*($BL$4:$BL$99>$BM$4:$BM$99)) -> 0 | AQ8: =SUMIF($BN$4:$BN$99,'Dummy Table'!$AF8,$BM$4:$BM$99) -> 0 | AR8: =SUMIF($BN$4:$BN$99,'Dummy Table'!$AF8,$BL$4:$BL$99) -> 0 | AS8: =AQ8-AR8 -> 0 | AT8: =IF(AF8<>"",AN8*3+AO8*1,"") -> 0 | AU8: =AG8+AN8 -> 0 | AV8: =AH8+AO8 -> 0 | AW8: =AI8+AP8 -> 0 | AX8: =AJ8+AQ8 -> 0 | AY8: =AK8+AR8 -> 0 | AZ8: =AL8+AS8 -> 0 | BA8: =IF(AF8<>"",AM8+AT8,-1) -> 0 | BB8: =IF(AF8<>"",VLOOKUP(AF8,$B$4:$V$35,21,FALSE),"") -> 0 | BC8: =IF(AF8<>"",VLOOKUP(AF8,$B$4:$T$35,19,FALSE),"") -> 0 | BD8: =IF(AF8<>"",VLOOKUP(AF8,$B$4:$X$35,23,FALSE),"") -> 111 | BE8: =RANK(BA8,BA$8:BA$11) -> 1 | BF8: =SUMPRODUCT((BA$8:BA$11=BA8)*(AZ$8:AZ$11>AZ8)) -> 0 | BG8: =SUMPRODUCT((BA$8:BA$11=BA8)*(BE$8:BE$11=BE8)*(AZ$8:AZ$11=AZ8)*(AQ$8:AQ$11>AQ8)) -> 0 | BH8: =SUMPRODUCT((BA$8:BA$11=BA8)*(BE$8:BE$11=BE8)*(AZ$8:AZ$11=AZ8)*(AQ$8:AQ$11=AQ8)*(BB$8:BB$11>BB8)) -> 0 | BI8: =SUMPRODUCT((BA$8:BA$11=BA8)*(BE$8:BE$11=BE8)*(AZ$8:AZ$11=AZ8)*(AQ$8:AQ$11=AQ8)*(BB$8:BB$11=BB8)*(BC$8:BC$11>BC8)) -> 0 | BJ8: =SUMPRODUCT((BA$8:BA$11=BA8)*(BE$8:BE$11=BE8)*(AZ$8:AZ$11=AZ8)*(AQ$8:AQ$11=AQ8)*(BB$8:BB$11=BB8)*(BC$8:BC$11=BC8)*(BD$8:BD$11>BD8)) -> 0 | BK8: =IF(AND(COUNTIF($AF$4:$AF$35,Gruppenphase!G17)>0,COUNTIF($AF$4:$AF$35,Gruppenphase!M17)>0,Gruppenphase!I17<>"",Gruppenphase!K17<>""),Gruppenphase!G17,"") | BL8: =IF($BK8<>"",Gruppenphase!I17,"") | BM8: =IF($BK8<>"",Gruppenphase!K17,"") | BN8: =IF($BK8<>"",Gruppenphase!M17,"") | BO8: =IF(AF8="","",SUM(BE8:BJ8)) -> 1 | BP8: =IF(AF8="","",AF8) -> Internazionale | BQ8: =VLOOKUP($AD8,$B$8:$W$11,22,FALSE) -> 0 | BS8: =SUMPRODUCT(($BK$4:$BK$99='Dummy Table'!$AF8)*($BL$4:$BL$99>$BM$4:$BM$99)) -> 0 | BT8: =SUMPRODUCT(($BK$4:$BK$99='Dummy Table'!$AF8)*($BL$4:$BL$99=$BM$4:$BM$99)) -> 0 | BU8: =SUMPRODUCT(($BK$4:$BK$99='Dummy Table'!$AF8)*($BL$4:$BL$99<$BM$4:$BM$99)) -> 0 | BV8: =SUMIF($BK$4:$BK$99,'Dummy Table'!$AF8,$BL$4:$BL$99) -> 0 | BW8: =SUMIF($BK$4:$BK$99,'Dummy Table'!$AF8,$BM$4:$BM$99) -> 0 | BX8: =BV8-BW8 -> 0 | BY8: =IF(BR8<>"",BS8*3+BT8*1,"") | BZ8: =SUMPRODUCT(($BN$4:$BN$99='Dummy Table'!$AF8)*($BL$4:$BL$99<$BM$4:$BM$99)) -> 0 | CA8: =SUMPRODUCT(($BN$4:$BN$99='Dummy Table'!$AF8)*($BL$4:$BL$99=$BM$4:$BM$99)) -> 0 | CB8: =SUMPRODUCT(($BN$4:$BN$99='Dummy Table'!$AF8)*($BL$4:$BL$99>$BM$4:$BM$99)) -> 0 | CC8: =SUMIF($BN$4:$BN$99,'Dummy Table'!$AF8,$BM$4:$BM$99) -> 0 | CD8: =SUMIF($BN$4:$BN$99,'Dummy Table'!$AF8,$BL$4:$BL$99) -> 0 | CE8: =CC8-CD8 -> 0 | CF8: =IF(BR8<>"",BZ8*3+CA8*1,"") | CG8: =BS8+BZ8 -> 0 | CH8: =BT8+CA8 -> 0 | CI8: =BU8+CB8 -> 0 | CJ8: =BV8+CC8 -> 0 | CK8: =BW8+CD8 -> 0 | CL8: =BX8+CE8 -> 0 | CM8: =IF(BR8<>"",BY8+CF8,-1) -> -1 | CN8: 5 | CO8: =RANK(CM8,CM$8:CM$11) -> 1 | CP8: =SUMPRODUCT((CM$8:CM$11=CM8)*(CO$8:CO$11=CO8)*(CC$8:CC$11>CC8)) -> 0 | CQ8: =SUMPRODUCT((CM$8:CM$11=CM8)*(CL$8:CL$11>CL8)) -> 0 | CR8: =SUMPRODUCT((CO$8:CO$11=CO8)*(CQ$8:CQ$11=CQ8)*(CJ$8:CJ$11>CJ8)) -> 0 | CS8: =SUMPRODUCT((CO$8:CO$11=CO8)*(CQ$8:CQ$11=CQ8)*(CJ$8:CJ$11=CJ8)*(CN$8:CN$11>CN8)) -> 3 | CT8: =IF(AND(COUNTIF($AF$4:$AF$35,Gruppenphase!$G17)>0,COUNTIF($AF$4:$AF$35,Gruppenphase!$M17)>0),Gruppenphase!$G17,"") -> Porto | CU8: =IF($BK8<>"",Gruppenphase!$I17,"") | CV8: =IF($BK8<>"",Gruppenphase!$K17,"") | CW8: =IF($BK8<>"",Gruppenphase!$M17,"") | CX8: =IF(BR8="","",SUM(CO8:CS8)) | CY8: =IF(BR8="","",BR8) | CZ8: 1 | DA8: =IF(AF8="",AD8,"") | DB8: =IF(DA8="",CZ8,"") -> 1 | DC8: =VLOOKUP(DB8,$BO$8:$BP$11,2,FALSE) -> Internazionale | DD8: 1 | DE8: =IF(DA8="",DC8,DA8) -> Internazionale
