Workbook
Name Team: 'Club Namen'!$B$3:$B$34

Sheet Club Namen
A2: Group | B2: Team Name | C2: Home Stadium | D2: Country
A3: A | B3: Bayern München | C3: Allianz Arena | D3: Deutschland
B4: Villarreal | C4: El Madrigal | D4: Spanien
B5: Manchester City | C5: City of Manchester | D5: England
B6: Napoli | C6: San Paolo | D6: Italien
A7: B | B7: Internazionale | C7: Giuseppe Meazza | D7: Italien
B8: CSKA Moscow | C8: Luzhniki | D8: Russland
B9: Lille | C9: Stade Lille-Metropole | D9: Frankreich
B10: Trabzonspor | C10: Hüseyin Avni Aker | D10: Türkei
A11: C | B11: Manchester United | C11: Old Trafford | D11: England
B12: Benfica | C12: Estadio da Luz | D12: Portugal
B13: Basel | C13: St. Jakob Park | D13: Schweiz
B14: Oţelul Galaţi | C14: Oţelul | D14: Rumänien
A15: D | B15: Real Madrid | C15: Santiago Bernabeu | D15: Spanien
B16: Lyon | C16: Stade de Gerland | D16: Frankreich
B17: Ajax | C17: Amsterdam Arena | D17: Netherland
B18: Dinamo Zagreb | C18: Maksimir | D18: Kroatien
A19: E | B19: Chelsea | C19: Stamford Bridge | D19: England
B20: Valencia | C20: Mestalla | D20: Spanien
B21: Bayer Leverkusen | C21: Bay Arena | D21: Deutschland
B22: Genk | C22: Cristal Arena | D22: Belgien
A23: F | B23: Arsenal | C23: Emirates Stadium | D23: England
B24: Marseille | C24: Stade Velodrome | D24: Frankreich
B25: Olympiacos | C25: Karaiskakis | D25: Griechenland
B26: Borussia Dortmund | C26: Signal Iduna Park | D26: Deutschland
A27: G | B27: Porto | C27: Estádio do Dragão | D27: Portugal
B28: Shakhtar Donetsk | C28: Donbass Arena | D28: Ukraine
B29: Zenit St. Petersburg | C29: Petrovsky Stadium | D29: Russland
B30: APOEL | C30: GSP Stadium | D30: Zypern
A31: H | B31: Barcelona | C31: Nou Camp | D31: Spanien
B32: AC Milan | C32: Giuseppe Meazza | D32: Italien
B33: Bate Borisov | C33: City Stadium | D33: Weißrussland
B34: Viktoria Plzeň | C34: Štruncovy Sady Stadion | D34: Tschechisch

Sheet Gruppenphase
B2: Besuchen Sie exceltabelle.com fur mehrere vorlagen und updates
CQ3: r musadya
B7: Gruppenphase
C9: Spiele | R9: Tabellen | DB9: Language | DC9: City
D11: Spiel | E11: Gruppe | F11: Datum | G11: Heim | I11: Ergebnis | M11: Gast | N11: Stadion | S11: Gruppe A | T11: S | U11: G | V11: U | W11: V | X11: T - G | Y11: P | DB11: Albanian | DC11: Addis Ababa
D12: Tag | S12: =VLOOKUP(1,'Dummy Table'!$DD$4:$DE$7,2,FALSE) -> Bayern München | T12: =SUM(U12:W12) -> 0 | U12: =SUMIF('Dummy Table'!B$4:B$7,Gruppenphase!S12,'Dummy Table'!Q$4:Q$7) -> 0 | V12: =SUMIF('Dummy Table'!B$4:B$7,Gruppenphase!S12,'Dummy Table'!R$4:R$7) -> 0 | W12: =SUMIF('Dummy Table'!B$4:B$7,Gruppenphase!S12,'Dummy Table'!S$4:S$7) -> 0 | X12: =CONCATENATE(SUMIF('Dummy Table'!B$4:B$7,Gruppenphase!S12,'Dummy Table'!T$4:T$7)," - ",SUMIF('Dummy Table'!B$4:B$7,Gruppenphase!S12,'Dummy Table'!U$4:U$7)) -> 0 - 0 | Y12: =U12*3+V12*1 -> 0 | DB12: Arabic | DC12: Adelaide
D13: 1 | E13: E | F13: 40800 | G13: Genk | J13: - | M13: Valencia | N13: =VLOOKUP(G13,'Club Namen'!$B$3:$C$34,2,FALSE) -> Cristal Arena | S13: =VLOOKUP(2,'Dummy Table'!$DD$4:$DE$7,2,FALSE) -> Villarreal | T13: =SUM(U13:W13) -> 0 | U13: =SUMIF('Dummy Table'!B$4:B$7,Gruppenphase!S13,'Dummy Table'!Q$4:Q$7) -> 0 | V13: =SUMIF('Dummy Table'!B$4:B$7,Gruppenphase!S13,'Dummy Table'!R$4:R$7) -> 0 | W13: =SUMIF('Dummy Table'!B$4:B$7,Gruppenphase!S13,'Dummy Table'!S$4:S$7) -> 0 | X13: =CONCATENATE(SUMIF('Dummy Table'!B$4:B$7,Gruppenphase!S13,'Dummy Table'!T$4:T$7)," - ",SUMIF('Dummy Table'!B$4:B$7,Gruppenphase!S13,'Dummy Table'!U$4:U$7)) -> 0 - 0 | Y13: =U13*3+V13*1 -> 0 | DB13: Bahasa | DC13: Aden
D14: 1 | E14: E | F14: 40800 | G14: Chelsea | J14: - | M14: Bayer Leverkusen | N14: =VLOOKUP(G14,'Club Namen'!$B$3:$C$34,2,FALSE) -> Stamford Bridge | S14: =VLOOKUP(3,'Dummy Table'!$DD$4:$DE$7,2,FALSE) -> Manchester City | T14: =SUM(U14:W14) -> 0 | U14: =SUMIF('Dummy Table'!B$4:B$7,Gruppenphase!S14,'Dummy Table'!Q$4:Q$7) -> 0 | V14: =SUMIF('Dummy Table'!B$4:B$7,Gruppenphase!S14,'Dummy Table'!R$4:R$7) -> 0 | W14: =SUMIF('Dummy Table'!B$4:B$7,Gruppenphase!S14,'Dummy Table'!S$4:S$7) -> 0 | X14: =CONCATENATE(SUMIF('Dummy Table'!B$4:B$7,Gruppenphase!S14,'Dummy Table'!T$4:T$7)," - ",SUMIF('Dummy Table'!B$4:B$7,Gruppenphase!S14,'Dummy Table'!U$4:U$7)) -> 0 - 0 | Y14: =U14*3+V14*1 -> 0 | DB14: Bulgarian | DC14: Algiers
D15: 1 | E15: F | F15: 40800 | G15: Olympiacos | J15: - | M15: Marseille | N15: =VLOOKUP(G15,'Club Namen'!$B$3:$C$34,2,FALSE) -> Karaiskakis | S15: =VLOOKUP(4,'Dummy Table'!$DD$4:$DE$7,2,FALSE) -> Napoli | T15: =SUM(U15:W15) -> 0 | U15: =SUMIF('Dummy Table'!B$4:B$7,Gruppenphase!S15,'Dummy Table'!Q$4:Q$7) -> 0 | V15: =SUMIF('Dummy Table'!B$4:B$7,Gruppenphase!S15,'Dummy Table'!R$4:R$7) -> 0 | W15: =SUMIF('Dummy Table'!B$4:B$7,Gruppenphase!S15,'Dummy Table'!S$4:S$7) -> 0 | X15: =CONCATENATE(SUMIF('Dummy Table'!B$4:B$7,Gruppenphase!S15,'Dummy Table'!T$4:T$7)," - ",SUMIF('Dummy Table'!B$4:B$7,Gruppenphase!S15,'Dummy Table'!U$4:U$7)) -> 0 - 0 | Y15: =U15*3+V15*1 -> 0 | DB15: Chinese | DC15: Almaty
D16: 1 | E16: F | F16: 40800 | G16: Borussia Dortmund | J16: - | M16: Arsenal | N16: =VLOOKUP(G16,'Club Namen'!$B$3:$C$34,2,FALSE) -> Signal Iduna Park | DB16: Croatian | DC16: Amman
D17: 1 | E17: G | F17: 40800 | G17: Porto | J17: - | M17: Shakhtar Donetsk | N17: =VLOOKUP(G17,'Club Namen'!$B$3:$C$34,2,FALSE) -> Estádio do Dragão | DB17: Danish | DC17: Amsterdam
D18: 1 | E18: G | F18: 40800 | G18: APOEL | J18: - | M18: Zenit St. Petersburg | N18: =VLOOKUP(G18,'Club Namen'!$B$3:$C$34,2,FALSE) -> GSP Stadium | S18: Gruppe B | T18: S | U18: G | V18: U | W18: V | X18: T - G | Y18: P | DB18: Dutch | DC18: Anadyr
D19: 1 | E19: H | F19: 40800 | G19: Barcelona | J19: - | M19: AC Milan | N19: =VLOOKUP(G19,'Club Namen'!$B$3:$C$34,2,FALSE) -> Nou Camp | S19: =VLOOKUP(1,'Dummy Table'!$DD$8:$DE$11,2,FALSE) -> Internazionale | T19: =SUM(U19:W19) -> 0 | U19: =SUMIF('Dummy Table'!B$8:B$11,Gruppenphase!S19,'Dummy Table'!Q$8:Q$11) -> 0 | V19: =SUMIF('Dummy Table'!B$8:B$11,Gruppenphase!S19,'Dummy Table'!R$8:R$11) -> 0 | W19: =SUMIF('Dummy Table'!B$8:B$11,Gruppenphase!S19,'Dummy Table'!S$8:S$11) -> 0 | X19: =CONCATENATE(SUMIF('Dummy Table'!B$8:B$11,Gruppenphase!S19,'Dummy Table'!T$8:T$11)," - ",SUMIF('Dummy Table'!B$8:B$11,Gruppenphase!S19,'Dummy Table'!U$8:U$11)) -> 0 - 0 | Y19: =U19*3+V19*1 -> 0 | DB19: English | DC19: Anchorage
D20: 1 | E20: H | F20: 40800 | G20: Viktoria Plzeň | J20: - | M20: Bate Borisov | N20: =VLOOKUP(G20,'Club Namen'!$B$3:$C$34,2,FALSE) -> Štruncovy Sady Stadion | S20: =VLOOKUP(2,'Dummy Table'!$DD$8:$DE$11,2,FALSE) -> CSKA Moscow | T20: =SUM(U20:W20) -> 0 | U20: =SUMIF('Dummy Table'!B$8:B$11,Gruppenphase!S20,'Dummy Table'!Q$8:Q$11) -> 0 | V20: =SUMIF('Dummy Table'!B$8:B$11,Gruppenphase!S20,'Dummy Table'!R$8:R$11) -> 0 | W20: =SUMIF('Dummy Table'!B$8:B$11,Gruppenphase!S20,'Dummy Table'!S$8:S$11) -> 0 | X20: =CONCATENATE(SUMIF('Dummy Table'!B$8:B$11,Gruppenphase!S20,'Dummy Table'!T$8:T$11)," - ",SUMIF('Dummy Table'!B$8:B$11,Gruppenphase!S20,'Dummy Table'!U$8:U$11)) -> 0 - 0 | Y20: =U20*3+V20*1 -> 0 | DB20: Finnish | DC20: Ankara
D21: 1 | E21: A | F21: 40801 | G21: Manchester City | J21: - | M21: Napoli | N21: =VLOOKUP(G21,'Club Namen'!$B$3:$C$34,2,FALSE) -> City of Manchester | S21: =VLOOKUP(3,'Dummy Table'!$DD$8:$DE$11,2,FALSE) -> Lille | T21: =SUM(U21:W21) -> 0 | U21: =SUMIF('Dummy Table'!B$8:B$11,Gruppenphase!S21,'Dummy Table'!Q$8:Q$11) -> 0 | V21: =SUMIF('Dummy Table'!B$8:B$11,Gruppenphase!S21,'Dummy Table'!R$8:R$11) -> 0 | W21: =SUMIF('Dummy Table'!B$8:B$11,Gruppenphase!S21,'Dummy Table'!S$8:S$11) -> 0 | X21: =CONCATENATE(SUMIF('Dummy Table'!B$8:B$11,Gruppenphase!S21,'Dummy Table'!T$8:T$11)," - ",SUMIF('Dummy Table'!B$8:B$11,Gruppenphase!S21,'Dummy Table'!U$8:U$11)) -> 0 - 0 | Y21: =U21*3+V21*1 -> 0 | DB21: France | DC21: Antananarivo
D22: 1 | E22: A | F22: 40801 | G22: Villarreal | J22: - | M22: Bayern München | N22: =VLOOKUP(G22,'Club Namen'!$B$3:$C$34,2,FALSE) -> El Madrigal | S22: =VLOOKUP(4,'Dummy Table'!$DD$8:$DE$11,2,FALSE) -> Trabzonspor | T22: =SUM(U22:W22) -> 0 | U22: =SUMIF('Dummy Table'!B$8:B$11,Gruppenphase!S22,'Dummy Table'!Q$8:Q$11) -> 0 | V22: =SUMIF('Dummy Table'!B$8:B$11,Gruppenphase!S22,'Dummy Table'!R$8:R$11) -> 0 | W22: =SUMIF('Dummy Table'!B$8:B$11,Gruppenphase!S22,'Dummy Table'!S$8:S$11) -> 0 | X22: =CONCATENATE(SUMIF('Dummy Table'!B$8:B$11,Gruppenphase!S22,'Dummy Table'!T$8:T$11)," - ",SUMIF('Dummy Table'!B$8:B$11,Gruppenphase!S22,'Dummy Table'!U$8:U$11)) -> 0 - 0 | Y22: =U22*3+V22*1 -> 0 | DB22: German | DC22: Asuncion
D23: 1 | E23: B | F23: 40801 | G23: Lille | J23: - | M23: CSKA Moscow | N23: =VLOOKUP(G23,'Club Namen'!$B$3:$C$34,2,FALSE) -> Stade Lille-Metropole | DB23: Greek | DC23: Athens
D24: 1 | E24: B | F24: 40801 | G24: Internazionale | J24: - | M24: Trabzonspor | N24: =VLOOKUP(G24,'Club Namen'!$B$3:$C$34,2,FALSE) -> Giuseppe Meazza | DB24: Hungarian | DC24: Atlanta
D25: 1 | E25: C | F25: 40801 | G25: Basel | J25: - | M25: Oţelul Galaţi | N25: =VLOOKUP(G25,'Club Namen'!$B$3:$C$34,2,FALSE) -> St. Jakob Park | S25: Gruppe C | T25: S | U25: G | V25: U | W25: V | X25: T - G | Y25: P | DB25: Italian | DC25: Auckland
D26: 1 | E26: C | F26: 40801 | G26: Benfica | J26: - | M26: Manchester United | N26: =VLOOKUP(G26,'Club Namen'!$B$3:$C$34,2,FALSE) -> Estadio da Luz | S26: =VLOOKUP(1,'Dummy Table'!$DD$12:$DE$15,2,FALSE) -> Manchester United | T26: =SUM(U26:W26) -> 0 | U26: =SUMIF('Dummy Table'!B$12:B$15,Gruppenphase!S26,'Dummy Table'!Q$12:Q$15) -> 0 | V26: =SUMIF('Dummy Table'!B$12:B$15,Gruppenphase!S26,'Dummy Table'!R$12:R$15) -> 0 | W26: =SUMIF('Dummy Table'!B$12:B$15,Gruppenphase!S26,'Dummy Table'!S$12:S$15) -> 0 | X26: =CONCATENATE(SUMIF('Dummy Table'!B$12:B$15,Gruppenphase!S26,'Dummy Table'!T$12:T$15)," - ",SUMIF('Dummy Table'!B$12:B$15,Gruppenphase!S26,'Dummy Table'!U$12:U$15)) -> 0 - 0 | Y26: =U26*3+V26*1 -> 0 | DB26: Lithuanian | DC26: Baghdad
D27: 1 | E27: D | F27: 40801 | G27: Dinamo Zagreb | J27: - | M27: Real Madrid | N27: =VLOOKUP(G27,'Club Namen'!$B$3:$C$34,2,FALSE) -> Maksimir | S27: =VLOOKUP(2,'Dummy Table'!$DD$12:$DE$15,2,FALSE) -> Benfica | T27: =SUM(U27:W27) -> 0 | U27: =SUMIF('Dummy Table'!B$12:B$15,Gruppenphase!S27,'Dummy Table'!Q$12:Q$15) -> 0 | V27: =SUMIF('Dummy Table'!B$12:B$15,Gruppenphase!S27,'Dummy Table'!R$12:R$15) -> 0 | W27: =SUMIF('Dummy Table'!B$12:B$15,Gruppenphase!S27,'Dummy Table'!S$12:S$15) -> 0 | X27: =CONCATENATE(SUMIF('Dummy Table'!B$12:B$15,Gruppenphase!S27,'Dummy Table'!T$12:T$15)," - ",SUMIF('Dummy Table'!B$12:B$15,Gruppenphase!S27,'Dummy Table'!U$12:U$15)) -> 0 - 0 | Y27: =U27*3+V27*1 -> 0 | DB27: Malay | DC27: Bangkok
D28: 1 | E28: D | F28: 40801 | G28: Ajax | J28: - | M28: Lyon | N28: =VLOOKUP(G28,'Club Namen'!$B$3:$C$34,2,FALSE) -> Amsterdam Arena | S28: =VLOOKUP(3,'Dummy Table'!$DD$12:$DE$15,2,FALSE) -> Basel | T28: =SUM(U28:W28) -> 0 | U28: =SUMIF('Dummy Table'!B$12:B$15,Gruppenphase!S28,'Dummy Table'!Q$12:Q$15) -> 0 | V28: =SUMIF('Dummy Table'!B$12:B$15,Gruppenphase!S28,'Dummy Table'!R$12:R$15) -> 0 | W28: =SUMIF('Dummy Table'!B$12:B$15,Gruppenphase!S28,'Dummy Table'!S$12:S$15) -> 0 | X28: =CONCATENATE(SUMIF('Dummy Table'!B$12:B$15,Gruppenphase!S28,'Dummy Table'!T$12:T$15)," - ",SUMIF('Dummy Table'!B$12:B$15,Gruppenphase!S28,'Dummy Table'!U$12:U$15)) -> 0 - 0 | Y28: =U28*3+V28*1 -> 0 | DB28: Maltese | DC28: Barcelona
D29: =D13+1 -> 2 | E29: B | F29: 40813 | G29: CSKA Moscow | J29: - | M29: Internazionale | N29: =VLOOKUP(G29,'Club Namen'!$B$3:$C$34,2,FALSE) -> Luzhniki | S29: =VLOOKUP(4,'Dummy Table'!$DD$12:$DE$15,2,FALSE) -> Oţelul Galaţi | T29: =SUM(U29:W29) -> 0 | U29: =SUMIF('Dummy Table'!B$12:B$15,Gruppenphase!S29,'Dummy Table'!Q$12:Q$15) -> 0 | V29: =SUMIF('Dummy Table'!B$12:B$15,Gruppenphase!S29,'Dummy Table'!R$12:R$15) -> 0 | W29: =SUMIF('Dummy Table'!B$12:B$15,Gruppenphase!S29,'Dummy Table'!S$12:S$15) -> 0 | X29: =CONCATENATE(SUMIF('Dummy Table'!B$12:B$15,Gruppenphase!S29,'Dummy Table'!T$12:T$15)," - ",SUMIF('Dummy Table'!B$12:B$15,Gruppenphase!S29,'Dummy Table'!U$12:U$15)) -> 0 - 0 | Y29: =U29*3+V29*1 -> 0 | DB29: Polish | DC29: Beijing
D30: =D14+1 -> 2 | E30: A | F30: 40814 | G30: Bayern München | J30: - | M30: Manchester City | N30: =VLOOKUP(G30,'Club Namen'!$B$3:$C$34,2,FALSE) -> Allianz Arena | DB30: Portuguese | DC30: Beirut
D31: =D15+1 -> 2 | E31: A | F31: 40814 | G31: Napoli | J31: - | M31: Villarreal | N31: =VLOOKUP(G31,'Club Namen'!$B$3:$C$34,2,FALSE) -> San Paolo | DB31: Romanian | DC31: Belgrade
D32: =D16+1 -> 2 | E32: B | F32: 40814 | G32: Trabzonspor | J32: - | M32: Lille | N32: =VLOOKUP(G32,'Club Namen'!$B$3:$C$34,2,FALSE) -> Hüseyin Avni Aker | S32: Gruppe D | T32: S | U32: G | V32: U | W32: V | X32: T - G | Y32: P | DB32: Russian | DC32: Berlin
D33: =D17+1 -> 2 | E33: C | F33: 40814 | G33: Manchester United | J33: - | M33: Basel | N33: =VLOOKUP(G33,'Club Namen'!$B$3:$C$34,2,FALSE) -> Old Trafford | S33: =VLOOKUP(1,'Dummy Table'!$DD$16:$DE$19,2,FALSE) -> Real Madrid | T33: =SUM(U33:W33) -> 0 | U33: =SUMIF('Dummy Table'!B$16:B$19,Gruppenphase!S33,'Dummy Table'!Q$16:Q$19) -> 0 | V33: =SUMIF('Dummy Table'!B$16:B$19,Gruppenphase!S33,'Dummy Table'!R$16:R$19) -> 0 | W33: =SUMIF('Dummy Table'!B$16:B$19,Gruppenphase!S33,'Dummy Table'!S$16:S$19) -> 0 | X33: =CONCATENATE(SUMIF('Dummy Table'!B$16:B$19,Gruppenphase!S33,'Dummy Table'!T$16:T$19)," - ",SUMIF('Dummy Table'!B$16:B$19,Gruppenphase!S33,'Dummy Table'!U$16:U$19)) -> 0 - 0 | Y33: =U33*3+V33*1 -> 0 | DB33: Serbian | DC33: Bogota
D34: =D18+1 -> 2 | E34: C | F34: 40814 | G34: Oţelul Galaţi | J34: - | M34: Benfica | N34: =VLOOKUP(G34,'Club Namen'!$B$3:$C$34,2,FALSE) -> Oţelul | S34: =VLOOKUP(2,'Dummy Table'!$DD$16:$DE$19,2,FALSE) -> Lyon | T34: =SUM(U34:W34) -> 0 | U34: =SUMIF('Dummy Table'!B$16:B$19,Gruppenphase!S34,'Dummy Table'!Q$16:Q$19) -> 0 | V34: =SUMIF('Dummy Table'!B$16:B$19,Gruppenphase!S34,'Dummy Table'!R$16:R$19) -> 0 | W34: =SUMIF('Dummy Table'!B$16:B$19,Gruppenphase!S34,'Dummy Table'!S$16:S$19) -> 0 | X34: =CONCATENATE(SUMIF('Dummy Table'!B$16:B$19,Gruppenphase!S34,'Dummy Table'!T$16:T$19)," - ",SUMIF('Dummy Table'!B$16:B$19,Gruppenphase!S34,'Dummy Table'!U$16:U$19)) -> 0 - 0 | Y34: =U34*3+V34*1 -> 0 | DB34: Slovenian | DC34: Boston
D35: =D19+1 -> 2 | E35: D | F35: 40814 | G35: Lyon | J35: - | M35: Dinamo Zagreb | N35: =VLOOKUP(G35,'Club Namen'!$B$3:$C$34,2,FALSE) -> Stade de Gerland | S35: =VLOOKUP(3,'Dummy Table'!$DD$16:$DE$19,2,FALSE) -> Ajax | T35: =SUM(U35:W35) -> 0 | U35: =SUMIF('Dummy Table'!B$16:B$19,Gruppenphase!S35,'Dummy Table'!Q$16:Q$19) -> 0 | V35: =SUMIF('Dummy Table'!B$16:B$19,Gruppenphase!S35,'Dummy Table'!R$16:R$19) -> 0 | W35: =SUMIF('Dummy Table'!B$16:B$19,Gruppenphase!S35,'Dummy Table'!S$16:S$19) -> 0 | X35: =CONCATENATE(SUMIF('Dummy Table'!B$16:B$19,Gruppenphase!S35,'Dummy Table'!T$16:T$19)," - ",SUMIF('Dummy Table'!B$16:B$19,Gruppenphase!S35,'Dummy Table'!U$16:U$19)) -> 0 - 0 | Y35: =U35*3+V35*1 -> 0 | DB35: Spanish | DC35: Brasilia
D36: =D20+1 -> 2 | E36: D | F36: 40814 | G36: Real Madrid | J36: - | M36: Ajax | N36: =VLOOKUP(G36,'Club Namen'!$B$3:$C$34,2,FALSE) -> Santiago Bernabeu | S36: =VLOOKUP(4,'Dummy Table'!$DD$16:$DE$19,2,FALSE) -> Dinamo Zagreb | T36: =SUM(U36:W36) -> 0 | U36: =SUMIF('Dummy Table'!B$16:B$19,Gruppenphase!S36,'Dummy Table'!Q$16:Q$19) -> 0 | V36: =SUMIF('Dummy Table'!B$16:B$19,Gruppenphase!S36,'Dummy Table'!R$16:R$19) -> 0 | W36: =SUMIF('Dummy Table'!B$16:B$19,Gruppenphase!S36,'Dummy Table'!S$16:S$19) -> 0 | X36: =CONCATENATE(SUMIF('Dummy Table'!B$16:B$19,Gruppenphase!S36,'Dummy Table'!T$16:T$19)," - ",SUMIF('Dummy Table'!B$16:B$19,Gruppenphase!S36,'Dummy Table'!U$16:U$19)) -> 0 - 0 | Y36: =U36*3+V36*1 -> 0 | DB36: Turkish | DC36: Brisbane
D37: =D21+1 -> 2 | E37: G | F37: 40814 | G37: Zenit St. Petersburg | J37: - | M37: Porto | N37: =VLOOKUP(G37,'Club Namen'!$B$3:$C$34,2,FALSE) -> Petrovsky Stadium | DB37: Vietnamese | DC37: Brussels
D38: =D22+1 -> 2 | E38: E | F38: 40815 | G38: Valencia | J38: - | M38: Chelsea | N38: =VLOOKUP(G38,'Club Namen'!$B$3:$C$34,2,FALSE) -> Mestalla | DC38: Bucharest
D39: =D23+1 -> 2 | E39: E | F39: 40815 | G39: Bayer Leverkusen | J39: - | M39: Genk | N39: =VLOOKUP(G39,'Club Namen'!$B$3:$C$34,2,FALSE) -> Bay Arena | S39: Gruppe E | T39: S | U39: G | V39: U | W39: V | X39: T - G | Y39: P | DC39: Budapest
D40: =D24+1 -> 2 | E40: F | F40: 40815 | G40: Arsenal | J40: - | M40: Olympiacos | N40: =VLOOKUP(G40,'Club Namen'!$B$3:$C$34,2,FALSE) -> Emirates Stadium | S40: =VLOOKUP(1,'Dummy Table'!$DD$20:$DE$23,2,FALSE) -> Chelsea | T40: =SUM(U40:W40) -> 0 | U40: =SUMIF('Dummy Table'!B$20:B$23,Gruppenphase!S40,'Dummy Table'!Q$20:Q$23) -> 0 | V40: =SUMIF('Dummy Table'!B$20:B$23,Gruppenphase!S40,'Dummy Table'!R$20:R$23) -> 0 | W40: =SUMIF('Dummy Table'!B$20:B$23,Gruppenphase!S40,'Dummy Table'!S$20:S$23) -> 0 | X40: =CONCATENATE(SUMIF('Dummy Table'!B$20:B$23,Gruppenphase!S40,'Dummy Table'!T$20:T$23)," - ",SUMIF('Dummy Table'!B$20:B$23,Gruppenphase!S40,'Dummy Table'!U$20:U$23)) -> 0 - 0 | Y40: =U40*3+V40*1 -> 0 | DC40: Buenos Aires
D41: =D25+1 -> 2 | E41: F | F41: 40815 | G41: Marseille | J41: - | M41: Borussia Dortmund | N41: =VLOOKUP(G41,'Club Namen'!$B$3:$C$34,2,FALSE) -> Stade Velodrome | S41: =VLOOKUP(2,'Dummy Table'!$DD$20:$DE$23,2,FALSE) -> Valencia | T41: =SUM(U41:W41) -> 0 | U41: =SUMIF('Dummy Table'!B$20:B$23,Gruppenphase!S41,'Dummy Table'!Q$20:Q$23) -> 0 | V41: =SUMIF('Dummy Table'!B$20:B$23,Gruppenphase!S41,'Dummy Table'!R$20:R$23) -> 0 | W41: =SUMIF('Dummy Table'!B$20:B$23,Gruppenphase!S41,'Dummy Table'!S$20:S$23) -> 0 | X41: =CONCATENATE(SUMIF('Dummy Table'!B$20:B$23,Gruppenphase!S41,'Dummy Table'!T$20:T$23)," - ",SUMIF('Dummy Table'!B$20:B$23,Gruppenphase!S41,'Dummy Table'!U$20:U$23)) -> 0 - 0 | Y41: =U41*3+V41*1 -> 0 | DC41: Cairo
D42: =D26+1 -> 2 | E42: G | F42: 40815 | G42: Shakhtar Donetsk | J42: - | M42: APOEL | N42: =VLOOKUP(G42,'Club Namen'!$B$3:$C$34,2,FALSE) -> Donbass Arena | S42: =VLOOKUP(3,'Dummy Table'!$DD$20:$DE$23,2,FALSE) -> Bayer Leverkusen | T42: =SUM(U42:W42) -> 0 | U42: =SUMIF('Dummy Table'!B$20:B$23,Gruppenphase!S42,'Dummy Table'!Q$20:Q$23) -> 0 | V42: =SUMIF('Dummy Table'!B$20:B$23,Gruppenphase!S42,'Dummy Table'!R$20:R$23) -> 0 | W42: =SUMIF('Dummy Table'!B$20:B$23,Gruppenphase!S42,'Dummy Table'!S$20:S$23) -> 0 | X42: =CONCATENATE(SUMIF('Dummy Table'!B$20:B$23,Gruppenphase!S42,'Dummy Table'!T$20:T$23)," - ",SUMIF('Dummy Table'!B$20:B$23,Gruppenphase!S42,'Dummy Table'!U$20:U$23)) -> 0 - 0 | Y42: =U42*3+V42*1 -> 0 | DC42: Canberra
D43: =D27+1 -> 2 | E43: H | F43: 40815 | G43: Bate Borisov | J43: - | M43: Barcelona | N43: =VLOOKUP(G43,'Club Namen'!$B$3:$C$34,2,FALSE) -> City Stadium | S43: =VLOOKUP(4,'Dummy Table'!$DD$20:$DE$23,2,FALSE) -> Genk | T43: =SUM(U43:W43) -> 0 | U43: =SUMIF('Dummy Table'!B$20:B$23,Gruppenphase!S43,'Dummy Table'!Q$20:Q$23) -> 0 | V43: =SUMIF('Dummy Table'!B$20:B$23,Gruppenphase!S43,'Dummy Table'!R$20:R$23) -> 0 | W43: =SUMIF('Dummy Table'!B$20:B$23,Gruppenphase!S43,'Dummy Table'!S$20:S$23) -> 0 | X43: =CONCATENATE(SUMIF('Dummy Table'!B$20:B$23,Gruppenphase!S43,'Dummy Table'!T$20:T$23)," - ",SUMIF('Dummy Table'!B$20:B$23,Gruppenphase!S43,'Dummy Table'!U$20:U$23)) -> 0 - 0 | Y43: =U43*3+V43*1 -> 0 | DC43: Cape Town
D44: =D28+1 -> 2 | E44: H | F44: 40815 | G44: AC Milan | J44: - | M44: Viktoria Plzeň | N44: =VLOOKUP(G44,'Club Namen'!$B$3:$C$34,2,FALSE) -> Giuseppe Meazza | DC44: Caracas
D45: =D29+1 -> 3 | E45: B | F45: 40834 | G45: CSKA Moscow | J45: - | M45: Trabzonspor | N45: =VLOOKUP(G45,'Club Namen'!$B$3:$C$34,2,FALSE) -> Luzhniki | DC45: Casablanca
D46: =D30+1 -> 3 | E46: A | F46: 40835 | G46: Napoli | J46: - | M46: Bayern München | N46: =VLOOKUP(G46,'Club Namen'!$B$3:$C$34,2,FALSE) -> San Paolo | S46: Gruppe F | T46: S | U46: G | V46: U | W46: V | X46: T - G | Y46: P | DC46: Chicago
D47: =D31+1 -> 3 | E47: A | F47: 40835 | G47: Manchester City | J47: - | M47: Villarreal | N47: =VLOOKUP(G47,'Club Namen'!$B$3:$C$34,2,FALSE) -> City of Manchester | S47: =VLOOKUP(1,'Dummy Table'!$DD$24:$DE$27,2,FALSE) -> Arsenal | T47: =SUM(U47:W47) -> 0 | U47: =SUMIF('Dummy Table'!B$24:B$27,Gruppenphase!S47,'Dummy Table'!Q$24:Q$27) -> 0 | V47: =SUMIF('Dummy Table'!B$24:B$27,Gruppenphase!S47,'Dummy Table'!R$24:R$27) -> 0 | W47: =SUMIF('Dummy Table'!B$24:B$27,Gruppenphase!S47,'Dummy Table'!S$24:S$27) -> 0 | X47: =CONCATENATE(SUMIF('Dummy Table'!B$24:B$27,Gruppenphase!S47,'Dummy Table'!T$24:T$27)," - ",SUMIF('Dummy Table'!B$24:B$27,Gruppenphase!S47,'Dummy Table'!U$24:U$27)) -> 0 - 0 | Y47: =U47*3+V47*1 -> 0 | DC47: Copenhagen
D48: =D32+1 -> 3 | E48: B | F48: 40835 | G48: Lille | J48: - | M48: Internazionale | N48: =VLOOKUP(G48,'Club Namen'!$B$3:$C$34,2,FALSE) -> Stade Lille-Metropole | S48: =VLOOKUP(2,'Dummy Table'!$DD$24:$DE$27,2,FALSE) -> Marseille | T48: =SUM(U48:W48) -> 0 | U48: =SUMIF('Dummy Table'!B$24:B$27,Gruppenphase!S48,'Dummy Table'!Q$24:Q$27) -> 0 | V48: =SUMIF('Dummy Table'!B$24:B$27,Gruppenphase!S48,'Dummy Table'!R$24:R$27) -> 0 | W48: =SUMIF('Dummy Table'!B$24:B$27,Gruppenphase!S48,'Dummy Table'!S$24:S$27) -> 0 | X48: =CONCATENATE(SUMIF('Dummy Table'!B$24:B$27,Gruppenphase!S48,'Dummy Table'!T$24:T$27)," - ",SUMIF('Dummy Table'!B$24:B$27,Gruppenphase!S48,'Dummy Table'!U$24:U$27)) -> 0 - 0 | Y48: =U48*3+V48*1 -> 0 | DC48: Darwin
D49: =D33+1 -> 3 | E49: C | F49: 40835 | G49: Oţelul Galaţi | J49: - | M49: Manchester United | N49: =VLOOKUP(G49,'Club Namen'!$B$3:$C$34,2,FALSE) -> Oţelul | S49: =VLOOKUP(3,'Dummy Table'!$DD$24:$DE$27,2,FALSE) -> Olympiacos | T49: =SUM(U49:W49) -> 0 | U49: =SUMIF('Dummy Table'!B$24:B$27,Gruppenphase!S49,'Dummy Table'!Q$24:Q$27) -> 0 | V49: =SUMIF('Dummy Table'!B$24:B$27,Gruppenphase!S49,'Dummy Table'!R$24:R$27) -> 0 | W49: =SUMIF('Dummy Table'!B$24:B$27,Gruppenphase!S49,'Dummy Table'!S$24:S$27) -> 0 | X49: =CONCATENATE(SUMIF('Dummy Table'!B$24:B$27,Gruppenphase!S49,'Dummy Table'!T$24:T$27)," - ",SUMIF('Dummy Table'!B$24:B$27,Gruppenphase!S49,'Dummy Table'!U$24:U$27)) -> 0 - 0 | Y49: =U49*3+V49*1 -> 0 | DC49: Denver
D50: =D34+1 -> 3 | E50: C | F50: 40835 | G50: Basel | J50: - | M50: Benfica | N50: =VLOOKUP(G50,'Club Namen'!$B$3:$C$34,2,FALSE) -> St. Jakob Park | S50: =VLOOKUP(4,'Dummy Table'!$DD$24:$DE$27,2,FALSE) -> Borussia Dortmund | T50: =SUM(U50:W50) -> 0 | U50: =SUMIF('Dummy Table'!B$24:B$27,Gruppenphase!S50,'Dummy Table'!Q$24:Q$27) -> 0 | V50: =SUMIF('Dummy Table'!B$24:B$27,Gruppenphase!S50,'Dummy Table'!R$24:R$27) -> 0 | W50: =SUMIF('Dummy Table'!B$24:B$27,Gruppenphase!S50,'Dummy Table'!S$24:S$27) -> 0 | X50: =CONCATENATE(SUMIF('Dummy Table'!B$24:B$27,Gruppenphase!S50,'Dummy Table'!T$24:T$27)," - ",SUMIF('Dummy Table'!B$24:B$27,Gruppenphase!S50,'Dummy Table'!U$24:U$27)) -> 0 - 0 | Y50: =U50*3+V50*1 -> 0 | DC50: Detroit
D51: =D35+1 -> 3 | E51: D | F51: 40835 | G51: Real Madrid | J51: - | M51: Lyon | N51: =VLOOKUP(G51,'Club Namen'!$B$3:$C$34,2,FALSE) -> Santiago Bernabeu | DC51: Dhaka
D52: =D36+1 -> 3 | E52: D | F52: 40835 | G52: Dinamo Zagreb | J52: - | M52: Ajax | N52: =VLOOKUP(G52,'Club Namen'!$B$3:$C$34,2,FALSE) -> Maksimir | DC52: Dubai
D53: =D37+1 -> 3 | E53: E | F53: 40836 | G53: Bayer Leverkusen | J53: - | M53: Valencia | N53: =VLOOKUP(G53,'Club Namen'!$B$3:$C$34,2,FALSE) -> Bay Arena | S53: Gruppe G | T53: S | U53: G | V53: U | W53: V | X53: T - G | Y53: P | DC53: Dublin
D54: =D38+1 -> 3 | E54: E | F54: 40836 | G54: Chelsea | J54: - | M54: Genk | N54: =VLOOKUP(G54,'Club Namen'!$B$3:$C$34,2,FALSE) -> Stamford Bridge | S54: =VLOOKUP(1,'Dummy Table'!$DD$28:$DE$31,2,FALSE) -> Porto | T54: =SUM(U54:W54) -> 0 | U54: =SUMIF('Dummy Table'!B$28:B$31,Gruppenphase!S54,'Dummy Table'!Q$28:Q$31) -> 0 | V54: =SUMIF('Dummy Table'!B$28:B$31,Gruppenphase!S54,'Dummy Table'!R$28:R$31) -> 0 | W54: =SUMIF('Dummy Table'!B$28:B$31,Gruppenphase!S54,'Dummy Table'!S$28:S$31) -> 0 | X54: =CONCATENATE(SUMIF('Dummy Table'!B$28:B$31,Gruppenphase!S54,'Dummy Table'!T$28:T$31)," - ",SUMIF('Dummy Table'!B$28:B$31,Gruppenphase!S54,'Dummy Table'!U$28:U$31)) -> 0 - 0 | Y54: =U54*3+V54*1 -> 0 | DC54: Edmonton
D55: =D39+1 -> 3 | E55: F | F55: 40836 | G55: Marseille | J55: - | M55: Arsenal | N55: =VLOOKUP(G55,'Club Namen'!$B$3:$C$34,2,FALSE) -> Stade Velodrome | S55: =VLOOKUP(2,'Dummy Table'!$DD$28:$DE$31,2,FALSE) -> Shakhtar Donetsk | T55: =SUM(U55:W55) -> 0 | U55: =SUMIF('Dummy Table'!B$28:B$31,Gruppenphase!S55,'Dummy Table'!Q$28:Q$31) -> 0 | V55: =SUMIF('Dummy Table'!B$28:B$31,Gruppenphase!S55,'Dummy Table'!R$28:R$31) -> 0 | W55: =SUMIF('Dummy Table'!B$28:B$31,Gruppenphase!S55,'Dummy Table'!S$28:S$31) -> 0 | X55: =CONCATENATE(SUMIF('Dummy Table'!B$28:B$31,Gruppenphase!S55,'Dummy Table'!T$28:T$31)," - ",SUMIF('Dummy Table'!B$28:B$31,Gruppenphase!S55,'Dummy Table'!U$28:U$31)) -> 0 - 0 | Y55: =U55*3+V55*1 -> 0 | DC55: Frankfurt
D56: =D40+1 -> 3 | E56: F | F56: 40836 | G56: Olympiacos | J56: - | M56: Borussia Dortmund | N56: =VLOOKUP(G56,'Club Namen'!$B$3:$C$34,2,FALSE) -> Karaiskakis | S56: =VLOOKUP(3,'Dummy Table'!$DD$28:$DE$31,2,FALSE) -> Zenit St. Petersburg | T56: =SUM(U56:W56) -> 0 | U56: =SUMIF('Dummy Table'!B$28:B$31,Gruppenphase!S56,'Dummy Table'!Q$28:Q$31) -> 0 | V56: =SUMIF('Dummy Table'!B$28:B$31,Gruppenphase!S56,'Dummy Table'!R$28:R$31) -> 0 | W56: =SUMIF('Dummy Table'!B$28:B$31,Gruppenphase!S56,'Dummy Table'!S$28:S$31) -> 0 | X56: =CONCATENATE(SUMIF('Dummy Table'!B$28:B$31,Gruppenphase!S56,'Dummy Table'!T$28:T$31)," - ",SUMIF('Dummy Table'!B$28:B$31,Gruppenphase!S56,'Dummy Table'!U$28:U$31)) -> 0 - 0 | Y56: =U56*3+V56*1 -> 0 | DC56: Geneva
D57: =D41+1 -> 3 | E57: G | F57: 40836 | G57: Shakhtar Donetsk | J57: - | M57: Zenit St. Petersburg | N57: =VLOOKUP(G57,'Club Namen'!$B$3:$C$34,2,FALSE) -> Donbass Arena | S57: =VLOOKUP(4,'Dummy Table'!$DD$28:$DE$31,2,FALSE) -> APOEL | T57: =SUM(U57:W57) -> 0 | U57: =SUMIF('Dummy Table'!B$28:B$31,Gruppenphase!S57,'Dummy Table'!Q$28:Q$31) -> 0 | V57: =SUMIF('Dummy Table'!B$28:B$31,Gruppenphase!S57,'Dummy Table'!R$28:R$31) -> 0 | W57: =SUMIF('Dummy Table'!B$28:B$31,Gruppenphase!S57,'Dummy Table'!S$28:S$31) -> 0 | X57: =CONCATENATE(SUMIF('Dummy Table'!B$28:B$31,Gruppenphase!S57,'Dummy Table'!T$28:T$31)," - ",SUMIF('Dummy Table'!B$28:B$31,Gruppenphase!S57,'Dummy Table'!U$28:U$31)) -> 0 - 0 | Y57: =U57*3+V57*1 -> 0 | DC57: Guatemala
D58: =D42+1 -> 3 | E58: G | F58: 40836 | G58: Porto | J58: - | M58: APOEL | N58: =VLOOKUP(G58,'Club Namen'!$B$3:$C$34,2,FALSE) -> Estádio do Dragão | DC58: Halifax
D59: =D43+1 -> 3 | E59: H | F59: 40836 | G59: AC Milan | J59: - | M59: Bate Borisov | N59: =VLOOKUP(G59,'Club Namen'!$B$3:$C$34,2,FALSE) -> Giuseppe Meazza | DC59: Hanoi
D60: =D44+1 -> 3 | E60: H | F60: 40836 | G60: Barcelona | J60: - | M60: Viktoria Plzeň | N60: =VLOOKUP(G60,'Club Namen'!$B$3:$C$34,2,FALSE) -> Nou Camp | S60: Gruppe H | T60: S | U60: G | V60: U | W60: V | X60: T - G | Y60: P | DC60: Harare
D61: =D45+1 -> 4 | E61: G | F61: 40849 | G61: Zenit St. Petersburg | J61: - | M61: Shakhtar Donetsk | N61: =VLOOKUP(G61,'Club Namen'!$B$3:$C$34,2,FALSE) -> Petrovsky Stadium | S61: =VLOOKUP(1,'Dummy Table'!$DD$32:$DE$35,2,FALSE) -> Barcelona | T61: =SUM(U61:W61) -> 0 | U61: =SUMIF('Dummy Table'!B$32:B$35,Gruppenphase!S61,'Dummy Table'!Q$32:Q$35) -> 0 | V61: =SUMIF('Dummy Table'!B$32:B$35,Gruppenphase!S61,'Dummy Table'!R$32:R$35) -> 0 | W61: =SUMIF('Dummy Table'!B$32:B$35,Gruppenphase!S61,'Dummy Table'!S$32:S$35) -> 0 | X61: =CONCATENATE(SUMIF('Dummy Table'!B$32:B$35,Gruppenphase!S61,'Dummy Table'!T$32:T$35)," - ",SUMIF('Dummy Table'!B$32:B$35,Gruppenphase!S61,'Dummy Table'!U$32:U$35)) -> 0 - 0 | Y61: =U61*3+V61*1 -> 0 | DC61: Havana
D62: =D46+1 -> 4 | E62: E | F62: 40849 | G62: Valencia | J62: - | M62: Bayer Leverkusen | N62: =VLOOKUP(G62,'Club Namen'!$B$3:$C$34,2,FALSE) -> Mestalla | S62: =VLOOKUP(2,'Dummy Table'!$DD$32:$DE$35,2,FALSE) -> AC Milan | T62: =SUM(U62:W62) -> 0 | U62: =SUMIF('Dummy Table'!B$32:B$35,Gruppenphase!S62,'Dummy Table'!Q$32:Q$35) -> 0 | V62: =SUMIF('Dummy Table'!B$32:B$35,Gruppenphase!S62,'Dummy Table'!R$32:R$35) -> 0 | W62: =SUMIF('Dummy Table'!B$32:B$35,Gruppenphase!S62,'Dummy Table'!S$32:S$35) -> 0 | X62: =CONCATENATE(SUMIF('Dummy Table'!B$32:B$35,Gruppenphase!S62,'Dummy Table'!T$32:T$35)," - ",SUMIF('Dummy Table'!B$32:B$35,Gruppenphase!S62,'Dummy Table'!U$32:U$35)) -> 0 - 0 | Y62: =U62*3+V62*1 -> 0 | DC62: Helsinki
D63: =D47+1 -> 4 | E63: E | F63: 40849 | G63: Genk | J63: - | M63: Chelsea | N63: =VLOOKUP(G63,'Club Namen'!$B$3:$C$34,2,FALSE) -> Cristal Arena | S63: =VLOOKUP(3,'Dummy Table'!$DD$32:$DE$35,2,FALSE) -> Bate Borisov | T63: =SUM(U63:W63) -> 0 | U63: =SUMIF('Dummy Table'!B$32:B$35,Gruppenphase!S63,'Dummy Table'!Q$32:Q$35) -> 0 | V63: =SUMIF('Dummy Table'!B$32:B$35,Gruppenphase!S63,'Dummy Table'!R$32:R$35) -> 0 | W63: =SUMIF('Dummy Table'!B$32:B$35,Gruppenphase!S63,'Dummy Table'!S$32:S$35) -> 0 | X63: =CONCATENATE(SUMIF('Dummy Table'!B$32:B$35,Gruppenphase!S63,'Dummy Table'!T$32:T$35)," - ",SUMIF('Dummy Table'!B$32:B$35,Gruppenphase!S63,'Dummy Table'!U$32:U$35)) -> 0 - 0 | Y63: =U63*3+V63*1 -> 0 | DC63: Hong Kong
D64: =D48+1 -> 4 | E64: F | F64: 40849 | G64: Arsenal | J64: - | M64: Marseille | N64: =VLOOKUP(G64,'Club Namen'!$B$3:$C$34,2,FALSE) -> Emirates Stadium | S64: =VLOOKUP(4,'Dummy Table'!$DD$32:$DE$35,2,FALSE) -> Viktoria Plzeň | T64: =SUM(U64:W64) -> 0 | U64: =SUMIF('Dummy Table'!B$32:B$35,Gruppenphase!S64,'Dummy Table'!Q$32:Q$35) -> 0 | V64: =SUMIF('Dummy Table'!B$32:B$35,Gruppenphase!S64,'Dummy Table'!R$32:R$35) -> 0 | W64: =SUMIF('Dummy Table'!B$32:B$35,Gruppenphase!S64,'Dummy Table'!S$32:S$35) -> 0 | X64: =CONCATENATE(SUMIF('Dummy Table'!B$32:B$35,Gruppenphase!S64,'Dummy Table'!T$32:T$35)," - ",SUMIF('Dummy Table'!B$32:B$35,Gruppenphase!S64,'Dummy Table'!U$32:U$35)) -> 0 - 0 | Y64: =U64*3+V64*1 -> 0 | DC64: Honolulu
D65: =D49+1 -> 4 | E65: F | F65: 40849 | G65: Borussia Dortmund | J65: - | M65: Olympiacos | N65: =VLOOKUP(G65,'Club Namen'!$B$3:$C$34,2,FALSE) -> Signal Iduna Park | DC65: Houston
D66: =D50+1 -> 4 | E66: G | F66: 40849 | G66: APOEL | J66: - | M66: Porto | N66: =VLOOKUP(G66,'Club Namen'!$B$3:$C$34,2,FALSE) -> GSP Stadium | DC66: Indianapolis
D67: =D51+1 -> 4 | E67: H | F67: 40849 | G67: Bate Borisov | J67: - | M67: AC Milan | N67: =VLOOKUP(G67,'Club Namen'!$B$3:$C$34,2,FALSE) -> City Stadium | R67: Die Gruppensieger und -zweiten qualifizierten sich für
D68: =D52+1 -> 4 | E68: H | F68: 40849 | G68: Viktoria Plzeň | J68: - | M68: Barcelona | N68: =VLOOKUP(G68,'Club Namen'!$B$3:$C$34,2,FALSE) -> Štruncovy Sady Stadion | S68: das Achtelfinale
D69: =D53+1 -> 4 | E69: A | F69: 40850 | G69: Bayern München | J69: - | M69: Napoli | N69: =VLOOKUP(G69,'Club Namen'!$B$3:$C$34,2,FALSE) -> Allianz Arena | R69: Die Gruppendritten spielten im Sechzehntelfinale
D70: =D54+1 -> 4 | E70: A | F70: 40850 | G70: Villarreal | J70: - | M70: Manchester City | N70: =VLOOKUP(G70,'Club Namen'!$B$3:$C$34,2,FALSE) -> El Madrigal | S70: der UEFA Europa League
D71: =D55+1 -> 4 | E71: B | F71: 40850 | G71: Trabzonspor | J71: - | M71: CSKA Moscow | N71: =VLOOKUP(G71,'Club Namen'!$B$3:$C$34,2,FALSE) -> Hüseyin Avni Aker
D72: =D56+1 -> 4 | E72: B | F72: 40850 | G72: Internazionale | J72: - | M72: Lille | N72: =VLOOKUP(G72,'Club Namen'!$B$3:$C$34,2,FALSE) -> Giuseppe Meazza | R72: Bei Punktgleichheit zweier oder mehrerer Mannschaften nach
D73: =D57+1 -> 4 | E73: C | F73: 40850 | G73: Manchester United | J73: - | M73: Oţelul Galaţi | N73: =VLOOKUP(G73,'Club Namen'!$B$3:$C$34,2,FALSE) -> Old Trafford | R73: den Gruppenspielen wurde die Platzierung durch folgende Kriterien ermittelt:
D74: =D58+1 -> 4 | E74: C | F74: 40850 | G74: Benfica | J74: - | M74: Basel | N74: =VLOOKUP(G74,'Club Namen'!$B$3:$C$34,2,FALSE) -> Estadio da Luz
D75: =D59+1 -> 4 | E75: D | F75: 40850 | G75: Lyon | J75: - | M75: Real Madrid | N75: =VLOOKUP(G75,'Club Namen'!$B$3:$C$34,2,FALSE) -> Stade de Gerland | R75: a) Anzahl Punkte im direkten Vergleich
D76: =D60+1 -> 4 | E76: D | F76: 40850 | G76: Ajax | J76: - | M76: Dinamo Zagreb | N76: =VLOOKUP(G76,'Club Namen'!$B$3:$C$34,2,FALSE) -> Amsterdam Arena | R76: b) Tordifferenz im direkten Vergleich
D77: =D61+1 -> 5 | E77: B | F77: 40870 | G77: CSKA Moscow | J77: - | M77: Lille | N77: =VLOOKUP(G77,'Club Namen'!$B$3:$C$34,2,FALSE) -> Luzhniki | R77: c) Anzahl Auswärtstore im direkten Vergleich
D78: =D62+1 -> 5 | E78: A | F78: 40870 | G78: Napoli | J78: - | M78: Manchester City | N78: =VLOOKUP(G78,'Club Namen'!$B$3:$C$34,2,FALSE) -> San Paolo | R78: d) Tordifferenz aus allen Gruppenspielen
D79: =D63+1 -> 5 | E79: A | F79: 40870 | G79: Bayern München | J79: - | M79: Villarreal | N79: =VLOOKUP(G79,'Club Namen'!$B$3:$C$34,2,FALSE) -> Allianz Arena | R79: e) Höhere Anzahl erzielter Tore
D80: =D64+1 -> 5 | E80: B | F80: 40870 | G80: Trabzonspor | J80: - | M80: Internazionale | N80: =VLOOKUP(G80,'Club Namen'!$B$3:$C$34,2,FALSE) -> Hüseyin Avni Aker | R80: f) Klub-Koeffizienten
D81: =D65+1 -> 5 | E81: C | F81: 40870 | G81: Oţelul Galaţi | J81: - | M81: Basel | N81: =VLOOKUP(G81,'Club Namen'!$B$3:$C$34,2,FALSE) -> Oţelul
D82: =D66+1 -> 5 | E82: C | F82: 40870 | G82: Manchester United | J82: - | M82: Benfica | N82: =VLOOKUP(G82,'Club Namen'!$B$3:$C$34,2,FALSE) -> Old Trafford
D83: =D67+1 -> 5 | E83: D | F83: 40870 | G83: Real Madrid | J83: - | M83: Dinamo Zagreb | N83: =VLOOKUP(G83,'Club Namen'!$B$3:$C$34,2,FALSE) -> Santiago Bernabeu
D84: =D68+1 -> 5 | E84: D | F84: 40870 | G84: Lyon | J84: - | M84: Ajax | N84: =VLOOKUP(G84,'Club Namen'!$B$3:$C$34,2,FALSE) -> Stade de Gerland | R84: Achtelfinale Auslosung (9. Dez. 2011)
D85: =D69+1 -> 5 | E85: E | F85: 40871 | G85: Bayer Leverkusen | J85: - | M85: Chelsea | N85: =VLOOKUP(G85,'Club Namen'!$B$3:$C$34,2,FALSE) -> Bay Arena | R85: Gruppensieger | T85: Land | V85: Auslosung
D86: =D70+1 -> 5 | E86: E | F86: 40871 | G86: Valencia | J86: - | M86: Genk | N86: =VLOOKUP(G86,'Club Namen'!$B$3:$C$34,2,FALSE) -> Mestalla | R86: A | S86: =S12 -> Bayern München | T86: =VLOOKUP(S86,'Club Namen'!$B$3:$D$34,3,FALSE) -> Deutschland | X86: =S86 -> Bayern München
D87: =D71+1 -> 5 | E87: F | F87: 40871 | G87: Marseille | J87: - | M87: Olympiacos | N87: =VLOOKUP(G87,'Club Namen'!$B$3:$C$34,2,FALSE) -> Stade Velodrome | R87: B | S87: =S19 -> Internazionale | T87: =VLOOKUP(S87,'Club Namen'!$B$3:$D$34,3,FALSE) -> Italien | X87: =S87 -> Internazionale
D88: =D72+1 -> 5 | E88: F | F88: 40871 | G88: Arsenal | J88: - | M88: Borussia Dortmund | N88: =VLOOKUP(G88,'Club Namen'!$B$3:$C$34,2,FALSE) -> Emirates Stadium | R88: C | S88: =S26 -> Manchester United | T88: =VLOOKUP(S88,'Club Namen'!$B$3:$D$34,3,FALSE) -> England | X88: =S88 -> Manchester United
D89: =D73+1 -> 5 | E89: G | F89: 40871 | G89: Shakhtar Donetsk | J89: - | M89: Porto | N89: =VLOOKUP(G89,'Club Namen'!$B$3:$C$34,2,FALSE) -> Donbass Arena | R89: D | S89: =S33 -> Real Madrid | T89: =VLOOKUP(S89,'Club Namen'!$B$3:$D$34,3,FALSE) -> Spanien | X89: =S89 -> Real Madrid
D90: =D74+1 -> 5 | E90: H | F90: 40871 | G90: AC Milan | J90: - | M90: Barcelona | N90: =VLOOKUP(G90,'Club Namen'!$B$3:$C$34,2,FALSE) -> Giuseppe Meazza | R90: E | S90: =S40 -> Chelsea | T90: =VLOOKUP(S90,'Club Namen'!$B$3:$D$34,3,FALSE) -> England | X90: =S90 -> Chelsea
D91: =D75+1 -> 5 | E91: H | F91: 40871 | G91: Bate Borisov | J91: - | M91: Viktoria Plzeň | N91: =VLOOKUP(G91,'Club Namen'!$B$3:$C$34,2,FALSE) -> City Stadium | R91: F | S91: =S47 -> Arsenal | T91: =VLOOKUP(S91,'Club Namen'!$B$3:$D$34,3,FALSE) -> England | X91: =S91 -> Arsenal
D92: =D76+1 -> 5 | E92: G | F92: 40871 | G92: Zenit St. Petersburg | J92: - | M92: APOEL | N92: =VLOOKUP(G92,'Club Namen'!$B$3:$C$34,2,FALSE) -> Petrovsky Stadium | R92: G | S92: =S54 -> Porto | T92: =VLOOKUP(S92,'Club Namen'!$B$3:$D$34,3,FALSE) -> Portugal | X92: =S92 -> Porto
D93: =D77+1 -> 6 | E93: E | F93: 40884 | G93: Chelsea | J93: - | M93: Valencia | N93: =VLOOKUP(G93,'Club Namen'!$B$3:$C$34,2,FALSE) -> Stamford Bridge | R93: H | S93: =S61 -> Barcelona | T93: =VLOOKUP(S93,'Club Namen'!$B$3:$D$34,3,FALSE) -> Spanien | X93: =S93 -> Barcelona
D94: =D78+1 -> 6 | E94: E | F94: 40884 | G94: Genk | J94: - | M94: Bayer Leverkusen | N94: =VLOOKUP(G94,'Club Namen'!$B$3:$C$34,2,FALSE) -> Cristal Arena
D95: =D79+1 -> 6 | E95: F | F95: 40884 | G95: Olympiacos | J95: - | M95: Arsenal | N95: =VLOOKUP(G95,'Club Namen'!$B$3:$C$34,2,FALSE) -> Karaiskakis | R95: Gruppenzweiten
D96: =D80+1 -> 6 | E96: F | F96: 40884 | G96: Borussia Dortmund | J96: - | M96: Marseille | N96: =VLOOKUP(G96,'Club Namen'!$B$3:$C$34,2,FALSE) -> Signal Iduna Park | R96: A | S96: =S13 -> Villarreal | T96: =VLOOKUP(S96,'Club Namen'!$B$3:$D$34,3,FALSE) -> Spanien | X96: =S96 -> Villarreal
D97: =D81+1 -> 6 | E97: G | F97: 40884 | G97: Porto | J97: - | M97: Zenit St. Petersburg | N97: =VLOOKUP(G97,'Club Namen'!$B$3:$C$34,2,FALSE) -> Estádio do Dragão | R97: B | S97: =S20 -> CSKA Moscow | T97: =VLOOKUP(S97,'Club Namen'!$B$3:$D$34,3,FALSE) -> Russland | X97: =S97 -> CSKA Moscow
D98: =D82+1 -> 6 | E98: G | F98: 40884 | G98: APOEL | J98: - | M98: Shakhtar Donetsk | N98: =VLOOKUP(G98,'Club Namen'!$B$3:$C$34,2,FALSE) -> GSP Stadium | R98: C | S98: =S27 -> Benfica | T98: =VLOOKUP(S98,'Club Namen'!$B$3:$D$34,3,FALSE) -> Portugal | X98: =S98 -> Benfica
D99: =D83+1 -> 6 | E99: H | F99: 40884 | G99: Barcelona | J99: - | M99: Bate Borisov | N99: =VLOOKUP(G99,'Club Namen'!$B$3:$C$34,2,FALSE) -> Nou Camp | R99: D | S99: =S34 -> Lyon | T99: =VLOOKUP(S99,'Club Namen'!$B$3:$D$34,3,FALSE) -> Frankreich | X99: =S99 -> Lyon
D100: =D84+1 -> 6 | E100: H | F100: 40884 | G100: Viktoria Plzeň | J100: - | M100: AC Milan | N100: =VLOOKUP(G100,'Club Namen'!$B$3:$C$34,2,FALSE) -> Štruncovy Sady Stadion | R100: E | S100: =S41 -> Valencia | T100: =VLOOKUP(S100,'Club Namen'!$B$3:$D$34,3,FALSE) -> Spanien | X100: =S100 -> Valencia
D101: =D85+1 -> 6 | E101: A | F101: 40885 | G101: Manchester City | J101: - | M101: Bayern München | N101: =VLOOKUP(G101,'Club Namen'!$B$3:$C$34,2,FALSE) -> City of Manchester | R101: F | S101: =S48 -> Marseille | T101: =VLOOKUP(S101,'Club Namen'!$B$3:$D$34,3,FALSE) -> Frankreich | X101: =S101 -> Marseille
D102: =D86+1 -> 6 | E102: A | F102: 40885 | G102: Villarreal | J102: - | M102: Napoli | N102: =VLOOKUP(G102,'Club Namen'!$B$3:$C$34,2,FALSE) -> El Madrigal | R102: G | S102: =S55 -> Shakhtar Donetsk | T102: =VLOOKUP(S102,'Club Namen'!$B$3:$D$34,3,FALSE) -> Ukraine | X102: =S102 -> Shakhtar Donetsk
D103: =D87+1 -> 6 | E103: B | F103: 40885 | G103: Lille | J103: - | M103: Trabzonspor | N103: =VLOOKUP(G103,'Club Namen'!$B$3:$C$34,2,FALSE) -> Stade Lille-Metropole | R103: H | S103: =S62 -> AC Milan | T103: =VLOOKUP(S103,'Club Namen'!$B$3:$D$34,3,FALSE) -> Italien | X103: =S103 -> AC Milan
D104: =D88+1 -> 6 | E104: B | F104: 40885 | G104: Internazionale | J104: - | M104: CSKA Moscow | N104: =VLOOKUP(G104,'Club Namen'!$B$3:$C$34,2,FALSE) -> Giuseppe Meazza
D105: =D89+1 -> 6 | E105: C | F105: 40885 | G105: Basel | J105: - | M105: Manchester United | N105: =VLOOKUP(G105,'Club Namen'!$B$3:$C$34,2,FALSE) -> St. Jakob Park
D106: =D90+1 -> 6 | E106: C | F106: 40885 | G106: Benfica | J106: - | M106: Oţelul Galaţi | N106: =VLOOKUP(G106,'Club Namen'!$B$3:$C$34,2,FALSE) -> Estadio da Luz
...

Sheet Achtelfinale - Finale
D2: Besuchen Sie exceltabelle.com fur mehrere vorlagen und updates
CP3: r musadya
B7: Achtelfinale - Finale
B9: Achtelfinale | CF9: Language | CG9: City
C11: Hinspiel | R11: Rückspiel
D13: Spiel | E13: : | F13: 1 | H13: =IF(ISNA(VLOOKUP(F13,Gruppenphase!$V$96:$X$103,3,FALSE)),"",VLOOKUP(F13,Gruppenphase!$V$96:$X$103,3,FALSE)) | K13: - | N13: =Z13 | T13: =H13 | W13: - | Z13: =IF(ISNA(VLOOKUP(AE13,Gruppenphase!$V$86:$X$93,3,FALSE)),"",VLOOKUP(AE13,Gruppenphase!$V$86:$X$93,3,FALSE)) | AC13: =D13 -> Spiel | AD13: : | AE13: =F13 -> 1
D14: Datum | E14: : | AC14: =D14 -> Datum | AD14: :
D15: Zeit | E15: : | N15: Gesamtergebnis | O15: : | P15: =IF(AND(P16<>"",R16<>""),IF(P16>R16,N16&" win",IF(R16>P16,T16&" win",IF(AND(P16=R16,L13>V13),T16&" win on away goals",IF(AND(P16=R16,L13<V13),N16&" win on away goals","")))),"") | AC15: =D15 -> Zeit | AD15: :
D16: Stadion | E16: : | F16: =IF(H13<>"",VLOOKUP(H13,'Club Namen'!$B$3:$C$34,2,FALSE),"") | M16: =IF(SUM(#REF!)=12,#REF!,"Group A Winner") -> #REF! | N16: =H13 | P16: =IF(P17="","",IF(AND(P17=R17,P17<>"",R17<>""),IF(AND(L13=V13,J13=X13),IF(AND(P18=R18,P18<>"",R18<>""),IF(AND(P19=R19,P19<>"",R19<>""),"",P17+P18+P19),P17+P18),P17),P17)) | Q16: - | R16: =IF(R17="","",IF(AND(P17=R17,P17<>"",R17<>""),IF(AND(L13=V13,J13=X13),IF(AND(P18=R18,P18<>"",R18<>""),IF(AND(P19=R19,P19<>"",R19<>""),"",R17+R18+R19),R17+R18),R17),R17)) | T16: =Z13 | AC16: =D16 -> Stadion | AD16: : | AE16: =IF(Z13<>"",VLOOKUP(Z13,'Club Namen'!$B$3:$C$34,2,FALSE),"")
F17: =IF(H13<>"",VLOOKUP(H13,'Club Namen'!$B$3:$D$34,3,FALSE),"") | N17: Reguläre Spielzeit | P17: =IF(AND(J13<>"",V13<>""),J13+V13,"") | Q17: - | R17: =IF(AND(L13<>"",X13<>""),L13+X13,"") | AE17: =IF(Z13<>"",VLOOKUP(Z13,'Club Namen'!$B$3:$D$34,3,FALSE),"")
N18: Verlängerung | Q18: -
N19: Elfmeterschießen | Q19: -
C21: Hinspiel | R21: Rückspiel
D23: =D13 -> Spiel | E23: : | F23: 2 | H23: =IF(ISNA(VLOOKUP(F23,Gruppenphase!$V$96:$X$103,3,FALSE)),"",VLOOKUP(F23,Gruppenphase!$V$96:$X$103,3,FALSE)) | K23: - | N23: =Z23 | T23: =H23 | W23: - | Z23: =IF(ISNA(VLOOKUP(AE23,Gruppenphase!$V$86:$X$93,3,FALSE)),"",VLOOKUP(AE23,Gruppenphase!$V$86:$X$93,3,FALSE)) | AC23: =AC13 -> Spiel | AD23: : | AE23: =F23 -> 2
D24: =D14 -> Datum | E24: : | AC24: =AC14 -> Datum | AD24: :
D25: =D15 -> Zeit | E25: : | N25: Gesamtergebnis | O25: : | P25: =IF(AND(P26<>"",R26<>""),IF(P26>R26,N26&" win",IF(R26>P26,T26&" win",IF(AND(P26=R26,L23>V23),T26&" win on away goals",IF(AND(P26=R26,L23<V23),N26&" win on away goals","")))),"") | AC25: =AC15 -> Zeit | AD25: :
D26: =D16 -> Stadion | E26: : | F26: =IF(H23<>"",VLOOKUP(H23,'Club Namen'!$B$3:$C$34,2,FALSE),"") | M26: =IF(SUM(#REF!)=12,#REF!,"Group A Winner") -> #REF! | N26: =H23 | P26: =IF(P27="","",IF(AND(P27=R27,P27<>"",R27<>""),IF(AND(L23=V23,J23=X23),IF(AND(P28=R28,P28<>"",R28<>""),IF(AND(P29=R29,P29<>"",R29<>""),"",P27+P28+P29),P27+P28),P27),P27)) | Q26: - | R26: =IF(R27="","",IF(AND(P27=R27,P27<>"",R27<>""),IF(AND(L23=V23,J23=X23),IF(AND(P28=R28,P28<>"",R28<>""),IF(AND(P29=R29,P29<>"",R29<>""),"",R27+R28+R29),R27+R28),R27),R27)) | T26: =Z23 | AC26: =AC16 -> Stadion | AD26: : | AE26: =IF(Z23<>"",VLOOKUP(Z23,'Club Namen'!$B$3:$C$34,2,FALSE),"")
F27: =IF(H23<>"",VLOOKUP(H23,'Club Namen'!$B$3:$D$34,3,FALSE),"") | N27: Reguläre Spielzeit | P27: =IF(AND(J23<>"",V23<>""),J23+V23,"") | Q27: - | R27: =IF(AND(L23<>"",X23<>""),L23+X23,"") | AE27: =IF(Z23<>"",VLOOKUP(Z23,'Club Namen'!$B$3:$D$34,3,FALSE),"")
N28: Verlängerung | Q28: -
N29: Elfmeterschießen | Q29: -
C31: Hinspiel | R31: Rückspiel
D33: =D23 -> Spiel | E33: : | F33: 3 | H33: =IF(ISNA(VLOOKUP(F33,Gruppenphase!$V$96:$X$103,3,FALSE)),"",VLOOKUP(F33,Gruppenphase!$V$96:$X$103,3,FALSE)) | K33: - | N33: =Z33 | T33: =H33 | W33: - | Z33: =IF(ISNA(VLOOKUP(AE33,Gruppenphase!$V$86:$X$93,3,FALSE)),"",VLOOKUP(AE33,Gruppenphase!$V$86:$X$93,3,FALSE)) | AC33: =AC23 -> Spiel | AD33: : | AE33: =F33 -> 3
D34: =D24 -> Datum | E34: : | AC34: =AC24 -> Datum | AD34: :
D35: =D25 -> Zeit | E35: : | N35: Gesamtergebnis | O35: : | P35: =IF(AND(P36<>"",R36<>""),IF(P36>R36,N36&" win",IF(R36>P36,T36&" win",IF(AND(P36=R36,L33>V33),T36&" win on away goals",IF(AND(P36=R36,L33<V33),N36&" win on away goals","")))),"") | AC35: =AC25 -> Zeit | AD35: :
D36: =D26 -> Stadion | E36: : | F36: =IF(H33<>"",VLOOKUP(H33,'Club Namen'!$B$3:$C$34,2,FALSE),"") | M36: =IF(SUM(#REF!)=12,#REF!,"Group A Winner") -> #REF! | N36: =H33 | P36: =IF(P37="","",IF(AND(P37=R37,P37<>"",R37<>""),IF(AND(L33=V33,J33=X33),IF(AND(P38=R38,P38<>"",R38<>""),IF(AND(P39=R39,P39<>"",R39<>""),"",P37+P38+P39),P37+P38),P37),P37)) | Q36: - | R36: =IF(R37="","",IF(AND(P37=R37,P37<>"",R37<>""),IF(AND(L33=V33,J33=X33),IF(AND(P38=R38,P38<>"",R38<>""),IF(AND(P39=R39,P39<>"",R39<>""),"",R37+R38+R39),R37+R38),R37),R37)) | T36: =Z33 | AC36: =AC26 -> Stadion | AD36: : | AE36: =IF(Z33<>"",VLOOKUP(Z33,'Club Namen'!$B$3:$C$34,2,FALSE),"")
F37: =IF(H33<>"",VLOOKUP(H33,'Club Namen'!$B$3:$D$34,3,FALSE),"") | N37: Reguläre Spielzeit | P37: =IF(AND(J33<>"",V33<>""),J33+V33,"") | Q37: - | R37: =IF(AND(L33<>"",X33<>""),L33+X33,"") | AE37: =IF(Z33<>"",VLOOKUP(Z33,'Club Namen'!$B$3:$D$34,3,FALSE),"")
N38: Verlängerung | Q38: -
N39: Elfmeterschießen | Q39: -
C41: Hinspiel | R41: Rückspiel
D43: =D33 -> Spiel | E43: : | F43: 4 | H43: =IF(ISNA(VLOOKUP(F43,Gruppenphase!$V$96:$X$103,3,FALSE)),"",VLOOKUP(F43,Gruppenphase!$V$96:$X$103,3,FALSE)) | K43: - | N43: =Z43 | T43: =H43 | W43: - | Z43: =IF(ISNA(VLOOKUP(AE43,Gruppenphase!$V$86:$X$93,3,FALSE)),"",VLOOKUP(AE43,Gruppenphase!$V$86:$X$93,3,FALSE)) | AC43: =AC33 -> Spiel | AD43: : | AE43: =F43 -> 4
D44: =D34 -> Datum | E44: : | AC44: =AC34 -> Datum | AD44: :
D45: =D35 -> Zeit | E45: : | N45: Gesamtergebnis | O45: : | P45: =IF(AND(P46<>"",R46<>""),IF(P46>R46,N46&" win",IF(R46>P46,T46&" win",IF(AND(P46=R46,L43>V43),T46&" win on away goals",IF(AND(P46=R46,L43<V43),N46&" win on away goals","")))),"") | AC45: =AC35 -> Zeit | AD45: :
D46: =D36 -> Stadion | E46: : | F46: =IF(H43<>"",VLOOKUP(H43,'Club Namen'!$B$3:$C$34,2,FALSE),"") | M46: =IF(SUM(#REF!)=12,#REF!,"Group A Winner") -> #REF! | N46: =H43 | P46: =IF(P47="","",IF(AND(P47=R47,P47<>"",R47<>""),IF(AND(L43=V43,J43=X43),IF(AND(P48=R48,P48<>"",R48<>""),IF(AND(P49=R49,P49<>"",R49<>""),"",P47+P48+P49),P47+P48),P47),P47)) | Q46: - | R46: =IF(R47="","",IF(AND(P47=R47,P47<>"",R47<>""),IF(AND(L43=V43,J43=X43),IF(AND(P48=R48,P48<>"",R48<>""),IF(AND(P49=R49,P49<>"",R49<>""),"",R47+R48+R49),R47+R48),R47),R47)) | T46: =Z43 | AC46: =AC36 -> Stadion | AD46: : | AE46: =IF(Z43<>"",VLOOKUP(Z43,'Club Namen'!$B$3:$C$34,2,FALSE),"")
F47: =IF(H43<>"",VLOOKUP(H43,'Club Namen'!$B$3:$D$34,3,FALSE),"") | N47: Reguläre Spielzeit | P47: =IF(AND(J43<>"",V43<>""),J43+V43,"") | Q47: - | R47: =IF(AND(L43<>"",X43<>""),L43+X43,"") | AE47: =IF(Z43<>"",VLOOKUP(Z43,'Club Namen'!$B$3:$D$34,3,FALSE),"")
N48: Verlängerung | Q48: -
N49: Elfmeterschießen | Q49: -
C51: Hinspiel | R51: Rückspiel
D53: =D43 -> Spiel | E53: : | F53: 5 | H53: =IF(ISNA(VLOOKUP(F53,Gruppenphase!$V$96:$X$103,3,FALSE)),"",VLOOKUP(F53,Gruppenphase!$V$96:$X$103,3,FALSE)) | K53: - | N53: =Z53 | T53: =H53 | W53: - | Z53: =IF(ISNA(VLOOKUP(AE53,Gruppenphase!$V$86:$X$93,3,FALSE)),"",VLOOKUP(AE53,Gruppenphase!$V$86:$X$93,3,FALSE)) | AC53: =AC43 -> Spiel | AD53: : | AE53: =F53 -> 5
D54: =D44 -> Datum | E54: : | AC54: =AC44 -> Datum | AD54: :
D55: =D45 -> Zeit | E55: : | N55: Gesamtergebnis | O55: : | P55: =IF(AND(P56<>"",R56<>""),IF(P56>R56,N56&" win",IF(R56>P56,T56&" win",IF(AND(P56=R56,L53>V53),T56&" win on away goals",IF(AND(P56=R56,L53<V53),N56&" win on away goals","")))),"") | AC55: =AC45 -> Zeit | AD55: :
D56: =D46 -> Stadion | E56: : | F56: =IF(H53<>"",VLOOKUP(H53,'Club Namen'!$B$3:$C$34,2,FALSE),"") | M56: =IF(SUM(#REF!)=12,#REF!,"Group A Winner") -> #REF! | N56: =H53 | P56: =IF(P57="","",IF(AND(P57=R57,P57<>"",R57<>""),IF(AND(L53=V53,J53=X53),IF(AND(P58=R58,P58<>"",R58<>""),IF(AND(P59=R59,P59<>"",R59<>""),"",P57+P58+P59),P57+P58),P57),P57)) | Q56: - | R56: =IF(R57="","",IF(AND(P57=R57,P57<>"",R57<>""),IF(AND(L53=V53,J53=X53),IF(AND(P58=R58,P58<>"",R58<>""),IF(AND(P59=R59,P59<>"",R59<>""),"",R57+R58+R59),R57+R58),R57),R57)) | T56: =Z53 | AC56: =AC46 -> Stadion | AD56: : | AE56: =IF(Z53<>"",VLOOKUP(Z53,'Club Namen'!$B$3:$C$34,2,FALSE),"")
F57: =IF(H53<>"",VLOOKUP(H53,'Club Namen'!$B$3:$D$34,3,FALSE),"") | N57: Reguläre Spielzeit | P57: =IF(AND(J53<>"",V53<>""),J53+V53,"") | Q57: - | R57: =IF(AND(L53<>"",X53<>""),L53+X53,"") | AE57: =IF(Z53<>"",VLOOKUP(Z53,'Club Namen'!$B$3:$D$34,3,FALSE),"")
N58: Verlängerung | Q58: -
N59: Elfmeterschießen | Q59: -
C61: Hinspiel | R61: Rückspiel
D63: =D53 -> Spiel | E63: : | F63: 6 | H63: =IF(ISNA(VLOOKUP(F63,Gruppenphase!$V$96:$X$103,3,FALSE)),"",VLOOKUP(F63,Gruppenphase!$V$96:$X$103,3,FALSE)) | K63: - | N63: =Z63 | T63: =H63 | W63: - | Z63: =IF(ISNA(VLOOKUP(AE63,Gruppenphase!$V$86:$X$93,3,FALSE)),"",VLOOKUP(AE63,Gruppenphase!$V$86:$X$93,3,FALSE)) | AC63: =AC53 -> Spiel | AD63: : | AE63: =F63 -> 6
D64: =D54 -> Datum | E64: : | AC64: =AC54 -> Datum | AD64: :
D65: =D55 -> Zeit | E65: : | N65: Gesamtergebnis | O65: : | P65: =IF(AND(P66<>"",R66<>""),IF(P66>R66,N66&" win",IF(R66>P66,T66&" win",IF(AND(P66=R66,L63>V63),T66&" win on away goals",IF(AND(P66=R66,L63<V63),N66&" win on away goals","")))),"") | AC65: =AC55 -> Zeit | AD65: :
D66: =D56 -> Stadion | E66: : | F66: =IF(H63<>"",VLOOKUP(H63,'Club Namen'!$B$3:$C$34,2,FALSE),"") | M66: =IF(SUM(#REF!)=12,#REF!,"Group A Winner") -> #REF! | N66: =H63 | P66: =IF(P67="","",IF(AND(P67=R67,P67<>"",R67<>""),IF(AND(L63=V63,J63=X63),IF(AND(P68=R68,P68<>"",R68<>""),IF(AND(P69=R69,P69<>"",R69<>""),"",P67+P68+P69),P67+P68),P67),P67)) | Q66: - | R66: =IF(R67="","",IF(AND(P67=R67,P67<>"",R67<>""),IF(AND(L63=V63,J63=X63),IF(AND(P68=R68,P68<>"",R68<>""),IF(AND(P69=R69,P69<>"",R69<>""),"",R67+R68+R69),R67+R68),R67),R67)) | T66: =Z63 | AC66: =AC56 -> Stadion | AD66: : | AE66: =IF(Z63<>"",VLOOKUP(Z63,'Club Namen'!$B$3:$C$34,2,FALSE),"")
F67: =IF(H63<>"",VLOOKUP(H63,'Club Namen'!$B$3:$D$34,3,FALSE),"") | N67: Reguläre Spielzeit | P67: =IF(AND(J63<>"",V63<>""),J63+V63,"") | Q67: - | R67: =IF(AND(L63<>"",X63<>""),L63+X63,"") | AE67: =IF(Z63<>"",VLOOKUP(Z63,'Club Namen'!$B$3:$D$34,3,FALSE),"")
N68: Verlängerung | Q68: -
N69: Elfmeterschießen | Q69: -
C71: Hinspiel | R71: Rückspiel
D73: =D63 -> Spiel | E73: : | F73: 7 | H73: =IF(ISNA(VLOOKUP(F73,Gruppenphase!$V$96:$X$103,3,FALSE)),"",VLOOKUP(F73,Gruppenphase!$V$96:$X$103,3,FALSE)) | K73: - | N73: =Z73 | T73: =H73 | W73: - | Z73: =IF(ISNA(VLOOKUP(AE73,Gruppenphase!$V$86:$X$93,3,FALSE)),"",VLOOKUP(AE73,Gruppenphase!$V$86:$X$93,3,FALSE)) | AC73: =AC63 -> Spiel | AD73: : | AE73: =F73 -> 7
D74: =D64 -> Datum | E74: : | AC74: =AC64 -> Datum | AD74: :
D75: =D65 -> Zeit | E75: : | N75: Gesamtergebnis | O75: : | P75: =IF(AND(P76<>"",R76<>""),IF(P76>R76,N76&" win",IF(R76>P76,T76&" win",IF(AND(P76=R76,L73>V73),T76&" win on away goals",IF(AND(P76=R76,L73<V73),N76&" win on away goals","")))),"") | AC75: =AC65 -> Zeit | AD75: :
D76: =D66 -> Stadion | E76: : | F76: =IF(H73<>"",VLOOKUP(H73,'Club Namen'!$B$3:$C$34,2,FALSE),"") | M76: =IF(SUM(#REF!)=12,#REF!,"Group A Winner") -> #REF! | N76: =H73 | P76: =IF(P77="","",IF(AND(P77=R77,P77<>"",R77<>""),IF(AND(L73=V73,J73=X73),IF(AND(P78=R78,P78<>"",R78<>""),IF(AND(P79=R79,P79<>"",R79<>""),"",P77+P78+P79),P77+P78),P77),P77)) | Q76: - | R76: =IF(R77="","",IF(AND(P77=R77,P77<>"",R77<>""),IF(AND(L73=V73,J73=X73),IF(AND(P78=R78,P78<>"",R78<>""),IF(AND(P79=R79,P79<>"",R79<>""),"",R77+R78+R79),R77+R78),R77),R77)) | T76: =Z73 | AC76: =AC66 -> Stadion | AD76: : | AE76: =IF(Z73<>"",VLOOKUP(Z73,'Club Namen'!$B$3:$C$34,2,FALSE),"")
F77: =IF(H73<>"",VLOOKUP(H73,'Club Namen'!$B$3:$D$34,3,FALSE),"") | N77: Reguläre Spielzeit | P77: =IF(AND(J73<>"",V73<>""),J73+V73,"") | Q77: - | R77: =IF(AND(L73<>"",X73<>""),L73+X73,"") | AE77: =IF(Z73<>"",VLOOKUP(Z73,'Club Namen'!$B$3:$D$34,3,FALSE),"")
N78: Verlängerung | Q78: -
N79: Elfmeterschießen | Q79: -
C81: Hinspiel | R81: Rückspiel
D83: =D73 -> Spiel | E83: : | F83: 8 | H83: =IF(ISNA(VLOOKUP(F83,Gruppenphase!$V$96:$X$103,3,FALSE)),"",VLOOKUP(F83,Gruppenphase!$V$96:$X$103,3,FALSE)) | K83: - | N83: =Z83 | T83: =H83 | W83: - | Z83: =IF(ISNA(VLOOKUP(AE83,Gruppenphase!$V$86:$X$93,3,FALSE)),"",VLOOKUP(AE83,Gruppenphase!$V$86:$X$93,3,FALSE)) | AC83: =AC73 -> Spiel | AD83: : | AE83: =F83 -> 8
D84: =D74 -> Datum | E84: : | AC84: =AC74 -> Datum | AD84: :
D85: =D75 -> Zeit | E85: : | N85: Gesamtergebnis | O85: : | P85: =IF(AND(P86<>"",R86<>""),IF(P86>R86,N86&" win",IF(R86>P86,T86&" win",IF(AND(P86=R86,L83>V83),T86&" win on away goals",IF(AND(P86=R86,L83<V83),N86&" win on away goals","")))),"") | AC85: =AC75 -> Zeit | AD85: :
D86: =D76 -> Stadion | E86: : | F86: =IF(H83<>"",VLOOKUP(H83,'Club Namen'!$B$3:$C$34,2,FALSE),"") | M86: =IF(SUM(#REF!)=12,#REF!,"Group A Winner") -> #REF! | N86: =H83 | P86: =IF(P87="","",IF(AND(P87=R87,P87<>"",R87<>""),IF(AND(L83=V83,J83=X83),IF(AND(P88=R88,P88<>"",R88<>""),IF(AND(P89=R89,P89<>"",R89<>""),"",P87+P88+P89),P87+P88),P87),P87)) | Q86: - | R86: =IF(R87="","",IF(AND(P87=R87,P87<>"",R87<>""),IF(AND(L83=V83,J83=X83),IF(AND(P88=R88,P88<>"",R88<>""),IF(AND(P89=R89,P89<>"",R89<>""),"",R87+R88+R89),R87+R88),R87),R87)) | T86: =Z83 | AC86: =AC76 -> Stadion | AD86: : | AE86: =IF(Z83<>"",VLOOKUP(Z83,'Club Namen'!$B$3:$C$34,2,FALSE),"")
F87: =IF(H83<>"",VLOOKUP(H83,'Club Namen'!$B$3:$D$34,3,FALSE),"") | N87: Reguläre Spielzeit | P87: =IF(AND(J83<>"",V83<>""),J83+V83,"") | Q87: - | R87: =IF(AND(L83<>"",X83<>""),L83+X83,"") | AE87: =IF(Z83<>"",VLOOKUP(Z83,'Club Namen'!$B$3:$D$34,3,FALSE),"")
N88: Verlängerung | Q88: -
N89: Elfmeterschießen | Q89: -
Q91: Auslosung : 16. März. 2012
H93: Heim - Hinspiel | N93: Gast - Hinspiel | T93: Heim - Hinspiel | Z93: Gast - Hinspiel
E94: Viertelfinale 1 | K94: vs
E95: Viertelfinale 2 | K95: vs | T95: Sieger Spiel Viertelfinale 1 | X95: vs | Z95: Sieger Spiel Viertelfinale 2
E96: Viertelfinale 3 | K96: vs | T96: Sieger Spiel Viertelfinale 3 | X96: vs | Z96: Sieger Spiel Viertelfinale 4
E97: Viertelfinale 4 | K97: vs
E99: Sieger Spiel Achtelfinale 1 | H99: =IF(P16>R16,N16,IF(R16>P16,T16,IF(AND(P16=R16,L13>V13),T16,IF(AND(P16=R16,L13<V13),N16,"")))) | T99: Sieger Spiel Viertelfinale 1 | W99: =IF(P115<>"",IF(P116>R116,N116,IF(R116>P116,T116,IF(AND(P116=R116,L113>V113),T116,IF(AND(P116=R116,L113<V113),N116,"")))),"")
E100: Sieger Spiel Achtelfinale 2 | H100: =IF(P26>R26,N26,IF(R26>P26,T26,IF(AND(P26=R26,L23>V23),T26,IF(AND(P26=R26,L23<V23),N26,"")))) | T100: Sieger Spiel Viertelfinale 2 | W100: =IF(P125<>"",IF(P126>R126,N126,IF(R126>P126,T126,IF(AND(P126=R126,L123>V123),T126,IF(AND(P126=R126,L123<V123),N126,"")))),"")
E101: Sieger Spiel Achtelfinale 3 | H101: =IF(P36>R36,N36,IF(R36>P36,T36,IF(AND(P36=R36,L33>V33),T36,IF(AND(P36=R36,L33<V33),N36,"")))) | T101: Sieger Spiel Viertelfinale 3 | W101: =IF(P135<>"",IF(P136>R136,N136,IF(R136>P136,T136,IF(AND(P136=R136,L133>V133),T136,IF(AND(P136=R136,L133<V133),N136,"")))),"")
E102: Sieger Spiel Achtelfinale 4 | H102: =IF(P46>R46,N46,IF(R46>P46,T46,IF(AND(P46=R46,L43>V43),T46,IF(AND(P46=R46,L43<V43),N46,"")))) | T102: Sieger Spiel Viertelfinale 4 | W102: =IF(P145<>"",IF(P146>R146,N146,IF(R146>P146,T146,IF(AND(P146=R146,L143>V143),T146,IF(AND(P146=R146,L143<V143),N146,"")))),"")
E103: Sieger Spiel Achtelfinale 5 | H103: =IF(P56>R56,N56,IF(R56>P56,T56,IF(AND(P56=R56,L53>V53),T56,IF(AND(P56=R56,L53<V53),N56,""))))
E104: Sieger Spiel Achtelfinale 6 | H104: =IF(P66>R66,N66,IF(R66>P66,T66,IF(AND(P66=R66,L63>V63),T66,IF(AND(P66=R66,L63<V63),N66,""))))
E105: Sieger Spiel Achtelfinale 7 | H105: =IF(P76>R76,N76,IF(R76>P76,T76,IF(AND(P76=R76,L73>V73),T76,IF(AND(P76=R76,L73<V73),N76,""))))
E106: Sieger Spiel Achtelfinale 8 | H106: =IF(P86>R86,N86,IF(R86>P86,T86,IF(AND(P86=R86,L83>V83),T86,IF(AND(P86=R86,L83<V83),N86,""))))
B109: Viertelfinale
C111: Hinspiel | R111: Rückspiel
D113: Viertelfinale 1 | H113: =IF(H94<>"",H94,"") | K113: - | N113: =Z113 | T113: =H113 | W113: - | Z113: =IF(N94<>"",N94,"") | AC113: =D113 -> Viertelfinale 1
D114: =D84 -> Datum | E114: : | AC114: =D114 -> Datum | AD114: :
D115: =D85 -> Zeit | E115: : | N115: Gesamtergebnis | O115: : | P115: =IF(AND(P116<>"",R116<>""),IF(P116>R116,N116&" win",IF(R116>P116,T116&" win",IF(AND(P116=R116,L113>V113),T116&" win on away goals",IF(AND(P116=R116,L113<V113),N116&" win on away goals","")))),"") | AC115: =D115 -> Zeit | AD115: :
D116: =D86 -> Stadion | E116: : | F116: =IF(H113<>"",VLOOKUP(H113,'Club Namen'!$B$3:$C$34,2,FALSE),"") | M116: =IF(SUM(#REF!)=12,#REF!,"Group A Winner") -> #REF! | N116: =H113 | P116: =IF(P117="","",IF(AND(P117=R117,P117<>"",R117<>""),IF(AND(L113=V113,J113=X113),IF(AND(P118=R118,P118<>"",R118<>""),IF(AND(P119=R119,P119<>"",R119<>""),"",P117+P118+P119),P117+P118),P117),P117)) | Q116: - | R116: =IF(R117="","",IF(AND(P117=R117,P117<>"",R117<>""),IF(AND(L113=V113,J113=X113),IF(AND(P118=R118,P118<>"",R118<>""),IF(AND(P119=R119,P119<>"",R119<>""),"",R117+R118+R119),R117+R118),R117),R117)) | T116: =Z113 | AC116: =D116 -> Stadion | AD116: : | AE116: =IF(Z113<>"",VLOOKUP(Z113,'Club Namen'!$B$3:$C$34,2,FALSE),"")
F117: =IF(H113<>"",VLOOKUP(H113,'Club Namen'!$B$3:$D$34,3,FALSE),"") | N117: Reguläre Spielzeit | P117: =IF(AND(J113<>"",V113<>""),J113+V113,"") | Q117: - | R117: =IF(AND(L113<>"",X113<>""),L113+X113,"") | AE117: =IF(Z113<>"",VLOOKUP(Z113,'Club Namen'!$B$3:$D$34,3,FALSE),"")
N118: Verlängerung | Q118: -
N119: Elfmeterschießen | Q119: -
C121: Hinspiel | R121: Rückspiel
D123: Viertelfinale 2 | H123: =IF(H95<>"",H95,"") | K123: - | N123: =Z123 | T123: =H123 | W123: - | Z123: =IF(N95<>"",N95,"") | AC123: =D123 -> Viertelfinale 2
D124: =D114 -> Datum | E124: : | AC124: =AC114 -> Datum | AD124: :
D125: =D115 -> Zeit | E125: : | N125: Gesamtergebnis | O125: : | P125: =IF(AND(P126<>"",R126<>""),IF(P126>R126,N126&" win",IF(R126>P126,T126&" win",IF(AND(P126=R126,L123>V123),T126&" win on away goals",IF(AND(P126=R126,L123<V123),N126&" win on away goals","")))),"") | AC125: =AC115 -> Zeit | AD125: :
D126: =D116 -> Stadion | E126: : | F126: =IF(H123<>"",VLOOKUP(H123,'Club Namen'!$B$3:$C$34,2,FALSE),"") | M126: =IF(SUM(#REF!)=12,#REF!,"Group A Winner") -> #REF! | N126: =H123 | P126: =IF(P127="","",IF(AND(P127=R127,P127<>"",R127<>""),IF(AND(L123=V123,J123=X123),IF(AND(P128=R128,P128<>"",R128<>""),IF(AND(P129=R129,P129<>"",R129<>""),"",P127+P128+P129),P127+P128),P127),P127)) | Q126: - | R126: =IF(R127="","",IF(AND(P127=R127,P127<>"",R127<>""),IF(AND(L123=V123,J123=X123),IF(AND(P128=R128,P128<>"",R128<>""),IF(AND(P129=R129,P129<>"",R129<>""),"",R127+R128+R129),R127+R128),R127),R127)) | T126: =Z123 | AC126: =AC116 -> Stadion | AD126: : | AE126: =IF(Z123<>"",VLOOKUP(Z123,'Club Namen'!$B$3:$C$34,2,FALSE),"")
F127: =IF(H123<>"",VLOOKUP(H123,'Club Namen'!$B$3:$D$34,3,FALSE),"") | N127: Reguläre Spielzeit | P127: =IF(AND(J123<>"",V123<>""),J123+V123,"") | Q127: - | R127: =IF(AND(L123<>"",X123<>""),L123+X123,"") | AE127: =IF(Z123<>"",VLOOKUP(Z123,'Club Namen'!$B$3:$D$34,3,FALSE),"")
N128: Verlängerung | Q128: -
N129: Elfmeterschießen | Q129: -
C131: Hinspiel | R131: Rückspiel
...

Sheet Dummy Table
A4: =Y4+Z4+AA4+AB4 -> 1 | B4: ='Club Namen'!B3 -> Bayern München | C4: =SUMPRODUCT((Gruppenphase!$I$13:$I$108<>"")*(Gruppenphase!$K$13:$K$108<>"")*(Gruppenphase!$G$13:$G$108='Dummy Table'!$B4)*(Gruppenphase!$I$13:$I$108>Gruppenphase!$K$13:$K$108)) -> 0 | D4: =SUMPRODUCT((Gruppenphase!$I$13:$I$108<>"")*(Gruppenphase!$K$13:$K$108<>"")*(Gruppenphase!$G$13:$G$108='Dummy Table'!$B4)*(Gruppenphase!$I$13:$I$108=Gruppenphase!$K$13:$K$108)) -> 0 | E4: =SUMPRODUCT((Gruppenphase!$I$13:$I$108<>"")*(Gruppenphase!$K$13:$K$108<>"")*(Gruppenphase!$G$13:$G$108='Dummy Table'!$B4)*(Gruppenphase!$I$13:$I$108<Gruppenphase!$K$13:$K$108)) -> 0 | F4: =SUMIF(Gruppenphase!$G$13:$G$108,'Dummy Table'!$B4,Gruppenphase!$I$13:$I$108) -> 0 | G4: =SUMIF(Gruppenphase!$G$13:$G$108,'Dummy Table'!$B4,Gruppenphase!$K$13:$K$108) -> 0 | H4: =F4-G4 -> 0 | I4: =C4*3+D4*1 -> 0 | J4: =SUMPRODUCT((Gruppenphase!$I$13:$I$108<>"")*(Gruppenphase!$K$13:$K$108<>"")*(Gruppenphase!$M$13:$M$108='Dummy Table'!$B4)*(Gruppenphase!$I$13:$I$108<Gruppenphase!$K$13:$K$108)) -> 0 | K4: =SUMPRODUCT((Gruppenphase!$I$13:$I$108<>"")*(Gruppenphase!$K$13:$K$108<>"")*(Gruppenphase!$M$13:$M$108='Dummy Table'!$B4)*(Gruppenphase!$I$13:$I$108=Gruppenphase!$K$13:$K$108)) -> 0 | L4: =SUMPRODUCT((Gruppenphase!$I$13:$I$108<>"")*(Gruppenphase!$K$13:$K$108<>"")*(Gruppenphase!$M$13:$M$108='Dummy Table'!$B4)*(Gruppenphase!$I$13:$I$108>Gruppenphase!$K$13:$K$108)) -> 0 | M4: =SUMIF(Gruppenphase!$M$13:$M$108,'Dummy Table'!$B4,Gruppenphase!$K$13:$K$108) -> 0 | N4: =SUMIF(Gruppenphase!$M$13:$M$108,'Dummy Table'!$B4,Gruppenphase!$I$13:$I$108) -> 0 | O4: =M4-N4 -> 0 | P4: =J4*3+K4*1 -> 0 | Q4: =C4+J4 -> 0 | R4: =D4+K4 -> 0 | S4: =E4+L4 -> 0 | T4: =F4+M4 -> 0 | U4: =G4+N4 -> 0 | V4: =H4+O4 -> 0 | W4: =I4+P4 -> 0 | X4: 98 | Y4: =RANK(W4,W$4:W$7) -> 1 | Z4: =SUMPRODUCT((W$4:W$7=W4)*(V$4:V$7>V4)) -> 0 | AA4: =SUMPRODUCT((Y$4:Y$7=Y4)*(Z$4:Z$7=Z4)*(T$4:T$7>T4)) -> 0 | AB4: =SUMPRODUCT((Y$4:Y$7=Y4)*(Z$4:Z$7=Z4)*(T$4:T$7=T4)*(X$4:X$7>X4)) -> 0 | AC4: 1 | AD4: =VLOOKUP(AC4,$A$4:$B$7,2,FALSE) -> Bayern München | AE4: =VLOOKUP($AD4,$B$4:$W$7,22,FALSE) -> 0 | AF4: =IF(AE4=AE5,AD4,"") -> Bayern München | AG4: =SUMPRODUCT(($BK$4:$BK$99='Dummy Table'!$AF4)*($BL$4:$BL$99>$BM$4:$BM$99)) -> 0 | AH4: =SUMPRODUCT(($BK$4:$BK$99='Dummy Table'!$AF4)*($BL$4:$BL$99=$BM$4:$BM$99)) -> 0 | AI4: =SUMPRODUCT(($BK$4:$BK$99='Dummy Table'!$AF4)*($BL$4:$BL$99<$BM$4:$BM$99)) -> 0 | AJ4: =SUMIF($BK$4:$BK$99,'Dummy Table'!$AF4,$BL$4:$BL$99) -> 0 | AK4: =SUMIF($BK$4:$BK$99,'Dummy Table'!$AF4,$BM$4:$BM$99) -> 0 | AL4: =AJ4-AK4 -> 0 | AM4: =IF(AF4<>"",AG4*3+AH4*1,"") -> 0 | AN4: =SUMPRODUCT(($BN$4:$BN$99='Dummy Table'!$AF4)*($BL$4:$BL$99<$BM$4:$BM$99)) -> 0 | AO4: =SUMPRODUCT(($BN$4:$BN$99='Dummy Table'!$AF4)*($BL$4:$BL$99=$BM$4:$BM$99)) -> 0 | AP4: =SUMPRODUCT(($BN$4:$BN$99='Dummy Table'!$AF4)*($BL$4:$BL$99>$BM$4:$BM$99)) -> 0 | AQ4: =SUMIF($BN$4:$BN$99,'Dummy Table'!$AF4,$BM$4:$BM$99) -> 0 | AR4: =SUMIF($BN$4:$BN$99,'Dummy Table'!$AF4,$BL$4:$BL$99) -> 0 | AS4: =AQ4-AR4 -> 0 | AT4: =IF(AF4<>"",AN4*3+AO4*1,"") -> 0 | AU4: =AG4+AN4 -> 0 | AV4: =AH4+AO4 -> 0 | AW4: =AI4+AP4 -> 0 | AX4: =AJ4+AQ4 -> 0 | AY4: =AK4+AR4 -> 0 | AZ4: =AL4+AS4 -> 0 | BA4: =IF(AF4<>"",AM4+AT4,-1) -> 0 | BB4: =IF(AF4<>"",VLOOKUP(AF4,$B$4:$V$35,21,FALSE),"") -> 0 | BC4: =IF(AF4<>"",VLOOKUP(AF4,$B$4:$T$35,19,FALSE),"") -> 0 | BD4: =IF(AF4<>"",VLOOKUP(AF4,$B$4:$X$35,23,FALSE),"") -> 98 | BE4: =RANK(BA4,BA$4:BA$7) -> 1 | BF4: =SUMPRODUCT((BA$4:BA$7=BA4)*(AZ$4:AZ$7>AZ4)) -> 0 | BG4: =SUMPRODUCT((BA$4:BA$7=BA4)*(BE$4:BE$7=BE4)*(AZ$4:AZ$7=AZ4)*(AQ$4:AQ$7>AQ4)) -> 0 | BH4: =SUMPRODUCT((BA$4:BA$7=BA4)*(BE$4:BE$7=BE4)*(AZ$4:AZ$7=AZ4)*(AQ$4:AQ$7=AQ4)*(BB$4:BB$7>BB4)) -> 0 | BI4: =SUMPRODUCT((BA$4:BA$7=BA4)*(BE$4:BE$7=BE4)*(AZ$4:AZ$7=AZ4)*(AQ$4:AQ$7=AQ4)*(BB$4:BB$7=BB4)*(BC$4:BC$7>BC4)) -> 0 | BJ4: =SUMPRODUCT((BA$4:BA$7=BA4)*(BE$4:BE$7=BE4)*(AZ$4:AZ$7=AZ4)*(AQ$4:AQ$7=AQ4)*(BB$4:BB$7=BB4)*(BC$4:BC$7=BC4)*(BD$4:BD$7>BD4)) -> 0 | BK4: =IF(AND(COUNTIF($AF$4:$AF$35,Gruppenphase!G13)>0,COUNTIF($AF$4:$AF$35,Gruppenphase!M13)>0,Gruppenphase!I13<>"",Gruppenphase!K13<>""),Gruppenphase!G13,"") | BL4: =IF($BK4<>"",Gruppenphase!$I13,"") | BM4: =IF($BK4<>"",Gruppenphase!$K13,"") | BN4: =IF($BK4<>"",Gruppenphase!$M13,"") | BO4: =IF(AF4="","",SUM(BE4:BJ4)) -> 1 | BP4: =IF(AF4="","",AF4) -> Bayern München | BQ4: =VLOOKUP($AD4,$B$4:$W$7,22,FALSE) -> 0 | BS4: =SUMPRODUCT(($BK$4:$BK$99='Dummy Table'!$AF4)*($BL$4:$BL$99>$BM$4:$BM$99)) -> 0 | BT4: =SUMPRODUCT(($BK$4:$BK$99='Dummy Table'!$AF4)*($BL$4:$BL$99=$BM$4:$BM$99)) -> 0 | BU4: =SUMPRODUCT(($BK$4:$BK$99='Dummy Table'!$AF4)*($BL$4:$BL$99<$BM$4:$BM$99)) -> 0 | BV4: =SUMIF($BK$4:$BK$99,'Dummy Table'!$AF4,$BL$4:$BL$99) -> 0 | BW4: =SUMIF($BK$4:$BK$99,'Dummy Table'!$AF4,$BM$4:$BM$99) -> 0 | BX4: =BV4-BW4 -> 0 | BY4: =IF(BR4<>"",BS4*3+BT4*1,"") | BZ4: =SUMPRODUCT(($BN$4:$BN$99='Dummy Table'!$AF4)*($BL$4:$BL$99<$BM$4:$BM$99)) -> 0 | CA4: =SUMPRODUCT(($BN$4:$BN$99='Dummy Table'!$AF4)*($BL$4:$BL$99=$BM$4:$BM$99)) -> 0 | CB4: =SUMPRODUCT(($BN$4:$BN$99='Dummy Table'!$AF4)*($BL$4:$BL$99>$BM$4:$BM$99)) -> 0 | CC4: =SUMIF($BN$4:$BN$99,'Dummy Table'!$AF4,$BM$4:$BM$99) -> 0 | CD4: =SUMIF($BN$4:$BN$99,'Dummy Table'!$AF4,$BL$4:$BL$99) -> 0 | CE4: =CC4-CD4 -> 0 | CF4: =IF(BR4<>"",BZ4*3+CA4*1,"") | CG4: =BS4+BZ4 -> 0 | CH4: =BT4+CA4 -> 0 | CI4: =BU4+CB4 -> 0 | CJ4: =BV4+CC4 -> 0 | CK4: =BW4+CD4 -> 0 | CL4: =BX4+CE4 -> 0 | CM4: =IF(BR4<>"",BY4+CF4,-1) -> -1 | CN4: 1 | CO4: =RANK(CM4,CM$4:CM$7) -> 1 | CP4: =SUMPRODUCT((CM$4:CM$7=CM4)*(CO$4:CO$7=CO4)*(CC$4:CC$7>CC4)) -> 0 | CQ4: =SUMPRODUCT((CM$4:CM$7=CM4)*(CL$4:CL$7>CL4)) -> 0 | CR4: =SUMPRODUCT((CO$4:CO$7=CO4)*(CQ$4:CQ$7=CQ4)*(CJ$4:CJ$7>CJ4)) -> 0 | CS4: =SUMPRODUCT((CO$4:CO$7=CO4)*(CQ$4:CQ$7=CQ4)*(CJ$4:CJ$7=CJ4)*(CN$4:CN$7>CN4)) -> 3 | CT4: =IF(AND(COUNTIF($AF$4:$AF$35,Gruppenphase!$G13)>0,COUNTIF($AF$4:$AF$35,Gruppenphase!$M13)>0),Gruppenphase!$G13,"") -> Genk | CU4: =IF($BK4<>"",Gruppenphase!$I13,"") | CV4: =IF($BK4<>"",Gruppenphase!$K13,"") | CW4: =IF($BK4<>"",Gruppenphase!$M13,"") | CX4: =IF(BR4="","",SUM(CO4:CS4)) | CY4: =IF(BR4="","",BR4) | CZ4: 1 | DA4: =IF(AF4="",AD4,"") | DB4: =IF(DA4="",CZ4,"") -> 1 | DC4: =VLOOKUP(DB4,$BO$4:$BP$7,2,FALSE) -> Bayern München | DD4: 1 | DE4: =IF(DA4="",DC4,DA4) -> Bayern München
A5: =Y5+Z5+AA5+AB5 -> 2 | B5: ='Club Namen'!B4 -> Villarreal | C5: =SUMPRODUCT((Gruppenphase!$I$13:$I$108<>"")*(Gruppenphase!$K$13:$K$108<>"")*(Gruppenphase!$G$13:$G$108='Dummy Table'!$B5)*(Gruppenphase!$I$13:$I$108>Gruppenphase!$K$13:$K$108)) -> 0 | D5: =SUMPRODUCT((Gruppenphase!$I$13:$I$108<>"")*(Gruppenphase!$K$13:$K$108<>"")*(Gruppenphase!$G$13:$G$108='Dummy Table'!$B5)*(Gruppenphase!$I$13:$I$108=Gruppenphase!$K$13:$K$108)) -> 0 | E5: =SUMPRODUCT((Gruppenphase!$I$13:$I$108<>"")*(Gruppenphase!$K$13:$K$108<>"")*(Gruppenphase!$G$13:$G$108='Dummy Table'!$B5)*(Gruppenphase!$I$13:$I$108<Gruppenphase!$K$13:$K$108)) -> 0 | F5: =SUMIF(Gruppenphase!$G$13:$G$108,'Dummy Table'!$B5,Gruppenphase!$I$13:$I$108) -> 0 | G5: =SUMIF(Gruppenphase!$G$13:$G$108,'Dummy Table'!$B5,Gruppenphase!$K$13:$K$108) -> 0 | H5: =F5-G5 -> 0 | I5: =C5*3+D5*1 -> 0 | J5: =SUMPRODUCT((Gruppenphase!$I$13:$I$108<>"")*(Gruppenphase!$K$13:$K$108<>"")*(Gruppenphase!$M$13:$M$108='Dummy Table'!$B5)*(Gruppenphase!$I$13:$I$108<Gruppenphase!$K$13:$K$108)) -> 0 | K5: =SUMPRODUCT((Gruppenphase!$I$13:$I$108<>"")*(Gruppenphase!$K$13:$K$108<>"")*(Gruppenphase!$M$13:$M$108='Dummy Table'!$B5)*(Gruppenphase!$I$13:$I$108=Gruppenphase!$K$13:$K$108)) -> 0 | L5: =SUMPRODUCT((Gruppenphase!$I$13:$I$108<>"")*(Gruppenphase!$K$13:$K$108<>"")*(Gruppenphase!$M$13:$M$108='Dummy Table'!$B5)*(Gruppenphase!$I$13:$I$108>Gruppenphase!$K$13:$K$108)) -> 0 | M5: =SUMIF(Gruppenphase!$M$13:$M$108,'Dummy Table'!$B5,Gruppenphase!$K$13:$K$108) -> 0 | N5: =SUMIF(Gruppenphase!$M$13:$M$108,'Dummy Table'!$B5,Gruppenphase!$I$13:$I$108) -> 0 | O5: =M5-N5 -> 0 | P5: =J5*3+K5*1 -> 0 | Q5: =C5+J5 -> 0 | R5: =D5+K5 -> 0 | S5: =E5+L5 -> 0 | T5: =F5+M5 -> 0 | U5: =G5+N5 -> 0 | V5: =H5+O5 -> 0 | W5: =I5+P5 -> 0 | X5: 63 | Y5: =RANK(W5,W$4:W$7) -> 1 | Z5: =SUMPRODUCT((W$4:W$7=W5)*(V$4:V$7>V5)) -> 0 | AA5: =SUMPRODUCT((Y$4:Y$7=Y5)*(Z$4:Z$7=Z5)*(T$4:T$7>T5)) -> 0 | AB5: =SUMPRODUCT((Y$4:Y$7=Y5)*(Z$4:Z$7=Z5)*(T$4:T$7=T5)*(X$4:X$7>X5)) -> 1 | AC5: 2 | AD5: =VLOOKUP(AC5,$A$4:$B$7,2,FALSE) -> Villarreal | AE5: =VLOOKUP($AD5,$B$4:$W$7,22,FALSE) -> 0 | AF5: =IF(OR(AE5=AE4,AE5=AE6),AD5,"") -> Villarreal | AG5: =SUMPRODUCT(($BK$4:$BK$99='Dummy Table'!$AF5)*($BL$4:$BL$99>$BM$4:$BM$99)) -> 0 | AH5: =SUMPRODUCT(($BK$4:$BK$99='Dummy Table'!$AF5)*($BL$4:$BL$99=$BM$4:$BM$99)) -> 0 | AI5: =SUMPRODUCT(($BK$4:$BK$99='Dummy Table'!$AF5)*($BL$4:$BL$99<$BM$4:$BM$99)) -> 0 | AJ5: =SUMIF($BK$4:$BK$99,'Dummy Table'!$AF5,$BL$4:$BL$99) -> 0 | AK5: =SUMIF($BK$4:$BK$99,'Dummy Table'!$AF5,$BM$4:$BM$99) -> 0 | AL5: =AJ5-AK5 -> 0 | AM5: =IF(AF5<>"",AG5*3+AH5*1,"") -> 0 | AN5: =SUMPRODUCT(($BN$4:$BN$99='Dummy Table'!$AF5)*($BL$4:$BL$99<$BM$4:$BM$99)) -> 0 | AO5: =SUMPRODUCT(($BN$4:$BN$99='Dummy Table'!$AF5)*($BL$4:$BL$99=$BM$4:$BM$99)) -> 0 | AP5: =SUMPRODUCT(($BN$4:$BN$99='Dummy Table'!$AF5)*($BL$4:$BL$99>$BM$4:$BM$99)) -> 0 | AQ5: =SUMIF($BN$4:$BN$99,'Dummy Table'!$AF5,$BM$4:$BM$99) -> 0 | AR5: =SUMIF($BN$4:$BN$99,'Dummy Table'!$AF5,$BL$4:$BL$99) -> 0 | AS5: =AQ5-AR5 -> 0 | AT5: =IF(AF5<>"",AN5*3+AO5*1,"") -> 0 | AU5: =AG5+AN5 -> 0 | AV5: =AH5+AO5 -> 0 | AW5: =AI5+AP5 -> 0 | AX5: =AJ5+AQ5 -> 0 | AY5: =AK5+AR5 -> 0 | AZ5: =AL5+AS5 -> 0 | BA5: =IF(AF5<>"",AM5+AT5,-1) -> 0 | BB5: =IF(AF5<>"",VLOOKUP(AF5,$B$4:$V$35,21,FALSE),"") -> 0 | BC5: =IF(AF5<>"",VLOOKUP(AF5,$B$4:$T$35,19,FALSE),"") -> 0 | BD5: =IF(AF5<>"",VLOOKUP(AF5,$B$4:$X$35,23,FALSE),"") -> 63 | BE5: =RANK(BA5,BA$4:BA$7) -> 1 | BF5: =SUMPRODUCT((BA$4:BA$7=BA5)*(AZ$4:AZ$7>AZ5)) -> 0 | BG5: =SUMPRODUCT((BA$4:BA$7=BA5)*(BE$4:BE$7=BE5)*(AZ$4:AZ$7=AZ5)*(AQ$4:AQ$7>AQ5)) -> 0 | BH5: =SUMPRODUCT((BA$4:BA$7=BA5)*(BE$4:BE$7=BE5)*(AZ$4:AZ$7=AZ5)*(AQ$4:AQ$7=AQ5)*(BB$4:BB$7>BB5)) -> 0 | BI5: =SUMPRODUCT((BA$4:BA$7=BA5)*(BE$4:BE$7=BE5)*(AZ$4:AZ$7=AZ5)*(AQ$4:AQ$7=AQ5)*(BB$4:BB$7=BB5)*(BC$4:BC$7>BC5)) -> 0 | BJ5: =SUMPRODUCT((BA$4:BA$7=BA5)*(BE$4:BE$7=BE5)*(AZ$4:AZ$7=AZ5)*(AQ$4:AQ$7=AQ5)*(BB$4:BB$7=BB5)*(BC$4:BC$7=BC5)*(BD$4:BD$7>BD5)) -> 1 | BK5: =IF(AND(COUNTIF($AF$4:$AF$35,Gruppenphase!G14)>0,COUNTIF($AF$4:$AF$35,Gruppenphase!M14)>0,Gruppenphase!I14<>"",Gruppenphase!K14<>""),Gruppenphase!G14,"") | BL5: =IF($BK5<>"",Gruppenphase!I14,"") | BM5: =IF($BK5<>"",Gruppenphase!K14,"") | BN5: =IF($BK5<>"",Gruppenphase!M14,"") | BO5: =IF(AF5="","",SUM(BE5:BJ5)) -> 2 | BP5: =IF(AF5="","",AF5) -> Villarreal | BQ5: =VLOOKUP($AD5,$B$4:$W$7,22,FALSE) -> 0 | BS5: =SUMPRODUCT(($BK$4:$BK$99='Dummy Table'!$AF5)*($BL$4:$BL$99>$BM$4:$BM$99)) -> 0 | BT5: =SUMPRODUCT(($BK$4:$BK$99='Dummy Table'!$AF5)*($BL$4:$BL$99=$BM$4:$BM$99)) -> 0 | BU5: =SUMPRODUCT(($BK$4:$BK$99='Dummy Table'!$AF5)*($BL$4:$BL$99<$BM$4:$BM$99)) -> 0 | BV5: =SUMIF($BK$4:$BK$99,'Dummy Table'!$AF5,$BL$4:$BL$99) -> 0 | BW5: =SUMIF($BK$4:$BK$99,'Dummy Table'!$AF5,$BM$4:$BM$99) -> 0 | BX5: =BV5-BW5 -> 0 | BY5: =IF(BR5<>"",BS5*3+BT5*1,"") | BZ5: =SUMPRODUCT(($BN$4:$BN$99='Dummy Table'!$AF5)*($BL$4:$BL$99<$BM$4:$BM$99)) -> 0 | CA5: =SUMPRODUCT(($BN$4:$BN$99='Dummy Table'!$AF5)*($BL$4:$BL$99=$BM$4:$BM$99)) -> 0 | CB5: =SUMPRODUCT(($BN$4:$BN$99='Dummy Table'!$AF5)*($BL$4:$BL$99>$BM$4:$BM$99)) -> 0 | CC5: =SUMIF($BN$4:$BN$99,'Dummy Table'!$AF5,$BM$4:$BM$99) -> 0 | CD5: =SUMIF($BN$4:$BN$99,'Dummy Table'!$AF5,$BL$4:$BL$99) -> 0 | CE5: =CC5-CD5 -> 0 | CF5: =IF(BR5<>"",BZ5*3+CA5*1,"") | CG5: =BS5+BZ5 -> 0 | CH5: =BT5+CA5 -> 0 | CI5: =BU5+CB5 -> 0 | CJ5: =BV5+CC5 -> 0 | CK5: =BW5+CD5 -> 0 | CL5: =BX5+CE5 -> 0 | CM5: =IF(BR5<>"",BY5+CF5,-1) -> -1 | CN5: 2 | CO5: =RANK(CM5,CM$4:CM$7) -> 1 | CP5: =SUMPRODUCT((CM$4:CM$7=CM5)*(CO$4:CO$7=CO5)*(CC$4:CC$7>CC5)) -> 0 | CQ5: =SUMPRODUCT((CM$4:CM$7=CM5)*(CL$4:CL$7>CL5)) -> 0 | CR5: =SUMPRODUCT((CO$4:CO$7=CO5)*(CQ$4:CQ$7=CQ5)*(CJ$4:CJ$7>CJ5)) -> 0 | CS5: =SUMPRODUCT((CO$4:CO$7=CO5)*(CQ$4:CQ$7=CQ5)*(CJ$4:CJ$7=CJ5)*(CN$4:CN$7>CN5)) -> 2 | CT5: =IF(AND(COUNTIF($AF$4:$AF$35,Gruppenphase!$G14)>0,COUNTIF($AF$4:$AF$35,Gruppenphase!$M14)>0),Gruppenphase!$G14,"") -> Chelsea | CU5: =IF($BK5<>"",Gruppenphase!$I14,"") | CV5: =IF($BK5<>"",Gruppenphase!$K14,"") | CW5: =IF($BK5<>"",Gruppenphase!$M14,"") | CX5: =IF(BR5="","",SUM(CO5:CS5)) | CY5: =IF(BR5="","",BR5) | CZ5: 2 | DA5: =IF(AF5="",AD5,"") | DB5: =IF(AND(DA5="",DA4=""),CZ5,IF(AND(DA4<>"",DA5=""),1,"")) -> 2 | DC5: =VLOOKUP(DB5,$BO$4:$BP$7,2,FALSE) -> Villarreal | DD5: 2 | DE5: =IF(DA5="",DC5,DA5) -> Villarreal
A6: =Y6+Z6+AA6+AB6 -> 3 | B6: ='Club Namen'!B5 -> Manchester City | C6: =SUMPRODUCT((Gruppenphase!$I$13:$I$108<>"")*(Gruppenphase!$K$13:$K$108<>"")*(Gruppenphase!$G$13:$G$108='Dummy Table'!$B6)*(Gruppenphase!$I$13:$I$108>Gruppenphase!$K$13:$K$108)) -> 0 | D6: =SUMPRODUCT((Gruppenphase!$I$13:$I$108<>"")*(Gruppenphase!$K$13:$K$108<>"")*(Gruppenphase!$G$13:$G$108='Dummy Table'!$B6)*(Gruppenphase!$I$13:$I$108=Gruppenphase!$K$13:$K$108)) -> 0 | E6: =SUMPRODUCT((Gruppenphase!$I$13:$I$108<>"")*(Gruppenphase!$K$13:$K$108<>"")*(Gruppenphase!$G$13:$G$108='Dummy Table'!$B6)*(Gruppenphase!$I$13:$I$108<Gruppenphase!$K$13:$K$108)) -> 0 | F6: =SUMIF(Gruppenphase!$G$13:$G$108,'Dummy Table'!$B6,Gruppenphase!$I$13:$I$108) -> 0 | G6: =SUMIF(Gruppenphase!$G$13:$G$108,'Dummy Table'!$B6,Gruppenphase!$K$13:$K$108) -> 0 | H6: =F6-G6 -> 0 | I6: =C6*3+D6*1 -> 0 | J6: =SUMPRODUCT((Gruppenphase!$I$13:$I$108<>"")*(Gruppenphase!$K$13:$K$108<>"")*(Gruppenphase!$M$13:$M$108='Dummy Table'!$B6)*(Gruppenphase!$I$13:$I$108<Gruppenphase!$K$13:$K$108)) -> 0 | K6: =SUMPRODUCT((Gruppenphase!$I$13:$I$108<>"")*(Gruppenphase!$K$13:$K$108<>"")*(Gruppenphase!$M$13:$M$108='Dummy Table'!$B6)*(Gruppenphase!$I$13:$I$108=Gruppenphase!$K$13:$K$108)) -> 0 | L6: =SUMPRODUCT((Gruppenphase!$I$13:$I$108<>"")*(Gruppenphase!$K$13:$K$108<>"")*(Gruppenphase!$M$13:$M$108='Dummy Table'!$B6)*(Gruppenphase!$I$13:$I$108>Gruppenphase!$K$13:$K$108)) -> 0 | M6: =SUMIF(Gruppenphase!$M$13:$M$108,'Dummy Table'!$B6,Gruppenphase!$K$13:$K$108) -> 0 | N6: =SUMIF(Gruppenphase!$M$13:$M$108,'Dummy Table'!$B6,Gruppenphase!$I$13:$I$108) -> 0 | O6: =M6-N6 -> 0 | P6: =J6*3+K6*1 -> 0 | Q6: =C6+J6 -> 0 | R6: =D6+K6 -> 0 | S6: =E6+L6 -> 0 | T6: =F6+M6 -> 0 | U6: =G6+N6 -> 0 | V6: =H6+O6 -> 0 | W6: =I6+P6 -> 0 | X6: 40 | Y6: =RANK(W6,W$4:W$7) -> 1 | Z6: =SUMPRODUCT((W$4:W$7=W6)*(V$4:V$7>V6)) -> 0 | AA6: =SUMPRODUCT((Y$4:Y$7=Y6)*(Z$4:Z$7=Z6)*(T$4:T$7>T6)) -> 0 | AB6: =SUMPRODUCT((Y$4:Y$7=Y6)*(Z$4:Z$7=Z6)*(T$4:T$7=T6)*(X$4:X$7>X6)) -> 2 | AC6: 3 | AD6: =VLOOKUP(AC6,$A$4:$B$7,2,FALSE) -> Manchester City | AE6: =VLOOKUP($AD6,$B$4:$W$7,22,FALSE) -> 0 | AF6: =IF(AE6=AE5,AD6,"") -> Manchester City | AG6: =SUMPRODUCT(($BK$4:$BK$99='Dummy Table'!$AF6)*($BL$4:$BL$99>$BM$4:$BM$99)) -> 0 | AH6: =SUMPRODUCT(($BK$4:$BK$99='Dummy Table'!$AF6)*($BL$4:$BL$99=$BM$4:$BM$99)) -> 0 | AI6: =SUMPRODUCT(($BK$4:$BK$99='Dummy Table'!$AF6)*($BL$4:$BL$99<$BM$4:$BM$99)) -> 0 | AJ6: =SUMIF($BK$4:$BK$99,'Dummy Table'!$AF6,$BL$4:$BL$99) -> 0 | AK6: =SUMIF($BK$4:$BK$99,'Dummy Table'!$AF6,$BM$4:$BM$99) -> 0 | AL6: =AJ6-AK6 -> 0 | AM6: =IF(AF6<>"",AG6*3+AH6*1,"") -> 0 | AN6: =SUMPRODUCT(($BN$4:$BN$99='Dummy Table'!$AF6)*($BL$4:$BL$99<$BM$4:$BM$99)) -> 0 | AO6: =SUMPRODUCT(($BN$4:$BN$99='Dummy Table'!$AF6)*($BL$4:$BL$99=$BM$4:$BM$99)) -> 0 | AP6: =SUMPRODUCT(($BN$4:$BN$99='Dummy Table'!$AF6)*($BL$4:$BL$99>$BM$4:$BM$99)) -> 0 | AQ6: =SUMIF($BN$4:$BN$99,'Dummy Table'!$AF6,$BM$4:$BM$99) -> 0 | AR6: =SUMIF($BN$4:$BN$99,'Dummy Table'!$AF6,$BL$4:$BL$99) -> 0 | AS6: =AQ6-AR6 -> 0 | AT6: =IF(AF6<>"",AN6*3+AO6*1,"") -> 0 | AU6: =AG6+AN6 -> 0 | AV6: =AH6+AO6 -> 0 | AW6: =AI6+AP6 -> 0 | AX6: =AJ6+AQ6 -> 0 | AY6: =AK6+AR6 -> 0 | AZ6: =AL6+AS6 -> 0 | BA6: =IF(AF6<>"",AM6+AT6,-1) -> 0 | BB6: =IF(AF6<>"",VLOOKUP(AF6,$B$4:$V$35,21,FALSE),"") -> 0 | BC6: =IF(AF6<>"",VLOOKUP(AF6,$B$4:$T$35,19,FALSE),"") -> 0 | BD6: =IF(AF6<>"",VLOOKUP(AF6,$B$4:$X$35,23,FALSE),"") -> 40 | BE6: =RANK(BA6,BA$4:BA$7) -> 1 | BF6: =SUMPRODUCT((BA$4:BA$7=BA6)*(AZ$4:AZ$7>AZ6)) -> 0 | BG6: =SUMPRODUCT((BA$4:BA$7=BA6)*(BE$4:BE$7=BE6)*(AZ$4:AZ$7=AZ6)*(AQ$4:AQ$7>AQ6)) -> 0 | BH6: =SUMPRODUCT((BA$4:BA$7=BA6)*(BE$4:BE$7=BE6)*(AZ$4:AZ$7=AZ6)*(AQ$4:AQ$7=AQ6)*(BB$4:BB$7>BB6)) -> 0 | BI6: =SUMPRODUCT((BA$4:BA$7=BA6)*(BE$4:BE$7=BE6)*(AZ$4:AZ$7=AZ6)*(AQ$4:AQ$7=AQ6)*(BB$4:BB$7=BB6)*(BC$4:BC$7>BC6)) -> 0 | BJ6: =SUMPRODUCT((BA$4:BA$7=BA6)*(BE$4:BE$7=BE6)*(AZ$4:AZ$7=AZ6)*(AQ$4:AQ$7=AQ6)*(BB$4:BB$7=BB6)*(BC$4:BC$7=BC6)*(BD$4:BD$7>BD6)) -> 2 | BK6: =IF(AND(COUNTIF($AF$4:$AF$35,Gruppenphase!G15)>0,COUNTIF($AF$4:$AF$35,Gruppenphase!M15)>0,Gruppenphase!I15<>"",Gruppenphase!K15<>""),Gruppenphase!G15,"") | BL6: =IF($BK6<>"",Gruppenphase!I15,"") | BM6: =IF($BK6<>"",Gruppenphase!K15,"") | BN6: =IF($BK6<>"",Gruppenphase!M15,"") | BO6: =IF(AF6="","",SUM(BE6:BJ6)) -> 3 | BP6: =IF(AF6="","",AF6) -> Manchester City | BQ6: =VLOOKUP($AD6,$B$4:$W$7,22,FALSE) -> 0 | BR6: =IF(AND(BQ6<>BQ5,BQ6=BQ7),AD6,"") | BS6: =SUMPRODUCT(($BK$4:$BK$99='Dummy Table'!$AF6)*($BL$4:$BL$99>$BM$4:$BM$99)) -> 0 | BT6: =SUMPRODUCT(($BK$4:$BK$99='Dummy Table'!$AF6)*($BL$4:$BL$99=$BM$4:$BM$99)) -> 0 | BU6: =SUMPRODUCT(($BK$4:$BK$99='Dummy Table'!$AF6)*($BL$4:$BL$99<$BM$4:$BM$99)) -> 0 | BV6: =SUMIF($BK$4:$BK$99,'Dummy Table'!$AF6,$BL$4:$BL$99) -> 0 | BW6: =SUMIF($BK$4:$BK$99,'Dummy Table'!$AF6,$BM$4:$BM$99) -> 0 | BX6: =BV6-BW6 -> 0 | BY6: =IF(BR6<>"",BS6*3+BT6*1,"") | BZ6: =SUMPRODUCT(($BN$4:$BN$99='Dummy Table'!$AF6)*($BL$4:$BL$99<$BM$4:$BM$99)) -> 0 | CA6: =SUMPRODUCT(($BN$4:$BN$99='Dummy Table'!$AF6)*($BL$4:$BL$99=$BM$4:$BM$99)) -> 0 | CB6: =SUMPRODUCT(($BN$4:$BN$99='Dummy Table'!$AF6)*($BL$4:$BL$99>$BM$4:$BM$99)) -> 0 | CC6: =SUMIF($BN$4:$BN$99,'Dummy Table'!$AF6,$BM$4:$BM$99) -> 0 | CD6: =SUMIF($BN$4:$BN$99,'Dummy Table'!$AF6,$BL$4:$BL$99) -> 0 | CE6: =CC6-CD6 -> 0 | CF6: =IF(BR6<>"",BZ6*3+CA6*1,"") | CG6: =BS6+BZ6 -> 0 | CH6: =BT6+CA6 -> 0 | CI6: =BU6+CB6 -> 0 | CJ6: =BV6+CC6 -> 0 | CK6: =BW6+CD6 -> 0 | CL6: =BX6+CE6 -> 0 | CM6: =IF(BR6<>"",BY6+CF6,-1) -> -1 | CN6: 3 | CO6: =RANK(CM6,CM$4:CM$7) -> 1 | CP6: =SUMPRODUCT((CM$4:CM$7=CM6)*(CO$4:CO$7=CO6)*(CC$4:CC$7>CC6)) -> 0 | CQ6: =SUMPRODUCT((CM$4:CM$7=CM6)*(CL$4:CL$7>CL6)) -> 0 | CR6: =SUMPRODUCT((CO$4:CO$7=CO6)*(CQ$4:CQ$7=CQ6)*(CJ$4:CJ$7>CJ6)) -> 0 | CS6: =SUMPRODUCT((CO$4:CO$7=CO6)*(CQ$4:CQ$7=CQ6)*(CJ$4:CJ$7=CJ6)*(CN$4:CN$7>CN6)) -> 1 | CT6: =IF(AND(COUNTIF($AF$4:$AF$35,Gruppenphase!$G15)>0,COUNTIF($AF$4:$AF$35,Gruppenphase!$M15)>0),Gruppenphase!$G15,"") -> Olympiacos | CU6: =IF($BK6<>"",Gruppenphase!$I15,"") | CV6: =IF($BK6<>"",Gruppenphase!$K15,"") | CW6: =IF($BK6<>"",Gruppenphase!$M15,"") | CX6: =IF(BR6="","",SUM(CO6:CS6)) | CY6: =IF(BR6="","",BR6) | CZ6: 3 | DA6: =IF(AF6="",AD6,"") | DB6: =IF(AND(DA6="",DA5="",DA4=""),CZ6,IF(AND(DA4<>"",DA5="",DA6=""),2,IF(AND(DA4<>"",DA5<>"",DA6=""),1,""))) -> 3 | DC6: =VLOOKUP(DB6,$BO$4:$BP$7,2,FALSE) -> Manchester City | DD6: 3 | DE6: =IF(CY6<>"",IF(CX6<CX7,CY6,CY7),IF(DC6<>"",DC6,DA6)) -> Manchester City
A7: =Y7+Z7+AA7+AB7 -> 4 | B7: ='Club Namen'!B6 -> Napoli | C7: =SUMPRODUCT((Gruppenphase!$I$13:$I$108<>"")*(Gruppenphase!$K$13:$K$108<>"")*(Gruppenphase!$G$13:$G$108='Dummy Table'!$B7)*(Gruppenphase!$I$13:$I$108>Gruppenphase!$K$13:$K$108)) -> 0 | D7: =SUMPRODUCT((Gruppenphase!$I$13:$I$108<>"")*(Gruppenphase!$K$13:$K$108<>"")*(Gruppenphase!$G$13:$G$108='Dummy Table'!$B7)*(Gruppenphase!$I$13:$I$108=Gruppenphase!$K$13:$K$108)) -> 0 | E7: =SUMPRODUCT((Gruppenphase!$I$13:$I$108<>"")*(Gruppenphase!$K$13:$K$108<>"")*(Gruppenphase!$G$13:$G$108='Dummy Table'!$B7)*(Gruppenphase!$I$13:$I$108<Gruppenphase!$K$13:$K$108)) -> 0 | F7: =SUMIF(Gruppenphase!$G$13:$G$108,'Dummy Table'!$B7,Gruppenphase!$I$13:$I$108) -> 0 | G7: =SUMIF(Gruppenphase!$G$13:$G$108,'Dummy Table'!$B7,Gruppenphase!$K$13:$K$108) -> 0 | H7: =F7-G7 -> 0 | I7: =C7*3+D7*1 -> 0 | J7: =SUMPRODUCT((Gruppenphase!$I$13:$I$108<>"")*(Gruppenphase!$K$13:$K$108<>"")*(Gruppenphase!$M$13:$M$108='Dummy Table'!$B7)*(Gruppenphase!$I$13:$I$108<Gruppenphase!$K$13:$K$108)) -> 0 | K7: =SUMPRODUCT((Gruppenphase!$I$13:$I$108<>"")*(Gruppenphase!$K$13:$K$108<>"")*(Gruppenphase!$M$13:$M$108='Dummy Table'!$B7)*(Gruppenphase!$I$13:$I$108=Gruppenphase!$K$13:$K$108)) -> 0 | L7: =SUMPRODUCT((Gruppenphase!$I$13:$I$108<>"")*(Gruppenphase!$K$13:$K$108<>"")*(Gruppenphase!$M$13:$M$108='Dummy Table'!$B7)*(Gruppenphase!$I$13:$I$108>Gruppenphase!$K$13:$K$108)) -> 0 | M7: =SUMIF(Gruppenphase!$M$13:$M$108,'Dummy Table'!$B7,Gruppenphase!$K$13:$K$108) -> 0 | N7: =SUMIF(Gruppenphase!$M$13:$M$108,'Dummy Table'!$B7,Gruppenphase!$I$13:$I$108) -> 0 | O7: =M7-N7 -> 0 | P7: =J7*3+K7*1 -> 0 | Q7: =C7+J7 -> 0 | R7: =D7+K7 -> 0 | S7: =E7+L7 -> 0 | T7: =F7+M7 -> 0 | U7: =G7+N7 -> 0 | V7: =H7+O7 -> 0 | W7: =I7+P7 -> 0 | X7: 17 | Y7: =RANK(W7,W$4:W$7) -> 1 | Z7: =SUMPRODUCT((W$4:W$7=W7)*(V$4:V$7>V7)) -> 0 | AA7: =SUMPRODUCT((Y$4:Y$7=Y7)*(Z$4:Z$7=Z7)*(T$4:T$7>T7)) -> 0 | AB7: =SUMPRODUCT((Y$4:Y$7=Y7)*(Z$4:Z$7=Z7)*(T$4:T$7=T7)*(X$4:X$7>X7)) -> 3 | AC7: 4 | AD7: =VLOOKUP(AC7,$A$4:$B$7,2,FALSE) -> Napoli | AE7: =VLOOKUP($AD7,$B$4:$W$7,22,FALSE) -> 0 | AF7: =IF(AND(AE7=AE6,AE6=AE5),AD7,"") -> Napoli | AG7: =SUMPRODUCT(($BK$4:$BK$99='Dummy Table'!$AF7)*($BL$4:$BL$99>$BM$4:$BM$99)) -> 0 | AH7: =SUMPRODUCT(($BK$4:$BK$99='Dummy Table'!$AF7)*($BL$4:$BL$99=$BM$4:$BM$99)) -> 0 | AI7: =SUMPRODUCT(($BK$4:$BK$99='Dummy Table'!$AF7)*($BL$4:$BL$99<$BM$4:$BM$99)) -> 0 | AJ7: =SUMIF($BK$4:$BK$99,'Dummy Table'!$AF7,$BL$4:$BL$99) -> 0 | AK7: =SUMIF($BK$4:$BK$99,'Dummy Table'!$AF7,$BM$4:$BM$99) -> 0 | AL7: =AJ7-AK7 -> 0 | AM7: =IF(AF7<>"",AG7*3+AH7*1,"") -> 0 | AN7: =SUMPRODUCT(($BN$4:$BN$99='Dummy Table'!$AF7)*($BL$4:$BL$99<$BM$4:$BM$99)) -> 0 | AO7: =SUMPRODUCT(($BN$4:$BN$99='Dummy Table'!$AF7)*($BL$4:$BL$99=$BM$4:$BM$99)) -> 0 | AP7: =SUMPRODUCT(($BN$4:$BN$99='Dummy Table'!$AF7)*($BL$4:$BL$99>$BM$4:$BM$99)) -> 0 | AQ7: =SUMIF($BN$4:$BN$99,'Dummy Table'!$AF7,$BM$4:$BM$99) -> 0 | AR7: =SUMIF($BN$4:$BN$99,'Dummy Table'!$AF7,$BL$4:$BL$99) -> 0 | AS7: =AQ7-AR7 -> 0 | AT7: =IF(AF7<>"",AN7*3+AO7*1,"") -> 0 | AU7: =AG7+AN7 -> 0 | AV7: =AH7+AO7 -> 0 | AW7: =AI7+AP7 -> 0 | AX7: =AJ7+AQ7 -> 0 | AY7: =AK7+AR7 -> 0 | AZ7: =AL7+AS7 -> 0 | BA7: =IF(AF7<>"",AM7+AT7,-1) -> 0 | BB7: =IF(AF7<>"",VLOOKUP(AF7,$B$4:$V$35,21,FALSE),"") -> 0 | BC7: =IF(AF7<>"",VLOOKUP(AF7,$B$4:$T$35,19,FALSE),"") -> 0 | BD7: =IF(AF7<>"",VLOOKUP(AF7,$B$4:$X$35,23,FALSE),"") -> 17 | BE7: =RANK(BA7,BA$4:BA$7) -> 1 | BF7: =SUMPRODUCT((BA$4:BA$7=BA7)*(AZ$4:AZ$7>AZ7)) -> 0 | BG7: =SUMPRODUCT((BA$4:BA$7=BA7)*(BE$4:BE$7=BE7)*(AZ$4:AZ$7=AZ7)*(AQ$4:AQ$7>AQ7)) -> 0 | BH7: =SUMPRODUCT((BA$4:BA$7=BA7)*(BE$4:BE$7=BE7)*(AZ$4:AZ$7=AZ7)*(AQ$4:AQ$7=AQ7)*(BB$4:BB$7>BB7)) -> 0 | BI7: =SUMPRODUCT((BA$4:BA$7=BA7)*(BE$4:BE$7=BE7)*(AZ$4:AZ$7=AZ7)*(AQ$4:AQ$7=AQ7)*(BB$4:BB$7=BB7)*(BC$4:BC$7>BC7)) -> 0 | BJ7: =SUMPRODUCT((BA$4:BA$7=BA7)*(BE$4:BE$7=BE7)*(AZ$4:AZ$7=AZ7)*(AQ$4:AQ$7=AQ7)*(BB$4:BB$7=BB7)*(BC$4:BC$7=BC7)*(BD$4:BD$7>BD7)) -> 3 | BK7: =IF(AND(COUNTIF($AF$4:$AF$35,Gruppenphase!G16)>0,COUNTIF($AF$4:$AF$35,Gruppenphase!M16)>0,Gruppenphase!I16<>"",Gruppenphase!K16<>""),Gruppenphase!G16,"") | BL7: =IF($BK7<>"",Gruppenphase!I16,"") | BM7: =IF($BK7<>"",Gruppenphase!K16,"") | BN7: =IF($BK7<>"",Gruppenphase!M16,"") | BO7: =IF(AF7="","",SUM(BE7:BJ7)) -> 4 | BP7: =IF(AF7="","",AF7) -> Napoli | BQ7: =VLOOKUP($AD7,$B$4:$W$7,22,FALSE) -> 0 | BR7: =IF(BR6<>"",AD7,"") | BS7: =SUMPRODUCT(($BK$4:$BK$99='Dummy Table'!$AF7)*($BL$4:$BL$99>$BM$4:$BM$99)) -> 0 | BT7: =SUMPRODUCT(($BK$4:$BK$99='Dummy Table'!$AF7)*($BL$4:$BL$99=$BM$4:$BM$99)) -> 0 | BU7: =SUMPRODUCT(($BK$4:$BK$99='Dummy Table'!$AF7)*($BL$4:$BL$99<$BM$4:$BM$99)) -> 0 | BV7: =SUMIF($BK$4:$BK$99,'Dummy Table'!$AF7,$BL$4:$BL$99) -> 0 | BW7: =SUMIF($BK$4:$BK$99,'Dummy Table'!$AF7,$BM$4:$BM$99) -> 0 | BX7: =BV7-BW7 -> 0 | BY7: =IF(BR7<>"",BS7*3+BT7*1,"") | BZ7: =SUMPRODUCT(($BN$4:$BN$99='Dummy Table'!$AF7)*($BL$4:$BL$99<$BM$4:$BM$99)) -> 0 | CA7: =SUMPRODUCT(($BN$4:$BN$99='Dummy Table'!$AF7)*($BL$4:$BL$99=$BM$4:$BM$99)) -> 0 | CB7: =SUMPRODUCT(($BN$4:$BN$99='Dummy Table'!$AF7)*($BL$4:$BL$99>$BM$4:$BM$99)) -> 0 | CC7: =SUMIF($BN$4:$BN$99,'Dummy Table'!$AF7,$BM$4:$BM$99) -> 0 | CD7: =SUMIF($BN$4:$BN$99,'Dummy Table'!$AF7,$BL$4:$BL$99) -> 0 | CE7: =CC7-CD7 -> 0 | CF7: =IF(BR7<>"",BZ7*3+CA7*1,"") | CG7: =BS7+BZ7 -> 0 | CH7: =BT7+CA7 -> 0 | CI7: =BU7+CB7 -> 0 | CJ7: =BV7+CC7 -> 0 | CK7: =BW7+CD7 -> 0 | CL7: =BX7+CE7 -> 0 | CM7: =IF(BR7<>"",BY7+CF7,-1) -> -1 | CN7: 4 | CO7: =RANK(CM7,CM$4:CM$7) -> 1 | CP7: =SUMPRODUCT((CM$4:CM$7=CM7)*(CO$4:CO$7=CO7)*(CC$4:CC$7>CC7)) -> 0 | CQ7: =SUMPRODUCT((CM$4:CM$7=CM7)*(CL$4:CL$7>CL7)) -> 0 | CR7: =SUMPRODUCT((CO$4:CO$7=CO7)*(CQ$4:CQ$7=CQ7)*(CJ$4:CJ$7>CJ7)) -> 0 | CS7: =SUMPRODUCT((CO$4:CO$7=CO7)*(CQ$4:CQ$7=CQ7)*(CJ$4:CJ$7=CJ7)*(CN$4:CN$7>CN7)) -> 0 | CT7: =IF(AND(COUNTIF($AF$4:$AF$35,Gruppenphase!$G16)>0,COUNTIF($AF$4:$AF$35,Gruppenphase!$M16)>0),Gruppenphase!$G16,"") -> Borussia Dortmund | CU7: =IF($BK7<>"",Gruppenphase!$I16,"") | CV7: =IF($BK7<>"",Gruppenphase!$K16,"") | CW7: =IF($BK7<>"",Gruppenphase!$M16,"") | CX7: =IF(BR7="","",SUM(CO7:CS7)) | CY7: =IF(BR7="","",BR7) | CZ7: 4 | DA7: =IF(AF7="",AD7,"") | DB7: =IF(AND(DA7="",DA6="",DA5="",DA4=""),4,IF(AND(DA7="",DA6="",DA5=""),3,IF(AND(DA5<>"",DA6="",DA7=""),2,IF(AND(DA5<>"",DA6<>"",DA7=""),1,"")))) -> 4 | DC7: =VLOOKUP(DB7,$BO$4:$BP$7,2,FALSE) -> Napoli | DD7: 4 | DE7: =IF(CY7<>"",IF(CX6<CX7,CY7,CY6),IF(DC7<>"",DC7,DA7)) -> Napoli
A8: =Y8+Z8+AA8+AB8 -> 1 | B8: ='Club Namen'!B7 -> Internazionale | C8: =SUMPRODUCT((Gruppenphase!$I$13:$I$108<>"")*(Gruppenphase!$K$13:$K$108<>"")*(Gruppenphase!$G$13:$G$108='Dummy Table'!$B8)*(Gruppenphase!$I$13:$I$108>Gruppenphase!$K$13:$K$108)) -> 0 | D8: =SUMPRODUCT((Gruppenphase!$I$13:$I$108<>"")*(Gruppenphase!$K$13:$K$108<>"")*(Gruppenphase!$G$13:$G$108='Dummy Table'!$B8)*(Gruppenphase!$I$13:$I$108=Gruppenphase!$K$13:$K$108)) -> 0 | E8: =SUMPRODUCT((Gruppenphase!$I$13:$I$108<>"")*(Gruppenphase!$K$13:$K$108<>"")*(Gruppenphase!$G$13:$G$108='Dummy Table'!$B8)*(Gruppenphase!$I$13:$I$108<Gruppenphase!$K$13:$K$108)) -> 0 | F8: =SUMIF(Gruppenphase!$G$13:$G$108,'Dummy Table'!$B8,Gruppenphase!$I$13:$I$108) -> 0 | G8: =SUMIF(Gruppenphase!$G$13:$G$108,'Dummy Table'!$B8,Gruppenphase!$K$13:$K$108) -> 0 | H8: =F8-G8 -> 0 | I8: =C8*3+D8*1 -> 0 | J8: =SUMPRODUCT((Gruppenphase!$I$13:$I$108<>"")*(Gruppenphase!$K$13:$K$108<>"")*(Gruppenphase!$M$13:$M$108='Dummy Table'!$B8)*(Gruppenphase!$I$13:$I$108<Gruppenphase!$K$13:$K$108)) -> 0 | K8: =SUMPRODUCT((Gruppenphase!$I$13:$I$108<>"")*(Gruppenphase!$K$13:$K$108<>"")*(Gruppenphase!$M$13:$M$108='Dummy Table'!$B8)*(Gruppenphase!$I$13:$I$108=Gruppenphase!$K$13:$K$108)) -> 0 | L8: =SUMPRODUCT((Gruppenphase!$I$13:$I$108<>"")*(Gruppenphase!$K$13:$K$108<>"")*(Gruppenphase!$M$13:$M$108='Dummy Table'!$B8)*(Gruppenphase!$I$13:$I$108>Gruppenphase!$K$13:$K$108)) -> 0 | M8: =SUMIF(Gruppenphase!$M$13:$M$108,'Dummy Table'!$B8,Gruppenphase!$K$13:$K$108) -> 0 | N8: =SUMIF(Gruppenphase!$M$13:$M$108,'Dummy Table'!$B8,Gruppenphase!$I$13:$I$108) -> 0 | O8: =M8-N8 -> 0 | P8: =J8*3+K8*1 -> 0 | Q8: =C8+J8 -> 0 | R8: =D8+K8 -> 0 | S8: =E8+L8 -> 0 | T8: =F8+M8 -> 0 | U8: =G8+N8 -> 0 | V8: =H8+O8 -> 0 | W8: =I8+P8 -> 0 | X8: 111 | Y8: =RANK(W8,W$8:W$11) -> 1 | Z8: =SUMPRODUCT((W$8:W$11=W8)*(V$8:V$11>V8)) -> 0 | AA8: =SUMPRODUCT((Y$8:Y$11=Y8)*(Z$8:Z$11=Z8)*(T$8:T$11>T8)) -> 0 | AB8: =SUMPRODUCT((Y$8:Y$11=Y8)*(Z$8:Z$11=Z8)*(T$8:T$11=T8)*(X$8:X$11>X8)) -> 0 | AC8: 1 | AD8: =VLOOKUP(AC8,$A$8:$B$11,2,FALSE) -> Internazionale | AE8: =VLOOKUP($AD8,$B$8:$W$11,22,FALSE) -> 0 | AF8: =IF(AE8=AE9,AD8,"") -> Internazionale | AG8: =SUMPRODUCT(($BK$4:$BK$99='Dummy Table'!$AF8)*($BL$4:$BL$99>$BM$4:$BM$99)) -> 0 | AH8: =SUMPRODUCT(($BK$4:$BK$99='Dummy Table'!$AF8)*($BL$4:$BL$99=$BM$4:$BM$99)) -> 0 | AI8: =SUMPRODUCT(($BK$4:$BK$99='Dummy Table'!$AF8)*($BL$4:$BL$99<$BM$4:$BM$99)) -> 0 | AJ8: =SUMIF($BK$4:$BK$99,'Dummy Table'!$AF8,$BL$4:$BL$99) -> 0 | AK8: =SUMIF($BK$4:$BK$99,'Dummy Table'!$AF8,$BM$4:$BM$99) -> 0 | AL8: =AJ8-AK8 -> 0 | AM8: =IF(AF8<>"",AG8*3+AH8*1,"") -> 0 | AN8: =SUMPRODUCT(($BN$4:$BN$99='Dummy Table'!$AF8)*($BL$4:$BL$99<$BM$4:$BM$99)) -> 0 | AO8: =SUMPRODUCT(($BN$4:$BN$99='Dummy Table'!$AF8)*($BL$4:$BL$99=$BM$4:$BM$99)) -> 0 | AP8: =SUMPRODUCT(($BN$4:$BN$99='Dummy Table'!$AF8)*($BL$4:$BL$99>$BM$4:$BM$99)) -> 0 | AQ8: =SUMIF($BN$4:$BN$99,'Dummy Table'!$AF8,$BM$4:$BM$99) -> 0 | AR8: =SUMIF($BN$4:$BN$99,'Dummy Table'!$AF8,$BL$4:$BL$99) -> 0 | AS8: =AQ8-AR8 -> 0 | AT8: =IF(AF8<>"",AN8*3+AO8*1,"") -> 0 | AU8: =AG8+AN8 -> 0 | AV8: =AH8+AO8 -> 0 | AW8: =AI8+AP8 -> 0 | AX8: =AJ8+AQ8 -> 0 | AY8: =AK8+AR8 -> 0 | AZ8: =AL8+AS8 -> 0 | BA8: =IF(AF8<>"",AM8+AT8,-1) -> 0 | BB8: =IF(AF8<>"",VLOOKUP(AF8,$B$4:$V$35,21,FALSE),"") -> 0 | BC8: =IF(AF8<>"",VLOOKUP(AF8,$B$4:$T$35,19,FALSE),"") -> 0 | BD8: =IF(AF8<>"",VLOOKUP(AF8,$B$4:$X$35,23,FALSE),"") -> 111 | BE8: =RANK(BA8,BA$8:BA$11) -> 1 | BF8: =SUMPRODUCT((BA$8:BA$11=BA8)*(AZ$8:AZ$11>AZ8)) -> 0 | BG8: =SUMPRODUCT((BA$8:BA$11=BA8)*(BE$8:BE$11=BE8)*(AZ$8:AZ$11=AZ8)*(AQ$8:AQ$11>AQ8)) -> 0 | BH8: =SUMPRODUCT((BA$8:BA$11=BA8)*(BE$8:BE$11=BE8)*(AZ$8:AZ$11=AZ8)*(AQ$8:AQ$11=AQ8)*(BB$8:BB$11>BB8)) -> 0 | BI8: =SUMPRODUCT((BA$8:BA$11=BA8)*(BE$8:BE$11=BE8)*(AZ$8:AZ$11=AZ8)*(AQ$8:AQ$11=AQ8)*(BB$8:BB$11=BB8)*(BC$8:BC$11>BC8)) -> 0 | BJ8: =SUMPRODUCT((BA$8:BA$11=BA8)*(BE$8:BE$11=BE8)*(AZ$8:AZ$11=AZ8)*(AQ$8:AQ$11=AQ8)*(BB$8:BB$11=BB8)*(BC$8:BC$11=BC8)*(BD$8:BD$11>BD8)) -> 0 | BK8: =IF(AND(COUNTIF($AF$4:$AF$35,Gruppenphase!G17)>0,COUNTIF($AF$4:$AF$35,Gruppenphase!M17)>0,Gruppenphase!I17<>"",Gruppenphase!K17<>""),Gruppenphase!G17,"") | BL8: =IF($BK8<>"",Gruppenphase!I17,"") | BM8: =IF($BK8<>"",Gruppenphase!K17,"") | BN8: =IF($BK8<>"",Gruppenphase!M17,"") | BO8: =IF(AF8="","",SUM(BE8:BJ8)) -> 1 | BP8: =IF(AF8="","",AF8) -> Internazionale | BQ8: =VLOOKUP($AD8,$B$8:$W$11,22,FALSE) -> 0 | BS8: =SUMPRODUCT(($BK$4:$BK$99='Dummy Table'!$AF8)*($BL$4:$BL$99>$BM$4:$BM$99)) -> 0 | BT8: =SUMPRODUCT(($BK$4:$BK$99='Dummy Table'!$AF8)*($BL$4:$BL$99=$BM$4:$BM$99)) -> 0 | BU8: =SUMPRODUCT(($BK$4:$BK$99='Dummy Table'!$AF8)*($BL$4:$BL$99<$BM$4:$BM$99)) -> 0 | BV8: =SUMIF($BK$4:$BK$99,'Dummy Table'!$AF8,$BL$4:$BL$99) -> 0 | BW8: =SUMIF($BK$4:$BK$99,'Dummy Table'!$AF8,$BM$4:$BM$99) -> 0 | BX8: =BV8-BW8 -> 0 | BY8: =IF(BR8<>"",BS8*3+BT8*1,"") | BZ8: =SUMPRODUCT(($BN$4:$BN$99='Dummy Table'!$AF8)*($BL$4:$BL$99<$BM$4:$BM$99)) -> 0 | CA8: =SUMPRODUCT(($BN$4:$BN$99='Dummy Table'!$AF8)*($BL$4:$BL$99=$BM$4:$BM$99)) -> 0 | CB8: =SUMPRODUCT(($BN$4:$BN$99='Dummy Table'!$AF8)*($BL$4:$BL$99>$BM$4:$BM$99)) -> 0 | CC8: =SUMIF($BN$4:$BN$99,'Dummy Table'!$AF8,$BM$4:$BM$99) -> 0 | CD8: =SUMIF($BN$4:$BN$99,'Dummy Table'!$AF8,$BL$4:$BL$99) -> 0 | CE8: =CC8-CD8 -> 0 | CF8: =IF(BR8<>"",BZ8*3+CA8*1,"") | CG8: =BS8+BZ8 -> 0 | CH8: =BT8+CA8 -> 0 | CI8: =BU8+CB8 -> 0 | CJ8: =BV8+CC8 -> 0 | CK8: =BW8+CD8 -> 0 | CL8: =BX8+CE8 -> 0 | CM8: =IF(BR8<>"",BY8+CF8,-1) -> -1 | CN8: 5 | CO8: =RANK(CM8,CM$8:CM$11) -> 1 | CP8: =SUMPRODUCT((CM$8:CM$11=CM8)*(CO$8:CO$11=CO8)*(CC$8:CC$11>CC8)) -> 0 | CQ8: =SUMPRODUCT((CM$8:CM$11=CM8)*(CL$8:CL$11>CL8)) -> 0 | CR8: =SUMPRODUCT((CO$8:CO$11=CO8)*(CQ$8:CQ$11=CQ8)*(CJ$8:CJ$11>CJ8)) -> 0 | CS8: =SUMPRODUCT((CO$8:CO$11=CO8)*(CQ$8:CQ$11=CQ8)*(CJ$8:CJ$11=CJ8)*(CN$8:CN$11>CN8)) -> 3 | CT8: =IF(AND(COUNTIF($AF$4:$AF$35,Gruppenphase!$G17)>0,COUNTIF($AF$4:$AF$35,Gruppenphase!$M17)>0),Gruppenphase!$G17,"") -> Porto | CU8: =IF($BK8<>"",Gruppenphase!$I17,"") | CV8: =IF($BK8<>"",Gruppenphase!$K17,"") | CW8: =IF($BK8<>"",Gruppenphase!$M17,"") | CX8: =IF(BR8="","",SUM(CO8:CS8)) | CY8: =IF(BR8="","",BR8) | CZ8: 1 | DA8: =IF(AF8="",AD8,"") | DB8: =IF(DA8="",CZ8,"") -> 1 | DC8: =VLOOKUP(DB8,$BO$8:$BP$11,2,FALSE) -> Internazionale | DD8: 1 | DE8: =IF(DA8="",DC8,DA8) -> Internazionale
A9: =Y9+Z9+AA9+AB9 -> 2 | B9: ='Club Namen'!B8 -> CSKA Moscow | C9: =SUMPRODUCT((Gruppenphase!$I$13:$I$108<>"")*(Gruppenphase!$K$13:$K$108<>"")*(Gruppenphase!$G$13:$G$108='Dummy Table'!$B9)*(Gruppenphase!$I$13:$I$108>Gruppenphase!$K$13:$K$108)) -> 0 | D9: =SUMPRODUCT((Gruppenphase!$I$13:$I$108<>"")*(Gruppenphase!$K$13:$K$108<>"")*(Gruppenphase!$G$13:$G$108='Dummy Table'!$B9)*(Gruppenphase!$I$13:$I$108=Gruppenphase!$K$13:$K$108)) -> 0 | E9: =SUMPRODUCT((Gruppenphase!$I$13:$I$108<>"")*(Gruppenphase!$K$13:$K$108<>"")*(Gruppenphase!$G$13:$G$108='Dummy Table'!$B9)*(Gruppenphase!$I$13:$I$108<Gruppenphase!$K$13:$K$108)) -> 0 | F9: =SUMIF(Gruppenphase!$G$13:$G$108,'Dummy Table'!$B9,Gruppenphase!$I$13:$I$108) -> 0 | G9: =SUMIF(Gruppenphase!$G$13:$G$108,'Dummy Table'!$B9,Gruppenphase!$K$13:$K$108) -> 0 | H9: =F9-G9 -> 0 | I9: =C9*3+D9*1 -> 0 | J9: =SUMPRODUCT((Gruppenphase!$I$13:$I$108<>"")*(Gruppenphase!$K$13:$K$108<>"")*(Gruppenphase!$M$13:$M$108='Dummy Table'!$B9)*(Gruppenphase!$I$13:$I$108<Gruppenphase!$K$13:$K$108)) -> 0 | K9: =SUMPRODUCT((Gruppenphase!$I$13:$I$108<>"")*(Gruppenphase!$K$13:$K$108<>"")*(Gruppenphase!$M$13:$M$108='Dummy Table'!$B9)*(Gruppenphase!$I$13:$I$108=Gruppenphase!$K$13:$K$108)) -> 0 | L9: =SUMPRODUCT((Gruppenphase!$I$13:$I$108<>"")*(Gruppenphase!$K$13:$K$108<>"")*(Gruppenphase!$M$13:$M$108='Dummy Table'!$B9)*(Gruppenphase!$I$13:$I$108>Gruppenphase!$K$13:$K$108)) -> 0 | M9: =SUMIF(Gruppenphase!$M$13:$M$108,'Dummy Table'!$B9,Gruppenphase!$K$13:$K$108) -> 0 | N9: =SUMIF(Gruppenphase!$M$13:$M$108,'Dummy Table'!$B9,Gruppenphase!$I$13:$I$108) -> 0 | O9: =M9-N9 -> 0 | P9: =J9*3+K9*1 -> 0 | Q9: =C9+J9 -> 0 | R9: =D9+K9 -> 0 | S9: =E9+L9 -> 0 | T9: =F9+M9 -> 0 | U9: =G9+N9 -> 0 | V9: =H9+O9 -> 0 | W9: =I9+P9 -> 0 | X9: 71 | Y9: =RANK(W9,W$8:W$11) -> 1 | Z9: =SUMPRODUCT((W$8:W$11=W9)*(V$8:V$11>V9)) -> 0 | AA9: =SUMPRODUCT((Y$8:Y$11=Y9)*(Z$8:Z$11=Z9)*(T$8:T$11>T9)) -> 0 | AB9: =SUMPRODUCT((Y$8:Y$11=Y9)*(Z$8:Z$11=Z9)*(T$8:T$11=T9)*(X$8:X$11>X9)) -> 1 | AC9: 2 | AD9: =VLOOKUP(AC9,$A$8:$B$11,2,FALSE) -> CSKA Moscow | AE9: =VLOOKUP($AD9,$B$8:$W$11,22,FALSE) -> 0 | AF9: =IF(OR(AE9=AE8,AE9=AE10),AD9,"") -> CSKA Moscow | AG9: =SUMPRODUCT(($BK$4:$BK$99='Dummy Table'!$AF9)*($BL$4:$BL$99>$BM$4:$BM$99)) -> 0 | AH9: =SUMPRODUCT(($BK$4:$BK$99='Dummy Table'!$AF9)*($BL$4:$BL$99=$BM$4:$BM$99)) -> 0 | AI9: =SUMPRODUCT(($BK$4:$BK$99='Dummy Table'!$AF9)*($BL$4:$BL$99<$BM$4:$BM$99)) -> 0 | AJ9: =SUMIF($BK$4:$BK$99,'Dummy Table'!$AF9,$BL$4:$BL$99) -> 0 | AK9: =SUMIF($BK$4:$BK$99,'Dummy Table'!$AF9,$BM$4:$BM$99) -> 0 | AL9: =AJ9-AK9 -> 0 | AM9: =IF(AF9<>"",AG9*3+AH9*1,"") -> 0 | AN9: =SUMPRODUCT(($BN$4:$BN$99='Dummy Table'!$AF9)*($BL$4:$BL$99<$BM$4:$BM$99)) -> 0 | AO9: =SUMPRODUCT(($BN$4:$BN$99='Dummy Table'!$AF9)*($BL$4:$BL$99=$BM$4:$BM$99)) -> 0 | AP9: =SUMPRODUCT(($BN$4:$BN$99='Dummy Table'!$AF9)*($BL$4:$BL$99>$BM$4:$BM$99)) -> 0 | AQ9: =SUMIF($BN$4:$BN$99,'Dummy Table'!$AF9,$BM$4:$BM$99) -> 0 | AR9: =SUMIF($BN$4:$BN$99,'Dummy Table'!$AF9,$BL$4:$BL$99) -> 0 | AS9: =AQ9-AR9 -> 0 | AT9: =IF(AF9<>"",AN9*3+AO9*1,"") -> 0 | AU9: =AG9+AN9 -> 0 | AV9: =AH9+AO9 -> 0 | AW9: =AI9+AP9 -> 0 | AX9: =AJ9+AQ9 -> 0 | AY9: =AK9+AR9 -> 0 | AZ9: =AL9+AS9 -> 0 | BA9: =IF(AF9<>"",AM9+AT9,-1) -> 0 | BB9: =IF(AF9<>"",VLOOKUP(AF9,$B$4:$V$35,21,FALSE),"") -> 0 | BC9: =IF(AF9<>"",VLOOKUP(AF9,$B$4:$T$35,19,FALSE),"") -> 0 | BD9: =IF(AF9<>"",VLOOKUP(AF9,$B$4:$X$35,23,FALSE),"") -> 71 | BE9: =RANK(BA9,BA$8:BA$11) -> 1 | BF9: =SUMPRODUCT((BA$8:BA$11=BA9)*(AZ$8:AZ$11>AZ9)) -> 0 | BG9: =SUMPRODUCT((BA$8:BA$11=BA9)*(BE$8:BE$11=BE9)*(AZ$8:AZ$11=AZ9)*(AQ$8:AQ$11>AQ9)) -> 0 | BH9: =SUMPRODUCT((BA$8:BA$11=BA9)*(BE$8:BE$11=BE9)*(AZ$8:AZ$11=AZ9)*(AQ$8:AQ$11=AQ9)*(BB$8:BB$11>BB9)) -> 0 | BI9: =SUMPRODUCT((BA$8:BA$11=BA9)*(BE$8:BE$11=BE9)*(AZ$8:AZ$11=AZ9)*(AQ$8:AQ$11=AQ9)*(BB$8:BB$11=BB9)*(BC$8:BC$11>BC9)) -> 0 | BJ9: =SUMPRODUCT((BA$8:BA$11=BA9)*(BE$8:BE$11=BE9)*(AZ$8:AZ$11=AZ9)*(AQ$8:AQ$11=AQ9)*(BB$8:BB$11=BB9)*(BC$8:BC$11=BC9)*(BD$8:BD$11>BD9)) -> 1 | BK9: =IF(AND(COUNTIF($AF$4:$AF$35,Gruppenphase!G18)>0,COUNTIF($AF$4:$AF$35,Gruppenphase!M18)>0,Gruppenphase!I18<>"",Gruppenphase!K18<>""),Gruppenphase!G18,"") | BL9: =IF($BK9<>"",Gruppenphase!I18,"") | BM9: =IF($BK9<>"",Gruppenphase!K18,"") | BN9: =IF($BK9<>"",Gruppenphase!M18,"") | BO9: =IF(AF9="","",SUM(BE9:BJ9)) -> 2 | BP9: =IF(AF9="","",AF9) -> CSKA Moscow | BQ9: =VLOOKUP($AD9,$B$8:$W$11,22,FALSE) -> 0 | BS9: =SUMPRODUCT(($BK$4:$BK$99='Dummy Table'!$AF9)*($BL$4:$BL$99>$BM$4:$BM$99)) -> 0 | BT9: =SUMPRODUCT(($BK$4:$BK$99='Dummy Table'!$AF9)*($BL$4:$BL$99=$BM$4:$BM$99)) -> 0 | BU9: =SUMPRODUCT(($BK$4:$BK$99='Dummy Table'!$AF9)*($BL$4:$BL$99<$BM$4:$BM$99)) -> 0 | BV9: =SUMIF($BK$4:$BK$99,'Dummy Table'!$AF9,$BL$4:$BL$99) -> 0 | BW9: =SUMIF($BK$4:$BK$99,'Dummy Table'!$AF9,$BM$4:$BM$99) -> 0 | BX9: =BV9-BW9 -> 0 | BY9: =IF(BR9<>"",BS9*3+BT9*1,"") | BZ9: =SUMPRODUCT(($BN$4:$BN$99='Dummy Table'!$AF9)*($BL$4:$BL$99<$BM$4:$BM$99)) -> 0 | CA9: =SUMPRODUCT(($BN$4:$BN$99='Dummy Table'!$AF9)*($BL$4:$BL$99=$BM$4:$BM$99)) -> 0 | CB9: =SUMPRODUCT(($BN$4:$BN$99='Dummy Table'!$AF9)*($BL$4:$BL$99>$BM$4:$BM$99)) -> 0 | CC9: =SUMIF($BN$4:$BN$99,'Dummy Table'!$AF9,$BM$4:$BM$99) -> 0 | CD9: =SUMIF($BN$4:$BN$99,'Dummy Table'!$AF9,$BL$4:$BL$99) -> 0 | CE9: =CC9-CD9 -> 0 | CF9: =IF(BR9<>"",BZ9*3+CA9*1,"") | CG9: =BS9+BZ9 -> 0 | CH9: =BT9+CA9 -> 0 | CI9: =BU9+CB9 -> 0 | CJ9: =BV9+CC9 -> 0 | CK9: =BW9+CD9 -> 0 | CL9: =BX9+CE9 -> 0 | CM9: =IF(BR9<>"",BY9+CF9,-1) -> -1 | CN9: 6 | CO9: =RANK(CM9,CM$8:CM$11) -> 1 | CP9: =SUMPRODUCT((CM$8:CM$11=CM9)*(CO$8:CO$11=CO9)*(CC$8:CC$11>CC9)) -> 0 | CQ9: =SUMPRODUCT((CM$8:CM$11=CM9)*(CL$8:CL$11>CL9)) -> 0 | CR9: =SUMPRODUCT((CO$8:CO$11=CO9)*(CQ$8:CQ$11=CQ9)*(CJ$8:CJ$11>CJ9)) -> 0 | CS9: =SUMPRODUCT((CO$8:CO$11=CO9)*(CQ$8:CQ$11=CQ9)*(CJ$8:CJ$11=CJ9)*(CN$8:CN$11>CN9)) -> 2 | CT9: =IF(AND(COUNTIF($AF$4:$AF$35,Gruppenphase!$G18)>0,COUNTIF($AF$4:$AF$35,Gruppenphase!$M18)>0),Gruppenphase!$G18,"") -> APOEL | CU9: =IF($BK9<>"",Gruppenphase!$I18,"") | CV9: =IF($BK9<>"",Gruppenphase!$K18,"") | CW9: =IF($BK9<>"",Gruppenphase!$M18,"") | CX9: =IF(BR9="","",SUM(CO9:CS9)) | CY9: =IF(BR9="","",BR9) | CZ9: 2 | DA9: =IF(AF9="",AD9,"") | DB9: =IF(AND(DA9="",DA8=""),CZ9,IF(AND(DA8<>"",DA9=""),1,"")) -> 2 | DC9: =VLOOKUP(DB9,$BO$8:$BP$11,2,FALSE) -> CSKA Moscow | DD9: 2 | DE9: =IF(DA9="",DC9,DA9) -> CSKA Moscow
A10: =Y10+Z10+AA10+AB10 -> 3 | B10: ='Club Namen'!B9 -> Lille | C10: =SUMPRODUCT((Gruppenphase!$I$13:$I$108<>"")*(Gruppenphase!$K$13:$K$108<>"")*(Gruppenphase!$G$13:$G$108='Dummy Table'!$B10)*(Gruppenphase!$I$13:$I$108>Gruppenphase!$K$13:$K$108)) -> 0 | D10: =SUMPRODUCT((Gruppenphase!$I$13:$I$108<>"")*(Gruppenphase!$K$13:$K$108<>"")*(Gruppenphase!$G$13:$G$108='Dummy Table'!$B10)*(Gruppenphase!$I$13:$I$108=Gruppenphase!$K$13:$K$108)) -> 0 | E10: =SUMPRODUCT((Gruppenphase!$I$13:$I$108<>"")*(Gruppenphase!$K$13:$K$108<>"")*(Gruppenphase!$G$13:$G$108='Dummy Table'!$B10)*(Gruppenphase!$I$13:$I$108<Gruppenphase!$K$13:$K$108)) -> 0 | F10: =SUMIF(Gruppenphase!$G$13:$G$108,'Dummy Table'!$B10,Gruppenphase!$I$13:$I$108) -> 0 | G10: =SUMIF(Gruppenphase!$G$13:$G$108,'Dummy Table'!$B10,Gruppenphase!$K$13:$K$108) -> 0 | H10: =F10-G10 -> 0 | I10: =C10*3+D10*1 -> 0 | J10: =SUMPRODUCT((Gruppenphase!$I$13:$I$108<>"")*(Gruppenphase!$K$13:$K$108<>"")*(Gruppenphase!$M$13:$M$108='Dummy Table'!$B10)*(Gruppenphase!$I$13:$I$108<Gruppenphase!$K$13:$K$108)) -> 0 | K10: =SUMPRODUCT((Gruppenphase!$I$13:$I$108<>"")*(Gruppenphase!$K$13:$K$108<>"")*(Gruppenphase!$M$13:$M$108='Dummy Table'!$B10)*(Gruppenphase!$I$13:$I$108=Gruppenphase!$K$13:$K$108)) -> 0 | L10: =SUMPRODUCT((Gruppenphase!$I$13:$I$108<>"")*(Gruppenphase!$K$13:$K$108<>"")*(Gruppenphase!$M$13:$M$108='Dummy Table'!$B10)*(Gruppenphase!$I$13:$I$108>Gruppenphase!$K$13:$K$108)) -> 0 | M10: =SUMIF(Gruppenphase!$M$13:$M$108,'Dummy Table'!$B10,Gruppenphase!$K$13:$K$108) -> 0 | N10: =SUMIF(Gruppenphase!$M$13:$M$108,'Dummy Table'!$B10,Gruppenphase!$I$13:$I$108) -> 0 | O10: =M10-N10 -> 0 | P10: =J10*3+K10*1 -> 0 | Q10: =C10+J10 -> 0 | R10: =D10+K10 -> 0 | S10: =E10+L10 -> 0 | T10: =F10+M10 -> 0 | U10: =G10+N10 -> 0 | V10: =H10+O10 -> 0 | W10: =I10+P10 -> 0 | X10: 32 | Y10: =RANK(W10,W$8:W$11) -> 1 | Z10: =SUMPRODUCT((W$8:W$11=W10)*(V$8:V$11>V10)) -> 0 | AA10: =SUMPRODUCT((Y$8:Y$11=Y10)*(Z$8:Z$11=Z10)*(T$8:T$11>T10)) -> 0 | AB10: =SUMPRODUCT((Y$8:Y$11=Y10)*(Z$8:Z$11=Z10)*(T$8:T$11=T10)*(X$8:X$11>X10)) -> 2 | AC10: 3 | AD10: =VLOOKUP(AC10,$A$8:$B$11,2,FALSE) -> Lille | AE10: =VLOOKUP($AD10,$B$8:$W$11,22,FALSE) -> 0 | AF10: =IF(AE10=AE9,AD10,"") -> Lille | AG10: =SUMPRODUCT(($BK$4:$BK$99='Dummy Table'!$AF10)*($BL$4:$BL$99>$BM$4:$BM$99)) -> 0 | AH10: =SUMPRODUCT(($BK$4:$BK$99='Dummy Table'!$AF10)*($BL$4:$BL$99=$BM$4:$BM$99)) -> 0 | AI10: =SUMPRODUCT(($BK$4:$BK$99='Dummy Table'!$AF10)*($BL$4:$BL$99<$BM$4:$BM$99)) -> 0 | AJ10: =SUMIF($BK$4:$BK$99,'Dummy Table'!$AF10,$BL$4:$BL$99) -> 0 | AK10: =SUMIF($BK$4:$BK$99,'Dummy Table'!$AF10,$BM$4:$BM$99) -> 0 | AL10: =AJ10-AK10 -> 0 | AM10: =IF(AF10<>"",AG10*3+AH10*1,"") -> 0 | AN10: =SUMPRODUCT(($BN$4:$BN$99='Dummy Table'!$AF10)*($BL$4:$BL$99<$BM$4:$BM$99)) -> 0 | AO10: =SUMPRODUCT(($BN$4:$BN$99='Dummy Table'!$AF10)*($BL$4:$BL$99=$BM$4:$BM$99)) -> 0 | AP10: =SUMPRODUCT(($BN$4:$BN$99='Dummy Table'!$AF10)*($BL$4:$BL$99>$BM$4:$BM$99)) -> 0 | AQ10: =SUMIF($BN$4:$BN$99,'Dummy Table'!$AF10,$BM$4:$BM$99) -> 0 | AR10: =SUMIF($BN$4:$BN$99,'Dummy Table'!$AF10,$BL$4:$BL$99) -> 0 | AS10: =AQ10-AR10 -> 0 | AT10: =IF(AF10<>"",AN10*3+AO10*1,"") -> 0 | AU10: =AG10+AN10 -> 0 | AV10: =AH10+AO10 -> 0 | AW10: =AI10+AP10 -> 0 | AX10: =AJ10+AQ10 -> 0 | AY10: =AK10+AR10 -> 0 | AZ10: =AL10+AS10 -> 0 | BA10: =IF(AF10<>"",AM10+AT10,-1) -> 0 | BB10: =IF(AF10<>"",VLOOKUP(AF10,$B$4:$V$35,21,FALSE),"") -> 0 | BC10: =IF(AF10<>"",VLOOKUP(AF10,$B$4:$T$35,19,FALSE),"") -> 0 | BD10: =IF(AF10<>"",VLOOKUP(AF10,$B$4:$X$35,23,FALSE),"") -> 32 | BE10: =RANK(BA10,BA$8:BA$11) -> 1 | BF10: =SUMPRODUCT((BA$8:BA$11=BA10)*(AZ$8:AZ$11>AZ10)) -> 0 | BG10: =SUMPRODUCT((BA$8:BA$11=BA10)*(BE$8:BE$11=BE10)*(AZ$8:AZ$11=AZ10)*(AQ$8:AQ$11>AQ10)) -> 0 | BH10: =SUMPRODUCT((BA$8:BA$11=BA10)*(BE$8:BE$11=BE10)*(AZ$8:AZ$11=AZ10)*(AQ$8:AQ$11=AQ10)*(BB$8:BB$11>BB10)) -> 0 | BI10: =SUMPRODUCT((BA$8:BA$11=BA10)*(BE$8:BE$11=BE10)*(AZ$8:AZ$11=AZ10)*(AQ$8:AQ$11=AQ10)*(BB$8:BB$11=BB10)*(BC$8:BC$11>BC10)) -> 0 | BJ10: =SUMPRODUCT((BA$8:BA$11=BA10)*(BE$8:BE$11=BE10)*(AZ$8:AZ$11=AZ10)*(AQ$8:AQ$11=AQ10)*(BB$8:BB$11=BB10)*(BC$8:BC$11=BC10)*(BD$8:BD$11>BD10)) -> 2 | BK10: =IF(AND(COUNTIF($AF$4:$AF$35,Gruppenphase!G19)>0,COUNTIF($AF$4:$AF$35,Gruppenphase!M19)>0,Gruppenphase!I19<>"",Gruppenphase!K19<>""),Gruppenphase!G19,"") | BL10: =IF($BK10<>"",Gruppenphase!I19,"") | BM10: =IF($BK10<>"",Gruppenphase!K19,"") | BN10: =IF($BK10<>"",Gruppenphase!M19,"") | BO10: =IF(AF10="","",SUM(BE10:BJ10)) -> 3 | BP10: =IF(AF10="","",AF10) -> Lille | BQ10: =VLOOKUP($AD10,$B$8:$W$11,22,FALSE) -> 0 | BR10: =IF(AND(BQ10<>BQ9,BQ10=BQ11),AD10,"") | BS10: =SUMPRODUCT(($BK$4:$BK$99='Dummy Table'!$AF10)*($BL$4:$BL$99>$BM$4:$BM$99)) -> 0 | BT10: =SUMPRODUCT(($BK$4:$BK$99='Dummy Table'!$AF10)*($BL$4:$BL$99=$BM$4:$BM$99)) -> 0 | BU10: =SUMPRODUCT(($BK$4:$BK$99='Dummy Table'!$AF10)*($BL$4:$BL$99<$BM$4:$BM$99)) -> 0 | BV10: =SUMIF($BK$4:$BK$99,'Dummy Table'!$AF10,$BL$4:$BL$99) -> 0 | BW10: =SUMIF($BK$4:$BK$99,'Dummy Table'!$AF10,$BM$4:$BM$99) -> 0 | BX10: =BV10-BW10 -> 0 | BY10: =IF(BR10<>"",BS10*3+BT10*1,"") | BZ10: =SUMPRODUCT(($BN$4:$BN$99='Dummy Table'!$AF10)*($BL$4:$BL$99<$BM$4:$BM$99)) -> 0 | CA10: =SUMPRODUCT(($BN$4:$BN$99='Dummy Table'!$AF10)*($BL$4:$BL$99=$BM$4:$BM$99)) -> 0 | CB10: =SUMPRODUCT(($BN$4:$BN$99='Dummy Table'!$AF10)*($BL$4:$BL$99>$BM$4:$BM$99)) -> 0 | CC10: =SUMIF($BN$4:$BN$99,'Dummy Table'!$AF10,$BM$4:$BM$99) -> 0 | CD10: =SUMIF($BN$4:$BN$99,'Dummy Table'!$AF10,$BL$4:$BL$99) -> 0 | CE10: =CC10-CD10 -> 0 | CF10: =IF(BR10<>"",BZ10*3+CA10*1,"") | CG10: =BS10+BZ10 -> 0 | CH10: =BT10+CA10 -> 0 | CI10: =BU10+CB10 -> 0 | CJ10: =BV10+CC10 -> 0 | CK10: =BW10+CD10 -> 0 | CL10: =BX10+CE10 -> 0 | CM10: =IF(BR10<>"",BY10+CF10,-1) -> -1 | CN10: 7 | CO10: =RANK(CM10,CM$8:CM$11) -> 1 | CP10: =SUMPRODUCT((CM$8:CM$11=CM10)*(CO$8:CO$11=CO10)*(CC$8:CC$11>CC10)) -> 0 | CQ10: =SUMPRODUCT((CM$8:CM$11=CM10)*(CL$8:CL$11>CL10)) -> 0 | CR10: =SUMPRODUCT((CO$8:CO$11=CO10)*(CQ$8:CQ$11=CQ10)*(CJ$8:CJ$11>CJ10)) -> 0 | CS10: =SUMPRODUCT((CO$8:CO$11=CO10)*(CQ$8:CQ$11=CQ10)*(CJ$8:CJ$11=CJ10)*(CN$8:CN$11>CN10)) -> 1 | CT10: =IF(AND(COUNTIF($AF$4:$AF$35,Gruppenphase!$G19)>0,COUNTIF($AF$4:$AF$35,Gruppenphase!$M19)>0),Gruppenphase!$G19,"") -> Barcelona | CU10: =IF($BK10<>"",Gruppenphase!$I19,"") | CV10: =IF($BK10<>"",Gruppenphase!$K19,"") | CW10: =IF($BK10<>"",Gruppenphase!$M19,"") | CX10: =IF(BR10="","",SUM(CO10:CS10)) | CY10: =IF(BR10="","",BR10) | CZ10: 3 | DA10: =IF(AF10="",AD10,"") | DB10: =IF(AND(DA10="",DA9="",DA8=""),CZ10,IF(AND(DA8<>"",DA9="",DA10=""),2,IF(AND(DA8<>"",DA9<>"",DA10=""),1,""))) -> 3 | DC10: =VLOOKUP(DB10,$BO$8:$BP$11,2,FALSE) -> Lille | DD10: 3 | DE10: =IF(CY10<>"",IF(CX10<CX11,CY10,CY11),IF(DC10<>"",DC10,DA10)) -> Lille
A11: =Y11+Z11+AA11+AB11 -> 4 | B11: ='Club Namen'!B10 -> Trabzonspor | C11: =SUMPRODUCT((Gruppenphase!$I$13:$I$108<>"")*(Gruppenphase!$K$13:$K$108<>"")*(Gruppenphase!$G$13:$G$108='Dummy Table'!$B11)*(Gruppenphase!$I$13:$I$108>Gruppenphase!$K$13:$K$108)) -> 0 | D11: =SUMPRODUCT((Gruppenphase!$I$13:$I$108<>"")*(Gruppenphase!$K$13:$K$108<>"")*(Gruppenphase!$G$13:$G$108='Dummy Table'!$B11)*(Gruppenphase!$I$13:$I$108=Gruppenphase!$K$13:$K$108)) -> 0 | E11: =SUMPRODUCT((Gruppenphase!$I$13:$I$108<>"")*(Gruppenphase!$K$13:$K$108<>"")*(Gruppenphase!$G$13:$G$108='Dummy Table'!$B11)*(Gruppenphase!$I$13:$I$108<Gruppenphase!$K$13:$K$108)) -> 0 | F11: =SUMIF(Gruppenphase!$G$13:$G$108,'Dummy Table'!$B11,Gruppenphase!$I$13:$I$108) -> 0 | G11: =SUMIF(Gruppenphase!$G$13:$G$108,'Dummy Table'!$B11,Gruppenphase!$K$13:$K$108) -> 0 | H11: =F11-G11 -> 0 | I11: =C11*3+D11*1 -> 0 | J11: =SUMPRODUCT((Gruppenphase!$I$13:$I$108<>"")*(Gruppenphase!$K$13:$K$108<>"")*(Gruppenphase!$M$13:$M$108='Dummy Table'!$B11)*(Gruppenphase!$I$13:$I$108<Gruppenphase!$K$13:$K$108)) -> 0 | K11: =SUMPRODUCT((Gruppenphase!$I$13:$I$108<>"")*(Gruppenphase!$K$13:$K$108<>"")*(Gruppenphase!$M$13:$M$108='Dummy Table'!$B11)*(Gruppenphase!$I$13:$I$108=Gruppenphase!$K$13:$K$108)) -> 0 | L11: =SUMPRODUCT((Gruppenphase!$I$13:$I$108<>"")*(Gruppenphase!$K$13:$K$108<>"")*(Gruppenphase!$M$13:$M$108='Dummy Table'!$B11)*(Gruppenphase!$I$13:$I$108>Gruppenphase!$K$13:$K$108)) -> 0 | M11: =SUMIF(Gruppenphase!$M$13:$M$108,'Dummy Table'!$B11,Gruppenphase!$K$13:$K$108) -> 0 | N11: =SUMIF(Gruppenphase!$M$13:$M$108,'Dummy Table'!$B11,Gruppenphase!$I$13:$I$108) -> 0 | O11: =M11-N11 -> 0 | P11: =J11*3+K11*1 -> 0 | Q11: =C11+J11 -> 0 | R11: =D11+K11 -> 0 | S11: =E11+L11 -> 0 | T11: =F11+M11 -> 0 | U11: =G11+N11 -> 0 | V11: =H11+O11 -> 0 | W11: =I11+P11 -> 0 | X11: 21 | Y11: =RANK(W11,W$8:W$11) -> 1 | Z11: =SUMPRODUCT((W$8:W$11=W11)*(V$8:V$11>V11)) -> 0 | AA11: =SUMPRODUCT((Y$8:Y$11=Y11)*(Z$8:Z$11=Z11)*(T$8:T$11>T11)) -> 0 | AB11: =SUMPRODUCT((Y$8:Y$11=Y11)*(Z$8:Z$11=Z11)*(T$8:T$11=T11)*(X$8:X$11>X11)) -> 3 | AC11: 4 | AD11: =VLOOKUP(AC11,$A$8:$B$11,2,FALSE) -> Trabzonspor | AE11: =VLOOKUP($AD11,$B$8:$W$11,22,FALSE) -> 0 | AF11: =IF(AND(AE11=AE10,AE10=AE9),AD11,"") -> Trabzonspor | AG11: =SUMPRODUCT(($BK$4:$BK$99='Dummy Table'!$AF11)*($BL$4:$BL$99>$BM$4:$BM$99)) -> 0 | AH11: =SUMPRODUCT(($BK$4:$BK$99='Dummy Table'!$AF11)*($BL$4:$BL$99=$BM$4:$BM$99)) -> 0 | AI11: =SUMPRODUCT(($BK$4:$BK$99='Dummy Table'!$AF11)*($BL$4:$BL$99<$BM$4:$BM$99)) -> 0 | AJ11: =SUMIF($BK$4:$BK$99,'Dummy Table'!$AF11,$BL$4:$BL$99) -> 0 | AK11: =SUMIF($BK$4:$BK$99,'Dummy Table'!$AF11,$BM$4:$BM$99) -> 0 | AL11: =AJ11-AK11 -> 0 | AM11: =IF(AF11<>"",AG11*3+AH11*1,"") -> 0 | AN11: =SUMPRODUCT(($BN$4:$BN$99='Dummy Table'!$AF11)*($BL$4:$BL$99<$BM$4:$BM$99)) -> 0 | AO11: =SUMPRODUCT(($BN$4:$BN$99='Dummy Table'!$AF11)*($BL$4:$BL$99=$BM$4:$BM$99)) -> 0 | AP11: =SUMPRODUCT(($BN$4:$BN$99='Dummy Table'!$AF11)*($BL$4:$BL$99>$BM$4:$BM$99)) -> 0 | AQ11: =SUMIF($BN$4:$BN$99,'Dummy Table'!$AF11,$BM$4:$BM$99) -> 0 | AR11: =SUMIF($BN$4:$BN$99,'Dummy Table'!$AF11,$BL$4:$BL$99) -> 0 | AS11: =AQ11-AR11 -> 0 | AT11: =IF(AF11<>"",AN11*3+AO11*1,"") -> 0 | AU11: =AG11+AN11 -> 0 | AV11: =AH11+AO11 -> 0 | AW11: =AI11+AP11 -> 0 | AX11: =AJ11+AQ11 -> 0 | AY11: =AK11+AR11 -> 0 | AZ11: =AL11+AS11 -> 0 | BA11: =IF(AF11<>"",AM11+AT11,-1) -> 0 | BB11: =IF(AF11<>"",VLOOKUP(AF11,$B$4:$V$35,21,FALSE),"") -> 0 | BC11: =IF(AF11<>"",VLOOKUP(AF11,$B$4:$T$35,19,FALSE),"") -> 0 | BD11: =IF(AF11<>"",VLOOKUP(AF11,$B$4:$X$35,23,FALSE),"") -> 21 | BE11: =RANK(BA11,BA$8:BA$11) -> 1 | BF11: =SUMPRODUCT((BA$8:BA$11=BA11)*(AZ$8:AZ$11>AZ11)) -> 0 | BG11: =SUMPRODUCT((BA$8:BA$11=BA11)*(BE$8:BE$11=BE11)*(AZ$8:AZ$11=AZ11)*(AQ$8:AQ$11>AQ11)) -> 0 | BH11: =SUMPRODUCT((BA$8:BA$11=BA11)*(BE$8:BE$11=BE11)*(AZ$8:AZ$11=AZ11)*(AQ$8:AQ$11=AQ11)*(BB$8:BB$11>BB11)) -> 0 | BI11: =SUMPRODUCT((BA$8:BA$11=BA11)*(BE$8:BE$11=BE11)*(AZ$8:AZ$11=AZ11)*(AQ$8:AQ$11=AQ11)*(BB$8:BB$11=BB11)*(BC$8:BC$11>BC11)) -> 0 | BJ11: =SUMPRODUCT((BA$8:BA$11=BA11)*(BE$8:BE$11=BE11)*(AZ$8:AZ$11=AZ11)*(AQ$8:AQ$11=AQ11)*(BB$8:BB$11=BB11)*(BC$8:BC$11=BC11)*(BD$8:BD$11>BD11)) -> 3 | BK11: =IF(AND(COUNTIF($AF$4:$AF$35,Gruppenphase!G20)>0,COUNTIF($AF$4:$AF$35,Gruppenphase!M20)>0,Gruppenphase!I20<>"",Gruppenphase!K20<>""),Gruppenphase!G20,"") | BL11: =IF($BK11<>"",Gruppenphase!I20,"") | BM11: =IF($BK11<>"",Gruppenphase!K20,"") | BN11: =IF($BK11<>"",Gruppenphase!M20,"") | BO11: =IF(AF11="","",SUM(BE11:BJ11)) -> 4 | BP11: =IF(AF11="","",AF11) -> Trabzonspor | BQ11: =VLOOKUP($AD11,$B$8:$W$11,22,FALSE) -> 0 | BR11: =IF(BR10<>"",AD11,"") | BS11: =SUMPRODUCT(($BK$4:$BK$99='Dummy Table'!$AF11)*($BL$4:$BL$99>$BM$4:$BM$99)) -> 0 | BT11: =SUMPRODUCT(($BK$4:$BK$99='Dummy Table'!$AF11)*($BL$4:$BL$99=$BM$4:$BM$99)) -> 0 | BU11: =SUMPRODUCT(($BK$4:$BK$99='Dummy Table'!$AF11)*($BL$4:$BL$99<$BM$4:$BM$99)) -> 0 | BV11: =SUMIF($BK$4:$BK$99,'Dummy Table'!$AF11,$BL$4:$BL$99) -> 0 | BW11: =SUMIF($BK$4:$BK$99,'Dummy Table'!$AF11,$BM$4:$BM$99) -> 0 | BX11: =BV11-BW11 -> 0 | BY11: =IF(BR11<>"",BS11*3+BT11*1,"") | BZ11: =SUMPRODUCT(($BN$4:$BN$99='Dummy Table'!$AF11)*($BL$4:$BL$99<$BM$4:$BM$99)) -> 0 | CA11: =SUMPRODUCT(($BN$4:$BN$99='Dummy Table'!$AF11)*($BL$4:$BL$99=$BM$4:$BM$99)) -> 0 | CB11: =SUMPRODUCT(($BN$4:$BN$99='Dummy Table'!$AF11)*($BL$4:$BL$99>$BM$4:$BM$99)) -> 0 | CC11: =SUMIF($BN$4:$BN$99,'Dummy Table'!$AF11,$BM$4:$BM$99) -> 0 | CD11: =SUMIF($BN$4:$BN$99,'Dummy Table'!$AF11,$BL$4:$BL$99) -> 0 | CE11: =CC11-CD11 -> 0 | CF11: =IF(BR11<>"",BZ11*3+CA11*1,"") | CG11: =BS11+BZ11 -> 0 | CH11: =BT11+CA11 -> 0 | CI11: =BU11+CB11 -> 0 | CJ11: =BV11+CC11 -> 0 | CK11: =BW11+CD11 -> 0 | CL11: =BX11+CE11 -> 0 | CM11: =IF(BR11<>"",BY11+CF11,-1) -> -1 | CN11: 8 | CO11: =RANK(CM11,CM$8:CM$11) -> 1 | CP11: =SUMPRODUCT((CM$8:CM$11=CM11)*(CO$8:CO$11=CO11)*(CC$8:CC$11>CC11)) -> 0 | CQ11: =SUMPRODUCT((CM$8:CM$11=CM11)*(CL$8:CL$11>CL11)) -> 0 | CR11: =SUMPRODUCT((CO$8:CO$11=CO11)*(CQ$8:CQ$11=CQ11)*(CJ$8:CJ$11>CJ11)) -> 0 | CS11: =SUMPRODUCT((CO$8:CO$11=CO11)*(CQ$8:CQ$11=CQ11)*(CJ$8:CJ$11=CJ11)*(CN$8:CN$11>CN11)) -> 0 | CT11: =IF(AND(COUNTIF($AF$4:$AF$35,Gruppenphase!$G20)>0,COUNTIF($AF$4:$AF$35,Gruppenphase!$M20)>0),Gruppenphase!$G20,"") -> Viktoria Plzeň | CU11: =IF($BK11<>"",Gruppenphase!$I20,"") | CV11: =IF($BK11<>"",Gruppenphase!$K20,"") | CW11: =IF($BK11<>"",Gruppenphase!$M20,"") | CX11: =IF(BR11="","",SUM(CO11:CS11)) | CY11: =IF(BR11="","",BR11) | CZ11: 4 | DA11: =IF(AF11="",AD11,"") | DB11: =IF(AND(DA11="",DA10="",DA9="",DA8=""),4,IF(AND(DA11="",DA10="",DA9=""),3,IF(AND(DA9<>"",DA10="",DA11=""),2,IF(AND(DA9<>"",DA10<>"",DA11=""),1,"")))) -> 4 | DC11: =VLOOKUP(DB11,$BO$8:$BP$11,2,FALSE) -> Trabzonspor | DD11: 4 | DE11: =IF(CY11<>"",IF(CX10<CX11,CY11,CY10),IF(DC11<>"",DC11,DA11)) -> Trabzonspor
A12: =Y12+Z12+AA12+AB12 -> 1 | B12: ='Club Namen'!B11 -> Manchester United | C12: =SUMPRODUCT((Gruppenphase!$I$13:$I$108<>"")*(Gruppenphase!$K$13:$K$108<>"")*(Gruppenphase!$G$13:$G$108='Dummy Table'!$B12)*(Gruppenphase!$I$13:$I$108>Gruppenphase!$K$13:$K$108)) -> 0 | D12: =SUMPRODUCT((Gruppenphase!$I$13:$I$108<>"")*(Gruppenphase!$K$13:$K$108<>"")*(Gruppenphase!$G$13:$G$108='Dummy Table'!$B12)*(Gruppenphase!$I$13:$I$108=Gruppenphase!$K$13:$K$108)) -> 0 | E12: =SUMPRODUCT((Gruppenphase!$I$13:$I$108<>"")*(Gruppenphase!$K$13:$K$108<>"")*(Gruppenphase!$G$13:$G$108='Dummy Table'!$B12)*(Gruppenphase!$I$13:$I$108<Gruppenphase!$K$13:$K$108)) -> 0 | F12: =SUMIF(Gruppenphase!$G$13:$G$108,'Dummy Table'!$B12,Gruppenphase!$I$13:$I$108) -> 0 | G12: =SUMIF(Gruppenphase!$G$13:$G$108,'Dummy Table'!$B12,Gruppenphase!$K$13:$K$108) -> 0 | H12: =F12-G12 -> 0 | I12: =C12*3+D12*1 -> 0 | J12: =SUMPRODUCT((Gruppenphase!$I$13:$I$108<>"")*(Gruppenphase!$K$13:$K$108<>"")*(Gruppenphase!$M$13:$M$108='Dummy Table'!$B12)*(Gruppenphase!$I$13:$I$108<Gruppenphase!$K$13:$K$108)) -> 0 | K12: =SUMPRODUCT((Gruppenphase!$I$13:$I$108<>"")*(Gruppenphase!$K$13:$K$108<>"")*(Gruppenphase!$M$13:$M$108='Dummy Table'!$B12)*(Gruppenphase!$I$13:$I$108=Gruppenphase!$K$13:$K$108)) -> 0 | L12: =SUMPRODUCT((Gruppenphase!$I$13:$I$108<>"")*(Gruppenphase!$K$13:$K$108<>"")*(Gruppenphase!$M$13:$M$108='Dummy Table'!$B12)*(Gruppenphase!$I$13:$I$108>Gruppenphase!$K$13:$K$108)) -> 0 | M12: =SUMIF(Gruppenphase!$M$13:$M$108,'Dummy Table'!$B12,Gruppenphase!$K$13:$K$108) -> 0 | N12: =SUMIF(Gruppenphase!$M$13:$M$108,'Dummy Table'!$B12,Gruppenphase!$I$13:$I$108) -> 0 | O12: =M12-N12 -> 0 | P12: =J12*3+K12*1 -> 0 | Q12: =C12+J12 -> 0 | R12: =D12+K12 -> 0 | S12: =E12+L12 -> 0 | T12: =F12+M12 -> 0 | U12: =G12+N12 -> 0 | V12: =H12+O12 -> 0 | W12: =I12+P12 -> 0 | X12: 110 | Y12: =RANK(W12,W$12:W$15) -> 1 | Z12: =SUMPRODUCT((W$12:W$15=W12)*(V$12:V$15>V12)) -> 0 | AA12: =SUMPRODUCT((Y$12:Y$15=Y12)*(Z$12:Z$15=Z12)*(T$12:T$15>T12)) -> 0 | AB12: =SUMPRODUCT((Y$12:Y$15=Y12)*(Z$12:Z$15=Z12)*(T$12:T$15=T12)*(X$12:X$15>X12)) -> 0 | AC12: 1 | AD12: =VLOOKUP(AC12,$A$12:$B$15,2,FALSE) -> Manchester United | AE12: =VLOOKUP($AD12,$B$12:$W$15,22,FALSE) -> 0 | AF12: =IF(AE12=AE13,AD12,"") -> Manchester United | AG12: =SUMPRODUCT(($BK$4:$BK$99='Dummy Table'!$AF12)*($BL$4:$BL$99>$BM$4:$BM$99)) -> 0 | AH12: =SUMPRODUCT(($BK$4:$BK$99='Dummy Table'!$AF12)*($BL$4:$BL$99=$BM$4:$BM$99)) -> 0 | AI12: =SUMPRODUCT(($BK$4:$BK$99='Dummy Table'!$AF12)*($BL$4:$BL$99<$BM$4:$BM$99)) -> 0 | AJ12: =SUMIF($BK$4:$BK$99,'Dummy Table'!$AF12,$BL$4:$BL$99) -> 0 | AK12: =SUMIF($BK$4:$BK$99,'Dummy Table'!$AF12,$BM$4:$BM$99) -> 0 | AL12: =AJ12-AK12 -> 0 | AM12: =IF(AF12<>"",AG12*3+AH12*1,"") -> 0 | AN12: =SUMPRODUCT(($BN$4:$BN$99='Dummy Table'!$AF12)*($BL$4:$BL$99<$BM$4:$BM$99)) -> 0 | AO12: =SUMPRODUCT(($BN$4:$BN$99='Dummy Table'!$AF12)*($BL$4:$BL$99=$BM$4:$BM$99)) -> 0 | AP12: =SUMPRODUCT(($BN$4:$BN$99='Dummy Table'!$AF12)*($BL$4:$BL$99>$BM$4:$BM$99)) -> 0 | AQ12: =SUMIF($BN$4:$BN$99,'Dummy Table'!$AF12,$BM$4:$BM$99) -> 0 | AR12: =SUMIF($BN$4:$BN$99,'Dummy Table'!$AF12,$BL$4:$BL$99) -> 0 | AS12: =AQ12-AR12 -> 0 | AT12: =IF(AF12<>"",AN12*3+AO12*1,"") -> 0 | AU12: =AG12+AN12 -> 0 | AV12: =AH12+AO12 -> 0 | AW12: =AI12+AP12 -> 0 | AX12: =AJ12+AQ12 -> 0 | AY12: =AK12+AR12 -> 0 | AZ12: =AL12+AS12 -> 0 | BA12: =IF(AF12<>"",AM12+AT12,-1) -> 0 | BB12: =IF(AF12<>"",VLOOKUP(AF12,$B$4:$V$35,21,FALSE),"") -> 0 | BC12: =IF(AF12<>"",VLOOKUP(AF12,$B$4:$T$35,19,FALSE),"") -> 0 | BD12: =IF(AF12<>"",VLOOKUP(AF12,$B$4:$X$35,23,FALSE),"") -> 110 | BE12: =RANK(BA12,BA$12:BA$15) -> 1 | BF12: =SUMPRODUCT((BA$12:BA$15=BA12)*(AZ$12:AZ$15>AZ12)) -> 0 | BG12: =SUMPRODUCT((BA$12:BA$15=BA12)*(BE$12:BE$15=BE12)*(AZ$12:AZ$15=AZ12)*(AQ$12:AQ$15>AQ12)) -> 0 | BH12: =SUMPRODUCT((BA$12:BA$15=BA12)*(BE$12:BE$15=BE12)*(AZ$12:AZ$15=AZ12)*(AQ$12:AQ$15=AQ12)*(BB$12:BB$15>BB12)) -> 0 | BI12: =SUMPRODUCT((BA$12:BA$15=BA12)*(BE$12:BE$15=BE12)*(AZ$12:AZ$15=AZ12)*(AQ$12:AQ$15=AQ12)*(BB$12:BB$15=BB12)*(BC$12:BC$15>BC12)) -> 0 | BJ12: =SUMPRODUCT((BA$12:BA$15=BA12)*(BE$12:BE$15=BE12)*(AZ$12:AZ$15=AZ12)*(AQ$12:AQ$15=AQ12)*(BB$12:BB$15=BB12)*(BC$12:BC$15=BC12)*(BD$12:BD$15>BD12)) -> 0 | BK12: =IF(AND(COUNTIF($AF$4:$AF$35,Gruppenphase!G21)>0,COUNTIF($AF$4:$AF$35,Gruppenphase!M21)>0,Gruppenphase!I21<>"",Gruppenphase!K21<>""),Gruppenphase!G21,"") | BL12: =IF($BK12<>"",Gruppenphase!I21,"") | BM12: =IF($BK12<>"",Gruppenphase!K21,"") | BN12: =IF($BK12<>"",Gruppenphase!M21,"") | BO12: =IF(AF12="","",SUM(BE12:BJ12)) -> 1 | BP12: =IF(AF12="","",AF12) -> Manchester United | BQ12: =VLOOKUP($AD12,$B$12:$W$15,22,FALSE) -> 0 | BS12: =SUMPRODUCT(($BK$4:$BK$99='Dummy Table'!$AF12)*($BL$4:$BL$99>$BM$4:$BM$99)) -> 0 | BT12: =SUMPRODUCT(($BK$4:$BK$99='Dummy Table'!$AF12)*($BL$4:$BL$99=$BM$4:$BM$99)) -> 0 | BU12: =SUMPRODUCT(($BK$4:$BK$99='Dummy Table'!$AF12)*($BL$4:$BL$99<$BM$4:$BM$99)) -> 0 | BV12: =SUMIF($BK$4:$BK$99,'Dummy Table'!$AF12,$BL$4:$BL$99) -> 0 | BW12: =SUMIF($BK$4:$BK$99,'Dummy Table'!$AF12,$BM$4:$BM$99) -> 0 | BX12: =BV12-BW12 -> 0 | BY12: =IF(BR12<>"",BS12*3+BT12*1,"") | BZ12: =SUMPRODUCT(($BN$4:$BN$99='Dummy Table'!$AF12)*($BL$4:$BL$99<$BM$4:$BM$99)) -> 0 | CA12: =SUMPRODUCT(($BN$4:$BN$99='Dummy Table'!$AF12)*($BL$4:$BL$99=$BM$4:$BM$99)) -> 0 | CB12: =SUMPRODUCT(($BN$4:$BN$99='Dummy Table'!$AF12)*($BL$4:$BL$99>$BM$4:$BM$99)) -> 0 | CC12: =SUMIF($BN$4:$BN$99,'Dummy Table'!$AF12,$BM$4:$BM$99) -> 0 | CD12: =SUMIF($BN$4:$BN$99,'Dummy Table'!$AF12,$BL$4:$BL$99) -> 0 | CE12: =CC12-CD12 -> 0 | CF12: =IF(BR12<>"",BZ12*3+CA12*1,"") | CG12: =BS12+BZ12 -> 0 | CH12: =BT12+CA12 -> 0 | CI12: =BU12+CB12 -> 0 | CJ12: =BV12+CC12 -> 0 | CK12: =BW12+CD12 -> 0 | CL12: =BX12+CE12 -> 0 | CM12: =IF(BR12<>"",BY12+CF12,-1) -> -1 | CN12: 9 | CO12: =RANK(CM12,CM$12:CM$15) -> 1 | CP12: =SUMPRODUCT((CM$12:CM$15=CM12)*(CO$12:CO$15=CO12)*(CC$12:CC$15>CC12)) -> 0 | CQ12: =SUMPRODUCT((CM$12:CM$15=CM12)*(CL$12:CL$15>CL12)) -> 0 | CR12: =SUMPRODUCT((CO$12:CO$15=CO12)*(CQ$12:CQ$15=CQ12)*(CJ$12:CJ$15>CJ12)) -> 0 | CS12: =SUMPRODUCT((CO$12:CO$15=CO12)*(CQ$12:CQ$15=CQ12)*(CJ$12:CJ$15=CJ12)*(CN$12:CN$15>CN12)) -> 3 | CT12: =IF(AND(COUNTIF($AF$4:$AF$35,Gruppenphase!$G21)>0,COUNTIF($AF$4:$AF$35,Gruppenphase!$M21)>0),Gruppenphase!$G21,"") -> Manchester City | CU12: =IF($BK12<>"",Gruppenphase!$I21,"") | CV12: =IF($BK12<>"",Gruppenphase!$K21,"") | CW12: =IF($BK12<>"",Gruppenphase!$M21,"") | CX12: =IF(BR12="","",SUM(CO12:CS12)) | CY12: =IF(BR12="","",BR12) | CZ12: 1 | DA12: =IF(AF12="",AD12,"") | DB12: =IF(DA12="",CZ12,"") -> 1 | DC12: =VLOOKUP(DB12,$BO$12:$BP$15,2,FALSE) -> Manchester United | DD12: 1 | DE12: =IF(DA12="",DC12,DA12) -> Manchester United
A13: =Y13+Z13+AA13+AB13 -> 2 | B13: ='Club Namen'!B12 -> Benfica | C13: =SUMPRODUCT((Gruppenphase!$I$13:$I$108<>"")*(Gruppenphase!$K$13:$K$108<>"")*(Gruppenphase!$G$13:$G$108='Dummy Table'!$B13)*(Gruppenphase!$I$13:$I$108>Gruppenphase!$K$13:$K$108)) -> 0 | D13: =SUMPRODUCT((Gruppenphase!$I$13:$I$108<>"")*(Gruppenphase!$K$13:$K$108<>"")*(Gruppenphase!$G$13:$G$108='Dummy Table'!$B13)*(Gruppenphase!$I$13:$I$108=Gruppenphase!$K$13:$K$108)) -> 0 | E13: =SUMPRODUCT((Gruppenphase!$I$13:$I$108<>"")*(Gruppenphase!$K$13:$K$108<>"")*(Gruppenphase!$G$13:$G$108='Dummy Table'!$B13)*(Gruppenphase!$I$13:$I$108<Gruppenphase!$K$13:$K$108)) -> 0 | F13: =SUMIF(Gruppenphase!$G$13:$G$108,'Dummy Table'!$B13,Gruppenphase!$I$13:$I$108) -> 0 | G13: =SUMIF(Gruppenphase!$G$13:$G$108,'Dummy Table'!$B13,Gruppenphase!$K$13:$K$108) -> 0 | H13: =F13-G13 -> 0 | I13: =C13*3+D13*1 -> 0 | J13: =SUMPRODUCT((Gruppenphase!$I$13:$I$108<>"")*(Gruppenphase!$K$13:$K$108<>"")*(Gruppenphase!$M$13:$M$108='Dummy Table'!$B13)*(Gruppenphase!$I$13:$I$108<Gruppenphase!$K$13:$K$108)) -> 0 | K13: =SUMPRODUCT((Gruppenphase!$I$13:$I$108<>"")*(Gruppenphase!$K$13:$K$108<>"")*(Gruppenphase!$M$13:$M$108='Dummy Table'!$B13)*(Gruppenphase!$I$13:$I$108=Gruppenphase!$K$13:$K$108)) -> 0 | L13: =SUMPRODUCT((Gruppenphase!$I$13:$I$108<>"")*(Gruppenphase!$K$13:$K$108<>"")*(Gruppenphase!$M$13:$M$108='Dummy Table'!$B13)*(Gruppenphase!$I$13:$I$108>Gruppenphase!$K$13:$K$108)) -> 0 | M13: =SUMIF(Gruppenphase!$M$13:$M$108,'Dummy Table'!$B13,Gruppenphase!$K$13:$K$108) -> 0 | N13: =SUMIF(Gruppenphase!$M$13:$M$108,'Dummy Table'!$B13,Gruppenphase!$I$13:$I$108) -> 0 | O13: =M13-N13 -> 0 | P13: =J13*3+K13*1 -> 0 | Q13: =C13+J13 -> 0 | R13: =D13+K13 -> 0 | S13: =E13+L13 -> 0 | T13: =F13+M13 -> 0 | U13: =G13+N13 -> 0 | V13: =H13+O13 -> 0 | W13: =I13+P13 -> 0 | X13: 78 | Y13: =RANK(W13,W$12:W$15) -> 1 | Z13: =SUMPRODUCT((W$12:W$15=W13)*(V$12:V$15>V13)) -> 0 | AA13: =SUMPRODUCT((Y$12:Y$15=Y13)*(Z$12:Z$15=Z13)*(T$12:T$15>T13)) -> 0 | AB13: =SUMPRODUCT((Y$12:Y$15=Y13)*(Z$12:Z$15=Z13)*(T$12:T$15=T13)*(X$12:X$15>X13)) -> 1 | AC13: 2 | AD13: =VLOOKUP(AC13,$A$12:$B$15,2,FALSE) -> Benfica | AE13: =VLOOKUP($AD13,$B$12:$W$15,22,FALSE) -> 0 | AF13: =IF(OR(AE13=AE12,AE13=AE14),AD13,"") -> Benfica | AG13: =SUMPRODUCT(($BK$4:$BK$99='Dummy Table'!$AF13)*($BL$4:$BL$99>$BM$4:$BM$99)) -> 0 | AH13: =SUMPRODUCT(($BK$4:$BK$99='Dummy Table'!$AF13)*($BL$4:$BL$99=$BM$4:$BM$99)) -> 0 | AI13: =SUMPRODUCT(($BK$4:$BK$99='Dummy Table'!$AF13)*($BL$4:$BL$99<$BM$4:$BM$99)) -> 0 | AJ13: =SUMIF($BK$4:$BK$99,'Dummy Table'!$AF13,$BL$4:$BL$99) -> 0 | AK13: =SUMIF($BK$4:$BK$99,'Dummy Table'!$AF13,$BM$4:$BM$99) -> 0 | AL13: =AJ13-AK13 -> 0 | AM13: =IF(AF13<>"",AG13*3+AH13*1,"") -> 0 | AN13: =SUMPRODUCT(($BN$4:$BN$99='Dummy Table'!$AF13)*($BL$4:$BL$99<$BM$4:$BM$99)) -> 0 | AO13: =SUMPRODUCT(($BN$4:$BN$99='Dummy Table'!$AF13)*($BL$4:$BL$99=$BM$4:$BM$99)) -> 0 | AP13: =SUMPRODUCT(($BN$4:$BN$99='Dummy Table'!$AF13)*($BL$4:$BL$99>$BM$4:$BM$99)) -> 0 | AQ13: =SUMIF($BN$4:$BN$99,'Dummy Table'!$AF13,$BM$4:$BM$99) -> 0 | AR13: =SUMIF($BN$4:$BN$99,'Dummy Table'!$AF13,$BL$4:$BL$99) -> 0 | AS13: =AQ13-AR13 -> 0 | AT13: =IF(AF13<>"",AN13*3+AO13*1,"") -> 0 | AU13: =AG13+AN13 -> 0 | AV13: =AH13+AO13 -> 0 | AW13: =AI13+AP13 -> 0 | AX13: =AJ13+AQ13 -> 0 | AY13: =AK13+AR13 -> 0 | AZ13: =AL13+AS13 -> 0 | BA13: =IF(AF13<>"",AM13+AT13,-1) -> 0 | BB13: =IF(AF13<>"",VLOOKUP(AF13,$B$4:$V$35,21,FALSE),"") -> 0 | BC13: =IF(AF13<>"",VLOOKUP(AF13,$B$4:$T$35,19,FALSE),"") -> 0 | BD13: =IF(AF13<>"",VLOOKUP(AF13,$B$4:$X$35,23,FALSE),"") -> 78 | BE13: =RANK(BA13,BA$12:BA$15) -> 1 | BF13: =SUMPRODUCT((BA$12:BA$15=BA13)*(AZ$12:AZ$15>AZ13)) -> 0 | BG13: =SUMPRODUCT((BA$12:BA$15=BA13)*(BE$12:BE$15=BE13)*(AZ$12:AZ$15=AZ13)*(AQ$12:AQ$15>AQ13)) -> 0 | BH13: =SUMPRODUCT((BA$12:BA$15=BA13)*(BE$12:BE$15=BE13)*(AZ$12:AZ$15=AZ13)*(AQ$12:AQ$15=AQ13)*(BB$12:BB$15>BB13)) -> 0 | BI13: =SUMPRODUCT((BA$12:BA$15=BA13)*(BE$12:BE$15=BE13)*(AZ$12:AZ$15=AZ13)*(AQ$12:AQ$15=AQ13)*(BB$12:BB$15=BB13)*(BC$12:BC$15>BC13)) -> 0 | BJ13: =SUMPRODUCT((BA$12:BA$15=BA13)*(BE$12:BE$15=BE13)*(AZ$12:AZ$15=AZ13)*(AQ$12:AQ$15=AQ13)*(BB$12:BB$15=BB13)*(BC$12:BC$15=BC13)*(BD$12:BD$15>BD13)) -> 1 | BK13: =IF(AND(COUNTIF($AF$4:$AF$35,Gruppenphase!G22)>0,COUNTIF($AF$4:$AF$35,Gruppenphase!M22)>0,Gruppenphase!I22<>"",Gruppenphase!K22<>""),Gruppenphase!G22,"") | BL13: =IF($BK13<>"",Gruppenphase!I22,"") | BM13: =IF($BK13<>"",Gruppenphase!K22,"") | BN13: =IF($BK13<>"",Gruppenphase!M22,"") | BO13: =IF(AF13="","",SUM(BE13:BJ13)) -> 2 | BP13: =IF(AF13="","",AF13) -> Benfica | BQ13: =VLOOKUP($AD13,$B$12:$W$15,22,FALSE) -> 0 | BS13: =SUMPRODUCT(($BK$4:$BK$99='Dummy Table'!$AF13)*($BL$4:$BL$99>$BM$4:$BM$99)) -> 0 | BT13: =SUMPRODUCT(($BK$4:$BK$99='Dummy Table'!$AF13)*($BL$4:$BL$99=$BM$4:$BM$99)) -> 0 | BU13: =SUMPRODUCT(($BK$4:$BK$99='Dummy Table'!$AF13)*($BL$4:$BL$99<$BM$4:$BM$99)) -> 0 | BV13: =SUMIF($BK$4:$BK$99,'Dummy Table'!$AF13,$BL$4:$BL$99) -> 0 | BW13: =SUMIF($BK$4:$BK$99,'Dummy Table'!$AF13,$BM$4:$BM$99) -> 0 | BX13: =BV13-BW13 -> 0 | BY13: =IF(BR13<>"",BS13*3+BT13*1,"") | BZ13: =SUMPRODUCT(($BN$4:$BN$99='Dummy Table'!$AF13)*($BL$4:$BL$99<$BM$4:$BM$99)) -> 0 | CA13: =SUMPRODUCT(($BN$4:$BN$99='Dummy Table'!$AF13)*($BL$4:$BL$99=$BM$4:$BM$99)) -> 0 | CB13: =SUMPRODUCT(($BN$4:$BN$99='Dummy Table'!$AF13)*($BL$4:$BL$99>$BM$4:$BM$99)) -> 0 | CC13: =SUMIF($BN$4:$BN$99,'Dummy Table'!$AF13,$BM$4:$BM$99) -> 0 | CD13: =SUMIF($BN$4:$BN$99,'Dummy Table'!$AF13,$BL$4:$BL$99) -> 0 | CE13: =CC13-CD13 -> 0 | CF13: =IF(BR13<>"",BZ13*3+CA13*1,"") | CG13: =BS13+BZ13 -> 0 | CH13: =BT13+CA13 -> 0 | CI13: =BU13+CB13 -> 0 | CJ13: =BV13+CC13 -> 0 | CK13: =BW13+CD13 -> 0 | CL13: =BX13+CE13 -> 0 | CM13: =IF(BR13<>"",BY13+CF13,-1) -> -1 | CN13: 10 | CO13: =RANK(CM13,CM$12:CM$15) -> 1 | CP13: =SUMPRODUCT((CM$12:CM$15=CM13)*(CO$12:CO$15=CO13)*(CC$12:CC$15>CC13)) -> 0 | CQ13: =SUMPRODUCT((CM$12:CM$15=CM13)*(CL$12:CL$15>CL13)) -> 0 | CR13: =SUMPRODUCT((CO$12:CO$15=CO13)*(CQ$12:CQ$15=CQ13)*(CJ$12:CJ$15>CJ13)) -> 0 | CS13: =SUMPRODUCT((CO$12:CO$15=CO13)*(CQ$12:CQ$15=CQ13)*(CJ$12:CJ$15=CJ13)*(CN$12:CN$15>CN13)) -> 2 | CT13: =IF(AND(COUNTIF($AF$4:$AF$35,Gruppenphase!$G22)>0,COUNTIF($AF$4:$AF$35,Gruppenphase!$M22)>0),Gruppenphase!$G22,"") -> Villarreal | CU13: =IF($BK13<>"",Gruppenphase!$I22,"") | CV13: =IF($BK13<>"",Gruppenphase!$K22,"") | CW13: =IF($BK13<>"",Gruppenphase!$M22,"") | CX13: =IF(BR13="","",SUM(CO13:CS13)) | CY13: =IF(BR13="","",BR13) | CZ13: 2 | DA13: =IF(AF13="",AD13,"") | DB13: =IF(AND(DA13="",DA12=""),CZ13,IF(AND(DA12<>"",DA13=""),1,"")) -> 2 | DC13: =VLOOKUP(DB13,$BO$12:$BP$15,2,FALSE) -> Benfica | DD13: 2 | DE13: =IF(DA13="",DC13,DA13) -> Benfica
A14: =Y14+Z14+AA14+AB14 -> 3 | B14: ='Club Namen'!B13 -> Basel | C14: =SUMPRODUCT((Gruppenphase!$I$13:$I$108<>"")*(Gruppenphase!$K$13:$K$108<>"")*(Gruppenphase!$G$13:$G$108='Dummy Table'!$B14)*(Gruppenphase!$I$13:$I$108>Gruppenphase!$K$13:$K$108)) -> 0 | D14: =SUMPRODUCT((Gruppenphase!$I$13:$I$108<>"")*(Gruppenphase!$K$13:$K$108<>"")*(Gruppenphase!$G$13:$G$108='Dummy Table'!$B14)*(Gruppenphase!$I$13:$I$108=Gruppenphase!$K$13:$K$108)) -> 0 | E14: =SUMPRODUCT((Gruppenphase!$I$13:$I$108<>"")*(Gruppenphase!$K$13:$K$108<>"")*(Gruppenphase!$G$13:$G$108='Dummy Table'!$B14)*(Gruppenphase!$I$13:$I$108<Gruppenphase!$K$13:$K$108)) -> 0 | F14: =SUMIF(Gruppenphase!$G$13:$G$108,'Dummy Table'!$B14,Gruppenphase!$I$13:$I$108) -> 0 | G14: =SUMIF(Gruppenphase!$G$13:$G$108,'Dummy Table'!$B14,Gruppenphase!$K$13:$K$108) -> 0 | H14: =F14-G14 -> 0 | I14: =C14*3+D14*1 -> 0 | J14: =SUMPRODUCT((Gruppenphase!$I$13:$I$108<>"")*(Gruppenphase!$K$13:$K$108<>"")*(Gruppenphase!$M$13:$M$108='Dummy Table'!$B14)*(Gruppenphase!$I$13:$I$108<Gruppenphase!$K$13:$K$108)) -> 0 | K14: =SUMPRODUCT((Gruppenphase!$I$13:$I$108<>"")*(Gruppenphase!$K$13:$K$108<>"")*(Gruppenphase!$M$13:$M$108='Dummy Table'!$B14)*(Gruppenphase!$I$13:$I$108=Gruppenphase!$K$13:$K$108)) -> 0 | L14: =SUMPRODUCT((Gruppenphase!$I$13:$I$108<>"")*(Gruppenphase!$K$13:$K$108<>"")*(Gruppenphase!$M$13:$M$108='Dummy Table'!$B14)*(Gruppenphase!$I$13:$I$108>Gruppenphase!$K$13:$K$108)) -> 0 | M14: =SUMIF(Gruppenphase!$M$13:$M$108,'Dummy Table'!$B14,Gruppenphase!$K$13:$K$108) -> 0 | N14: =SUMIF(Gruppenphase!$M$13:$M$108,'Dummy Table'!$B14,Gruppenphase!$I$13:$I$108) -> 0 | O14: =M14-N14 -> 0 | P14: =J14*3+K14*1 -> 0 | Q14: =C14+J14 -> 0 | R14: =D14+K14 -> 0 | S14: =E14+L14 -> 0 | T14: =F14+M14 -> 0 | U14: =G14+N14 -> 0 | V14: =H14+O14 -> 0 | W14: =I14+P14 -> 0 | X14: 48 | Y14: =RANK(W14,W$12:W$15) -> 1 | Z14: =SUMPRODUCT((W$12:W$15=W14)*(V$12:V$15>V14)) -> 0 | AA14: =SUMPRODUCT((Y$12:Y$15=Y14)*(Z$12:Z$15=Z14)*(T$12:T$15>T14)) -> 0 | AB14: =SUMPRODUCT((Y$12:Y$15=Y14)*(Z$12:Z$15=Z14)*(T$12:T$15=T14)*(X$12:X$15>X14)) -> 2 | AC14: 3 | AD14: =VLOOKUP(AC14,$A$12:$B$15,2,FALSE) -> Basel | AE14: =VLOOKUP($AD14,$B$12:$W$15,22,FALSE) -> 0 | AF14: =IF(AE14=AE13,AD14,"") -> Basel | AG14: =SUMPRODUCT(($BK$4:$BK$99='Dummy Table'!$AF14)*($BL$4:$BL$99>$BM$4:$BM$99)) -> 0 | AH14: =SUMPRODUCT(($BK$4:$BK$99='Dummy Table'!$AF14)*($BL$4:$BL$99=$BM$4:$BM$99)) -> 0 | AI14: =SUMPRODUCT(($BK$4:$BK$99='Dummy Table'!$AF14)*($BL$4:$BL$99<$BM$4:$BM$99)) -> 0 | AJ14: =SUMIF($BK$4:$BK$99,'Dummy Table'!$AF14,$BL$4:$BL$99) -> 0 | AK14: =SUMIF($BK$4:$BK$99,'Dummy Table'!$AF14,$BM$4:$BM$99) -> 0 | AL14: =AJ14-AK14 -> 0 | AM14: =IF(AF14<>"",AG14*3+AH14*1,"") -> 0 | AN14: =SUMPRODUCT(($BN$4:$BN$99='Dummy Table'!$AF14)*($BL$4:$BL$99<$BM$4:$BM$99)) -> 0 | AO14: =SUMPRODUCT(($BN$4:$BN$99='Dummy Table'!$AF14)*($BL$4:$BL$99=$BM$4:$BM$99)) -> 0 | AP14: =SUMPRODUCT(($BN$4:$BN$99='Dummy Table'!$AF14)*($BL$4:$BL$99>$BM$4:$BM$99)) -> 0 | AQ14: =SUMIF($BN$4:$BN$99,'Dummy Table'!$AF14,$BM$4:$BM$99) -> 0 | AR14: =SUMIF($BN$4:$BN$99,'Dummy Table'!$AF14,$BL$4:$BL$99) -> 0 | AS14: =AQ14-AR14 -> 0 | AT14: =IF(AF14<>"",AN14*3+AO14*1,"") -> 0 | AU14: =AG14+AN14 -> 0 | AV14: =AH14+AO14 -> 0 | AW14: =AI14+AP14 -> 0 | AX14: =AJ14+AQ14 -> 0 | AY14: =AK14+AR14 -> 0 | AZ14: =AL14+AS14 -> 0 | BA14: =IF(AF14<>"",AM14+AT14,-1) -> 0 | BB14: =IF(AF14<>"",VLOOKUP(AF14,$B$4:$V$35,21,FALSE),"") -> 0 | BC14: =IF(AF14<>"",VLOOKUP(AF14,$B$4:$T$35,19,FALSE),"") -> 0 | BD14: =IF(AF14<>"",VLOOKUP(AF14,$B$4:$X$35,23,FALSE),"") -> 48 | BE14: =RANK(BA14,BA$12:BA$15) -> 1 | BF14: =SUMPRODUCT((BA$12:BA$15=BA14)*(AZ$12:AZ$15>AZ14)) -> 0 | BG14: =SUMPRODUCT((BA$12:BA$15=BA14)*(BE$12:BE$15=BE14)*(AZ$12:AZ$15=AZ14)*(AQ$12:AQ$15>AQ14)) -> 0 | BH14: =SUMPRODUCT((BA$12:BA$15=BA14)*(BE$12:BE$15=BE14)*(AZ$12:AZ$15=AZ14)*(AQ$12:AQ$15=AQ14)*(BB$12:BB$15>BB14)) -> 0 | BI14: =SUMPRODUCT((BA$12:BA$15=BA14)*(BE$12:BE$15=BE14)*(AZ$12:AZ$15=AZ14)*(AQ$12:AQ$15=AQ14)*(BB$12:BB$15=BB14)*(BC$12:BC$15>BC14)) -> 0 | BJ14: =SUMPRODUCT((BA$12:BA$15=BA14)*(BE$12:BE$15=BE14)*(AZ$12:AZ$15=AZ14)*(AQ$12:AQ$15=AQ14)*(BB$12:BB$15=BB14)*(BC$12:BC$15=BC14)*(BD$12:BD$15>BD14)) -> 2 | BK14: =IF(AND(COUNTIF($AF$4:$AF$35,Gruppenphase!G23)>0,COUNTIF($AF$4:$AF$35,Gruppenphase!M23)>0,Gruppenphase!I23<>"",Gruppenphase!K23<>""),Gruppenphase!G23,"") | BL14: =IF($BK14<>"",Gruppenphase!I23,"") | BM14: =IF($BK14<>"",Gruppenphase!K23,"") | BN14: =IF($BK14<>"",Gruppenphase!M23,"") | BO14: =IF(AF14="","",SUM(BE14:BJ14)) -> 3 | BP14: =IF(AF14="","",AF14) -> Basel | BQ14: =VLOOKUP($AD14,$B$12:$W$15,22,FALSE) -> 0 | BR14: =IF(AND(BQ14<>BQ13,BQ14=BQ15),AD14,"") | BS14: =SUMPRODUCT(($BK$4:$BK$99='Dummy Table'!$AF14)*($BL$4:$BL$99>$BM$4:$BM$99)) -> 0 | BT14: =SUMPRODUCT(($BK$4:$BK$99='Dummy Table'!$AF14)*($BL$4:$BL$99=$BM$4:$BM$99)) -> 0 | BU14: =SUMPRODUCT(($BK$4:$BK$99='Dummy Table'!$AF14)*($BL$4:$BL$99<$BM$4:$BM$99)) -> 0 | BV14: =SUMIF($BK$4:$BK$99,'Dummy Table'!$AF14,$BL$4:$BL$99) -> 0 | BW14: =SUMIF($BK$4:$BK$99,'Dummy Table'!$AF14,$BM$4:$BM$99) -> 0 | BX14: =BV14-BW14 -> 0 | BY14: =IF(BR14<>"",BS14*3+BT14*1,"") | BZ14: =SUMPRODUCT(($BN$4:$BN$99='Dummy Table'!$AF14)*($BL$4:$BL$99<$BM$4:$BM$99)) -> 0 | CA14: =SUMPRODUCT(($BN$4:$BN$99='Dummy Table'!$AF14)*($BL$4:$BL$99=$BM$4:$BM$99)) -> 0 | CB14: =SUMPRODUCT(($BN$4:$BN$99='Dummy Table'!$AF14)*($BL$4:$BL$99>$BM$4:$BM$99)) -> 0 | CC14: =SUMIF($BN$4:$BN$99,'Dummy Table'!$AF14,$BM$4:$BM$99) -> 0 | CD14: =SUMIF($BN$4:$BN$99,'Dummy Table'!$AF14,$BL$4:$BL$99) -> 0 | CE14: =CC14-CD14 -> 0 | CF14: =IF(BR14<>"",BZ14*3+CA14*1,"") | CG14: =BS14+BZ14 -> 0 | CH14: =BT14+CA14 -> 0 | CI14: =BU14+CB14 -> 0 | CJ14: =BV14+CC14 -> 0 | CK14: =BW14+CD14 -> 0 | CL14: =BX14+CE14 -> 0 | CM14: =IF(BR14<>"",BY14+CF14,-1) -> -1 | CN14: 11 | CO14: =RANK(CM14,CM$12:CM$15) -> 1 | CP14: =SUMPRODUCT((CM$12:CM$15=CM14)*(CO$12:CO$15=CO14)*(CC$12:CC$15>CC14)) -> 0 | CQ14: =SUMPRODUCT((CM$12:CM$15=CM14)*(CL$12:CL$15>CL14)) -> 0 | CR14: =SUMPRODUCT((CO$12:CO$15=CO14)*(CQ$12:CQ$15=CQ14)*(CJ$12:CJ$15>CJ14)) -> 0 | CS14: =SUMPRODUCT((CO$12:CO$15=CO14)*(CQ$12:CQ$15=CQ14)*(CJ$12:CJ$15=CJ14)*(CN$12:CN$15>CN14)) -> 1 | CT14: =IF(AND(COUNTIF($AF$4:$AF$35,Gruppenphase!$G23)>0,COUNTIF($AF$4:$AF$35,Gruppenphase!$M23)>0),Gruppenphase!$G23,"") -> Lille | CU14: =IF($BK14<>"",Gruppenphase!$I23,"") | CV14: =IF($BK14<>"",Gruppenphase!$K23,"") | CW14: =IF($BK14<>"",Gruppenphase!$M23,"") | CX14: =IF(BR14="","",SUM(CO14:CS14)) | CY14: =IF(BR14="","",BR14) | CZ14: 3 | DA14: =IF(AF14="",AD14,"") | DB14: =IF(AND(DA14="",DA13="",DA12=""),CZ14,IF(AND(DA12<>"",DA13="",DA14=""),2,IF(AND(DA12<>"",DA13<>"",DA14=""),1,""))) -> 3 | DC14: =VLOOKUP(DB14,$BO$12:$BP$15,2,FALSE) -> Basel | DD14: 3 | DE14: =IF(CY14<>"",IF(CX14<CX15,CY14,CY15),IF(DC14<>"",DC14,DA14)) -> Basel
A15: =Y15+Z15+AA15+AB15 -> 4 | B15: ='Club Namen'!B14 -> Oţelul Galaţi | C15: =SUMPRODUCT((Gruppenphase!$I$13:$I$108<>"")*(Gruppenphase!$K$13:$K$108<>"")*(Gruppenphase!$G$13:$G$108='Dummy Table'!$B15)*(Gruppenphase!$I$13:$I$108>Gruppenphase!$K$13:$K$108)) -> 0 | D15: =SUMPRODUCT((Gruppenphase!$I$13:$I$108<>"")*(Gruppenphase!$K$13:$K$108<>"")*(Gruppenphase!$G$13:$G$108='Dummy Table'!$B15)*(Gruppenphase!$I$13:$I$108=Gruppenphase!$K$13:$K$108)) -> 0 | E15: =SUMPRODUCT((Gruppenphase!$I$13:$I$108<>"")*(Gruppenphase!$K$13:$K$108<>"")*(Gruppenphase!$G$13:$G$108='Dummy Table'!$B15)*(Gruppenphase!$I$13:$I$108<Gruppenphase!$K$13:$K$108)) -> 0 | F15: =SUMIF(Gruppenphase!$G$13:$G$108,'Dummy Table'!$B15,Gruppenphase!$I$13:$I$108) -> 0 | G15: =SUMIF(Gruppenphase!$G$13:$G$108,'Dummy Table'!$B15,Gruppenphase!$K$13:$K$108) -> 0 | H15: =F15-G15 -> 0 | I15: =C15*3+D15*1 -> 0 | J15: =SUMPRODUCT((Gruppenphase!$I$13:$I$108<>"")*(Gruppenphase!$K$13:$K$108<>"")*(Gruppenphase!$M$13:$M$108='Dummy Table'!$B15)*(Gruppenphase!$I$13:$I$108<Gruppenphase!$K$13:$K$108)) -> 0 | K15: =SUMPRODUCT((Gruppenphase!$I$13:$I$108<>"")*(Gruppenphase!$K$13:$K$108<>"")*(Gruppenphase!$M$13:$M$108='Dummy Table'!$B15)*(Gruppenphase!$I$13:$I$108=Gruppenphase!$K$13:$K$108)) -> 0 | L15: =SUMPRODUCT((Gruppenphase!$I$13:$I$108<>"")*(Gruppenphase!$K$13:$K$108<>"")*(Gruppenphase!$M$13:$M$108='Dummy Table'!$B15)*(Gruppenphase!$I$13:$I$108>Gruppenphase!$K$13:$K$108)) -> 0 | M15: =SUMIF(Gruppenphase!$M$13:$M$108,'Dummy Table'!$B15,Gruppenphase!$K$13:$K$108) -> 0 | N15: =SUMIF(Gruppenphase!$M$13:$M$108,'Dummy Table'!$B15,Gruppenphase!$I$13:$I$108) -> 0 | O15: =M15-N15 -> 0 | P15: =J15*3+K15*1 -> 0 | Q15: =C15+J15 -> 0 | R15: =D15+K15 -> 0 | S15: =E15+L15 -> 0 | T15: =F15+M15 -> 0 | U15: =G15+N15 -> 0 | V15: =H15+O15 -> 0 | W15: =I15+P15 -> 0 | X15: 14 | Y15: =RANK(W15,W$12:W$15) -> 1 | Z15: =SUMPRODUCT((W$12:W$15=W15)*(V$12:V$15>V15)) -> 0 | AA15: =SUMPRODUCT((Y$12:Y$15=Y15)*(Z$12:Z$15=Z15)*(T$12:T$15>T15)) -> 0 | AB15: =SUMPRODUCT((Y$12:Y$15=Y15)*(Z$12:Z$15=Z15)*(T$12:T$15=T15)*(X$12:X$15>X15)) -> 3 | AC15: 4 | AD15: =VLOOKUP(AC15,$A$12:$B$15,2,FALSE) -> Oţelul Galaţi | AE15: =VLOOKUP($AD15,$B$12:$W$15,22,FALSE) -> 0 | AF15: =IF(AND(AE15=AE14,AE14=AE13),AD15,"") -> Oţelul Galaţi | AG15: =SUMPRODUCT(($BK$4:$BK$99='Dummy Table'!$AF15)*($BL$4:$BL$99>$BM$4:$BM$99)) -> 0 | AH15: =SUMPRODUCT(($BK$4:$BK$99='Dummy Table'!$AF15)*($BL$4:$BL$99=$BM$4:$BM$99)) -> 0 | AI15: =SUMPRODUCT(($BK$4:$BK$99='Dummy Table'!$AF15)*($BL$4:$BL$99<$BM$4:$BM$99)) -> 0 | AJ15: =SUMIF($BK$4:$BK$99,'Dummy Table'!$AF15,$BL$4:$BL$99) -> 0 | AK15: =SUMIF($BK$4:$BK$99,'Dummy Table'!$AF15,$BM$4:$BM$99) -> 0 | AL15: =AJ15-AK15 -> 0 | AM15: =IF(AF15<>"",AG15*3+AH15*1,"") -> 0 | AN15: =SUMPRODUCT(($BN$4:$BN$99='Dummy Table'!$AF15)*($BL$4:$BL$99<$BM$4:$BM$99)) -> 0 | AO15: =SUMPRODUCT(($BN$4:$BN$99='Dummy Table'!$AF15)*($BL$4:$BL$99=$BM$4:$BM$99)) -> 0 | AP15: =SUMPRODUCT(($BN$4:$BN$99='Dummy Table'!$AF15)*($BL$4:$BL$99>$BM$4:$BM$99)) -> 0 | AQ15: =SUMIF($BN$4:$BN$99,'Dummy Table'!$AF15,$BM$4:$BM$99) -> 0 | AR15: =SUMIF($BN$4:$BN$99,'Dummy Table'!$AF15,$BL$4:$BL$99) -> 0 | AS15: =AQ15-AR15 -> 0 | AT15: =IF(AF15<>"",AN15*3+AO15*1,"") -> 0 | AU15: =AG15+AN15 -> 0 | AV15: =AH15+AO15 -> 0 | AW15: =AI15+AP15 -> 0 | AX15: =AJ15+AQ15 -> 0 | AY15: =AK15+AR15 -> 0 | AZ15: =AL15+AS15 -> 0 | BA15: =IF(AF15<>"",AM15+AT15,-1) -> 0 | BB15: =IF(AF15<>"",VLOOKUP(AF15,$B$4:$V$35,21,FALSE),"") -> 0 | BC15: =IF(AF15<>"",VLOOKUP(AF15,$B$4:$T$35,19,FALSE),"") -> 0 | BD15: =IF(AF15<>"",VLOOKUP(AF15,$B$4:$X$35,23,FALSE),"") -> 14 | BE15: =RANK(BA15,BA$12:BA$15) -> 1 | BF15: =SUMPRODUCT((BA$12:BA$15=BA15)*(AZ$12:AZ$15>AZ15)) -> 0 | BG15: =SUMPRODUCT((BA$12:BA$15=BA15)*(BE$12:BE$15=BE15)*(AZ$12:AZ$15=AZ15)*(AQ$12:AQ$15>AQ15)) -> 0 | BH15: =SUMPRODUCT((BA$12:BA$15=BA15)*(BE$12:BE$15=BE15)*(AZ$12:AZ$15=AZ15)*(AQ$12:AQ$15=AQ15)*(BB$12:BB$15>BB15)) -> 0 | BI15: =SUMPRODUCT((BA$12:BA$15=BA15)*(BE$12:BE$15=BE15)*(AZ$12:AZ$15=AZ15)*(AQ$12:AQ$15=AQ15)*(BB$12:BB$15=BB15)*(BC$12:BC$15>BC15)) -> 0 | BJ15: =SUMPRODUCT((BA$12:BA$15=BA15)*(BE$12:BE$15=BE15)*(AZ$12:AZ$15=AZ15)*(AQ$12:AQ$15=AQ15)*(BB$12:BB$15=BB15)*(BC$12:BC$15=BC15)*(BD$12:BD$15>BD15)) -> 3 | BK15: =IF(AND(COUNTIF($AF$4:$AF$35,Gruppenphase!G24)>0,COUNTIF($AF$4:$AF$35,Gruppenphase!M24)>0,Gruppenphase!I24<>"",Gruppenphase!K24<>""),Gruppenphase!G24,"") | BL15: =IF($BK15<>"",Gruppenphase!I24,"") | BM15: =IF($BK15<>"",Gruppenphase!K24,"") | BN15: =IF($BK15<>"",Gruppenphase!M24,"") | BO15: =IF(AF15="","",SUM(BE15:BJ15)) -> 4 | BP15: =IF(AF15="","",AF15) -> Oţelul Galaţi | BQ15: =VLOOKUP($AD15,$B$12:$W$15,22,FALSE) -> 0 | BR15: =IF(BR14<>"",AD15,"") | BS15: =SUMPRODUCT(($BK$4:$BK$99='Dummy Table'!$AF15)*($BL$4:$BL$99>$BM$4:$BM$99)) -> 0 | BT15: =SUMPRODUCT(($BK$4:$BK$99='Dummy Table'!$AF15)*($BL$4:$BL$99=$BM$4:$BM$99)) -> 0 | BU15: =SUMPRODUCT(($BK$4:$BK$99='Dummy Table'!$AF15)*($BL$4:$BL$99<$BM$4:$BM$99)) -> 0 | BV15: =SUMIF($BK$4:$BK$99,'Dummy Table'!$AF15,$BL$4:$BL$99) -> 0 | BW15: =SUMIF($BK$4:$BK$99,'Dummy Table'!$AF15,$BM$4:$BM$99) -> 0 | BX15: =BV15-BW15 -> 0 | BY15: =IF(BR15<>"",BS15*3+BT15*1,"") | BZ15: =SUMPRODUCT(($BN$4:$BN$99='Dummy Table'!$AF15)*($BL$4:$BL$99<$BM$4:$BM$99)) -> 0 | CA15: =SUMPRODUCT(($BN$4:$BN$99='Dummy Table'!$AF15)*($BL$4:$BL$99=$BM$4:$BM$99)) -> 0 | CB15: =SUMPRODUCT(($BN$4:$BN$99='Dummy Table'!$AF15)*($BL$4:$BL$99>$BM$4:$BM$99)) -> 0 | CC15: =SUMIF($BN$4:$BN$99,'Dummy Table'!$AF15,$BM$4:$BM$99) -> 0 | CD15: =SUMIF($BN$4:$BN$99,'Dummy Table'!$AF15,$BL$4:$BL$99) -> 0 | CE15: =CC15-CD15 -> 0 | CF15: =IF(BR15<>"",BZ15*3+CA15*1,"") | CG15: =BS15+BZ15 -> 0 | CH15: =BT15+CA15 -> 0 | CI15: =BU15+CB15 -> 0 | CJ15: =BV15+CC15 -> 0 | CK15: =BW15+CD15 -> 0 | CL15: =BX15+CE15 -> 0 | CM15: =IF(BR15<>"",BY15+CF15,-1) -> -1 | CN15: 12 | CO15: =RANK(CM15,CM$12:CM$15) -> 1 | CP15: =SUMPRODUCT((CM$12:CM$15=CM15)*(CO$12:CO$15=CO15)*(CC$12:CC$15>CC15)) -> 0 | CQ15: =SUMPRODUCT((CM$12:CM$15=CM15)*(CL$12:CL$15>CL15)) -> 0 | CR15: =SUMPRODUCT((CO$12:CO$15=CO15)*(CQ$12:CQ$15=CQ15)*(CJ$12:CJ$15>CJ15)) -> 0 | CS15: =SUMPRODUCT((CO$12:CO$15=CO15)*(CQ$12:CQ$15=CQ15)*(CJ$12:CJ$15=CJ15)*(CN$12:CN$15>CN15)) -> 0 | CT15: =IF(AND(COUNTIF($AF$4:$AF$35,Gruppenphase!$G24)>0,COUNTIF($AF$4:$AF$35,Gruppenphase!$M24)>0),Gruppenphase!$G24,"") -> Internazionale | CU15: =IF($BK15<>"",Gruppenphase!$I24,"") | CV15: =IF($BK15<>"",Gruppenphase!$K24,"") | CW15: =IF($BK15<>"",Gruppenphase!$M24,"") | CX15: =IF(BR15="","",SUM(CO15:CS15)) | CY15: =IF(BR15="","",BR15) | CZ15: 4 | DA15: =IF(AF15="",AD15,"") | DB15: =IF(AND(DA15="",DA14="",DA13="",DA12=""),4,IF(AND(DA15="",DA14="",DA13=""),3,IF(AND(DA13<>"",DA14="",DA15=""),2,IF(AND(DA13<>"",DA14<>"",DA15=""),1,"")))) -> 4 | DC15: =VLOOKUP(DB15,$BO$12:$BP$15,2,FALSE) -> Oţelul Galaţi | DD15: 4 | DE15: =IF(CY15<>"",IF(CX14<CX15,CY15,CY14),IF(DC15<>"",DC15,DA15)) -> Oţelul Galaţi
A16: =Y16+Z16+AA16+AB16 -> 1 | B16: ='Club Namen'!B15 -> Real Madrid | C16: =SUMPRODUCT((Gruppenphase!$I$13:$I$108<>"")*(Gruppenphase!$K$13:$K$108<>"")*(Gruppenphase!$G$13:$G$108='Dummy Table'!$B16)*(Gruppenphase!$I$13:$I$108>Gruppenphase!$K$13:$K$108)) -> 0 | D16: =SUMPRODUCT((Gruppenphase!$I$13:$I$108<>"")*(Gruppenphase!$K$13:$K$108<>"")*(Gruppenphase!$G$13:$G$108='Dummy Table'!$B16)*(Gruppenphase!$I$13:$I$108=Gruppenphase!$K$13:$K$108)) -> 0 | E16: =SUMPRODUCT((Gruppenphase!$I$13:$I$108<>"")*(Gruppenphase!$K$13:$K$108<>"")*(Gruppenphase!$G$13:$G$108='Dummy Table'!$B16)*(Gruppenphase!$I$13:$I$108<Gruppenphase!$K$13:$K$108)) -> 0 | F16: =SUMIF(Gruppenphase!$G$13:$G$108,'Dummy Table'!$B16,Gruppenphase!$I$13:$I$108) -> 0 | G16: =SUMIF(Gruppenphase!$G$13:$G$108,'Dummy Table'!$B16,Gruppenphase!$K$13:$K$108) -> 0 | H16: =F16-G16 -> 0 | I16: =C16*3+D16*1 -> 0 | J16: =SUMPRODUCT((Gruppenphase!$I$13:$I$108<>"")*(Gruppenphase!$K$13:$K$108<>"")*(Gruppenphase!$M$13:$M$108='Dummy Table'!$B16)*(Gruppenphase!$I$13:$I$108<Gruppenphase!$K$13:$K$108)) -> 0 | K16: =SUMPRODUCT((Gruppenphase!$I$13:$I$108<>"")*(Gruppenphase!$K$13:$K$108<>"")*(Gruppenphase!$M$13:$M$108='Dummy Table'!$B16)*(Gruppenphase!$I$13:$I$108=Gruppenphase!$K$13:$K$108)) -> 0 | L16: =SUMPRODUCT((Gruppenphase!$I$13:$I$108<>"")*(Gruppenphase!$K$13:$K$108<>"")*(Gruppenphase!$M$13:$M$108='Dummy Table'!$B16)*(Gruppenphase!$I$13:$I$108>Gruppenphase!$K$13:$K$108)) -> 0 | M16: =SUMIF(Gruppenphase!$M$13:$M$108,'Dummy Table'!$B16,Gruppenphase!$K$13:$K$108) -> 0 | N16: =SUMIF(Gruppenphase!$M$13:$M$108,'Dummy Table'!$B16,Gruppenphase!$I$13:$I$108) -> 0 | O16: =M16-N16 -> 0 | P16: =J16*3+K16*1 -> 0 | Q16: =C16+J16 -> 0 | R16: =D16+K16 -> 0 | S16: =E16+L16 -> 0 | T16: =F16+M16 -> 0 | U16: =G16+N16 -> 0 | V16: =H16+O16 -> 0 | W16: =I16+P16 -> 0 | X16: 118 | Y16: =RANK(W16,W$16:W$19) -> 1 | Z16: =SUMPRODUCT((W$16:W$19=W16)*(V$16:V$19>V16)) -> 0 | AA16: =SUMPRODUCT((Y$16:Y$19=Y16)*(Z$16:Z$19=Z16)*(T$16:T$19>T16)) -> 0 | AB16: =SUMPRODUCT((Y$16:Y$19=Y16)*(Z$16:Z$19=Z16)*(T$16:T$19=T16)*(X$16:X$19>X16)) -> 0 | AC16: 1 | AD16: =VLOOKUP(AC16,$A$16:$B$19,2,FALSE) -> Real Madrid | AE16: =VLOOKUP($AD16,$B$16:$W$19,22,FALSE) -> 0 | AF16: =IF(AE16=AE17,AD16,"") -> Real Madrid | AG16: =SUMPRODUCT(($BK$4:$BK$99='Dummy Table'!$AF16)*($BL$4:$BL$99>$BM$4:$BM$99)) -> 0 | AH16: =SUMPRODUCT(($BK$4:$BK$99='Dummy Table'!$AF16)*($BL$4:$BL$99=$BM$4:$BM$99)) -> 0 | AI16: =SUMPRODUCT(($BK$4:$BK$99='Dummy Table'!$AF16)*($BL$4:$BL$99<$BM$4:$BM$99)) -> 0 | AJ16: =SUMIF($BK$4:$BK$99,'Dummy Table'!$AF16,$BL$4:$BL$99) -> 0 | AK16: =SUMIF($BK$4:$BK$99,'Dummy Table'!$AF16,$BM$4:$BM$99) -> 0 | AL16: =AJ16-AK16 -> 0 | AM16: =IF(AF16<>"",AG16*3+AH16*1,"") -> 0 | AN16: =SUMPRODUCT(($BN$4:$BN$99='Dummy Table'!$AF16)*($BL$4:$BL$99<$BM$4:$BM$99)) -> 0 | AO16: =SUMPRODUCT(($BN$4:$BN$99='Dummy Table'!$AF16)*($BL$4:$BL$99=$BM$4:$BM$99)) -> 0 | AP16: =SUMPRODUCT(($BN$4:$BN$99='Dummy Table'!$AF16)*($BL$4:$BL$99>$BM$4:$BM$99)) -> 0 | AQ16: =SUMIF($BN$4:$BN$99,'Dummy Table'!$AF16,$BM$4:$BM$99) -> 0 | AR16: =SUMIF($BN$4:$BN$99,'Dummy Table'!$AF16,$BL$4:$BL$99) -> 0 | AS16: =AQ16-AR16 -> 0 | AT16: =IF(AF16<>"",AN16*3+AO16*1,"") -> 0 | AU16: =AG16+AN16 -> 0 | AV16: =AH16+AO16 -> 0 | AW16: =AI16+AP16 -> 0 | AX16: =AJ16+AQ16 -> 0 | AY16: =AK16+AR16 -> 0 | AZ16: =AL16+AS16 -> 0 | BA16: =IF(AF16<>"",AM16+AT16,-1) -> 0 | BB16: =IF(AF16<>"",VLOOKUP(AF16,$B$4:$V$35,21,FALSE),"") -> 0 | BC16: =IF(AF16<>"",VLOOKUP(AF16,$B$4:$T$35,19,FALSE),"") -> 0 | BD16: =IF(AF16<>"",VLOOKUP(AF16,$B$4:$X$35,23,FALSE),"") -> 118 | BE16: =RANK(BA16,BA$16:BA$19) -> 1 | BF16: =SUMPRODUCT((BA$16:BA$19=BA16)*(AZ$16:AZ$19>AZ16)) -> 0 | BG16: =SUMPRODUCT((BA$16:BA$19=BA16)*(BE$16:BE$19=BE16)*(AZ$16:AZ$19=AZ16)*(AQ$16:AQ$19>AQ16)) -> 0 | BH16: =SUMPRODUCT((BA$16:BA$19=BA16)*(BE$16:BE$19=BE16)*(AZ$16:AZ$19=AZ16)*(AQ$16:AQ$19=AQ16)*(BB$16:BB$19>BB16)) -> 0 | BI16: =SUMPRODUCT((BA$16:BA$19=BA16)*(BE$16:BE$19=BE16)*(AZ$16:AZ$19=AZ16)*(AQ$16:AQ$19=AQ16)*(BB$16:BB$19=BB16)*(BC$16:BC$19>BC16)) -> 0 | BJ16: =SUMPRODUCT((BA$16:BA$19=BA16)*(BE$16:BE$19=BE16)*(AZ$16:AZ$19=AZ16)*(AQ$16:AQ$19=AQ16)*(BB$16:BB$19=BB16)*(BC$16:BC$19=BC16)*(BD$16:BD$19>BD16)) -> 0 | BK16: =IF(AND(COUNTIF($AF$4:$AF$35,Gruppenphase!G25)>0,COUNTIF($AF$4:$AF$35,Gruppenphase!M25)>0,Gruppenphase!I25<>"",Gruppenphase!K25<>""),Gruppenphase!G25,"") | BL16: =IF($BK16<>"",Gruppenphase!I25,"") | BM16: =IF($BK16<>"",Gruppenphase!K25,"") | BN16: =IF($BK16<>"",Gruppenphase!M25,"") | BO16: =IF(AF16="","",SUM(BE16:BJ16)) -> 1 | BP16: =IF(AF16="","",AF16) -> Real Madrid | BQ16: =VLOOKUP($AD16,$B$16:$W$19,22,FALSE) -> 0 | BS16: =SUMPRODUCT(($BK$4:$BK$99='Dummy Table'!$AF16)*($BL$4:$BL$99>$BM$4:$BM$99)) -> 0 | BT16: =SUMPRODUCT(($BK$4:$BK$99='Dummy Table'!$AF16)*($BL$4:$BL$99=$BM$4:$BM$99)) -> 0 | BU16: =SUMPRODUCT(($BK$4:$BK$99='Dummy Table'!$AF16)*($BL$4:$BL$99<$BM$4:$BM$99)) -> 0 | BV16: =SUMIF($BK$4:$BK$99,'Dummy Table'!$AF16,$BL$4:$BL$99) -> 0 | BW16: =SUMIF($BK$4:$BK$99,'Dummy Table'!$AF16,$BM$4:$BM$99) -> 0 | BX16: =BV16-BW16 -> 0 | BY16: =IF(BR16<>"",BS16*3+BT16*1,"") | BZ16: =SUMPRODUCT(($BN$4:$BN$99='Dummy Table'!$AF16)*($BL$4:$BL$99<$BM$4:$BM$99)) -> 0 | CA16: =SUMPRODUCT(($BN$4:$BN$99='Dummy Table'!$AF16)*($BL$4:$BL$99=$BM$4:$BM$99)) -> 0 | CB16: =SUMPRODUCT(($BN$4:$BN$99='Dummy Table'!$AF16)*($BL$4:$BL$99>$BM$4:$BM$99)) -> 0 | CC16: =SUMIF($BN$4:$BN$99,'Dummy Table'!$AF16,$BM$4:$BM$99) -> 0 | CD16: =SUMIF($BN$4:$BN$99,'Dummy Table'!$AF16,$BL$4:$BL$99) -> 0 | CE16: =CC16-CD16 -> 0 | CF16: =IF(BR16<>"",BZ16*3+CA16*1,"") | CG16: =BS16+BZ16 -> 0 | CH16: =BT16+CA16 -> 0 | CI16: =BU16+CB16 -> 0 | CJ16: =BV16+CC16 -> 0 | CK16: =BW16+CD16 -> 0 | CL16: =BX16+CE16 -> 0 | CM16: =IF(BR16<>"",BY16+CF16,-1) -> -1 | CN16: 13 | CO16: =RANK(CM16,CM$16:CM$19) -> 1 | CP16: =SUMPRODUCT((CM$16:CM$19=CM16)*(CO$16:CO$19=CO16)*(CC$16:CC$19>CC16)) -> 0 | CQ16: =SUMPRODUCT((CM$16:CM$19=CM16)*(CL$16:CL$19>CL16)) -> 0 | CR16: =SUMPRODUCT((CO$16:CO$19=CO16)*(CQ$16:CQ$19=CQ16)*(CJ$16:CJ$19>CJ16)) -> 0 | CS16: =SUMPRODUCT((CO$16:CO$19=CO16)*(CQ$16:CQ$19=CQ16)*(CJ$16:CJ$19=CJ16)*(CN$16:CN$19>CN16)) -> 3 | CT16: =IF(AND(COUNTIF($AF$4:$AF$35,Gruppenphase!$G25)>0,COUNTIF($AF$4:$AF$35,Gruppenphase!$M25)>0),Gruppenphase!$G25,"") -> Basel | CU16: =IF($BK16<>"",Gruppenphase!$I25,"") | CV16: =IF($BK16<>"",Gruppenphase!$K25,"") | CW16: =IF($BK16<>"",Gruppenphase!$M25,"") | CX16: =IF(BR16="","",SUM(CO16:CS16)) | CY16: =IF(BR16="","",BR16) | CZ16: 1 | DA16: =IF(AF16="",AD16,"") | DB16: =IF(DA16="",CZ16,"") -> 1 | DC16: =VLOOKUP(DB16,$BO$16:$BP$19,2,FALSE) -> Real Madrid | DD16: 1 | DE16: =IF(DA16="",DC16,DA16) -> Real Madrid
A17: =Y17+Z17+AA17+AB17 -> 2 | B17: ='Club Namen'!B16 -> Lyon | C17: =SUMPRODUCT((Gruppenphase!$I$13:$I$108<>"")*(Gruppenphase!$K$13:$K$108<>"")*(Gruppenphase!$G$13:$G$108='Dummy Table'!$B17)*(Gruppenphase!$I$13:$I$108>Gruppenphase!$K$13:$K$108)) -> 0 | D17: =SUMPRODUCT((Gruppenphase!$I$13:$I$108<>"")*(Gruppenphase!$K$13:$K$108<>"")*(Gruppenphase!$G$13:$G$108='Dummy Table'!$B17)*(Gruppenphase!$I$13:$I$108=Gruppenphase!$K$13:$K$108)) -> 0 | E17: =SUMPRODUCT((Gruppenphase!$I$13:$I$108<>"")*(Gruppenphase!$K$13:$K$108<>"")*(Gruppenphase!$G$13:$G$108='Dummy Table'!$B17)*(Gruppenphase!$I$13:$I$108<Gruppenphase!$K$13:$K$108)) -> 0 | F17: =SUMIF(Gruppenphase!$G$13:$G$108,'Dummy Table'!$B17,Gruppenphase!$I$13:$I$108) -> 0 | G17: =SUMIF(Gruppenphase!$G$13:$G$108,'Dummy Table'!$B17,Gruppenphase!$K$13:$K$108) -> 0 | H17: =F17-G17 -> 0 | I17: =C17*3+D17*1 -> 0 | J17: =SUMPRODUCT((Gruppenphase!$I$13:$I$108<>"")*(Gruppenphase!$K$13:$K$108<>"")*(Gruppenphase!$M$13:$M$108='Dummy Table'!$B17)*(Gruppenphase!$I$13:$I$108<Gruppenphase!$K$13:$K$108)) -> 0 | K17: =SUMPRODUCT((Gruppenphase!$I$13:$I$108<>"")*(Gruppenphase!$K$13:$K$108<>"")*(Gruppenphase!$M$13:$M$108='Dummy Table'!$B17)*(Gruppenphase!$I$13:$I$108=Gruppenphase!$K$13:$K$108)) -> 0 | L17: =SUMPRODUCT((Gruppenphase!$I$13:$I$108<>"")*(Gruppenphase!$K$13:$K$108<>"")*(Gruppenphase!$M$13:$M$108='Dummy Table'!$B17)*(Gruppenphase!$I$13:$I$108>Gruppenphase!$K$13:$K$108)) -> 0 | M17: =SUMIF(Gruppenphase!$M$13:$M$108,'Dummy Table'!$B17,Gruppenphase!$K$13:$K$108) -> 0 | N17: =SUMIF(Gruppenphase!$M$13:$M$108,'Dummy Table'!$B17,Gruppenphase!$I$13:$I$108) -> 0 | O17: =M17-N17 -> 0 | P17: =J17*3+K17*1 -> 0 | Q17: =C17+J17 -> 0 | R17: =D17+K17 -> 0 | S17: =E17+L17 -> 0 | T17: =F17+M17 -> 0 | U17: =G17+N17 -> 0 | V17: =H17+O17 -> 0 | W17: =I17+P17 -> 0 | X17: 68 | Y17: =RANK(W17,W$16:W$19) -> 1 | Z17: =SUMPRODUCT((W$16:W$19=W17)*(V$16:V$19>V17)) -> 0 | AA17: =SUMPRODUCT((Y$16:Y$19=Y17)*(Z$16:Z$19=Z17)*(T$16:T$19>T17)) -> 0 | AB17: =SUMPRODUCT((Y$16:Y$19=Y17)*(Z$16:Z$19=Z17)*(T$16:T$19=T17)*(X$16:X$19>X17)) -> 1 | AC17: 2 | AD17: =VLOOKUP(AC17,$A$16:$B$19,2,FALSE) -> Lyon | AE17: =VLOOKUP($AD17,$B$16:$W$19,22,FALSE) -> 0 | AF17: =IF(OR(AE17=AE16,AE17=AE18),AD17,"") -> Lyon | AG17: =SUMPRODUCT(($BK$4:$BK$99='Dummy Table'!$AF17)*($BL$4:$BL$99>$BM$4:$BM$99)) -> 0 | AH17: =SUMPRODUCT(($BK$4:$BK$99='Dummy Table'!$AF17)*($BL$4:$BL$99=$BM$4:$BM$99)) -> 0 | AI17: =SUMPRODUCT(($BK$4:$BK$99='Dummy Table'!$AF17)*($BL$4:$BL$99<$BM$4:$BM$99)) -> 0 | AJ17: =SUMIF($BK$4:$BK$99,'Dummy Table'!$AF17,$BL$4:$BL$99) -> 0 | AK17: =SUMIF($BK$4:$BK$99,'Dummy Table'!$AF17,$BM$4:$BM$99) -> 0 | AL17: =AJ17-AK17 -> 0 | AM17: =IF(AF17<>"",AG17*3+AH17*1,"") -> 0 | AN17: =SUMPRODUCT(($BN$4:$BN$99='Dummy Table'!$AF17)*($BL$4:$BL$99<$BM$4:$BM$99)) -> 0 | AO17: =SUMPRODUCT(($BN$4:$BN$99='Dummy Table'!$AF17)*($BL$4:$BL$99=$BM$4:$BM$99)) -> 0 | AP17: =SUMPRODUCT(($BN$4:$BN$99='Dummy Table'!$AF17)*($BL$4:$BL$99>$BM$4:$BM$99)) -> 0 | AQ17: =SUMIF($BN$4:$BN$99,'Dummy Table'!$AF17,$BM$4:$BM$99) -> 0 | AR17: =SUMIF($BN$4:$BN$99,'Dummy Table'!$AF17,$BL$4:$BL$99) -> 0 | AS17: =AQ17-AR17 -> 0 | AT17: =IF(AF17<>"",AN17*3+AO17*1,"") -> 0 | AU17: =AG17+AN17 -> 0 | AV17: =AH17+AO17 -> 0 | AW17: =AI17+AP17 -> 0 | AX17: =AJ17+AQ17 -> 0 | AY17: =AK17+AR17 -> 0 | AZ17: =AL17+AS17 -> 0 | BA17: =IF(AF17<>"",AM17+AT17,-1) -> 0 | BB17: =IF(AF17<>"",VLOOKUP(AF17,$B$4:$V$35,21,FALSE),"") -> 0 | BC17: =IF(AF17<>"",VLOOKUP(AF17,$B$4:$T$35,19,FALSE),"") -> 0 | BD17: =IF(AF17<>"",VLOOKUP(AF17,$B$4:$X$35,23,FALSE),"") -> 68 | BE17: =RANK(BA17,BA$16:BA$19) -> 1 | BF17: =SUMPRODUCT((BA$16:BA$19=BA17)*(AZ$16:AZ$19>AZ17)) -> 0 | BG17: =SUMPRODUCT((BA$16:BA$19=BA17)*(BE$16:BE$19=BE17)*(AZ$16:AZ$19=AZ17)*(AQ$16:AQ$19>AQ17)) -> 0 | BH17: =SUMPRODUCT((BA$16:BA$19=BA17)*(BE$16:BE$19=BE17)*(AZ$16:AZ$19=AZ17)*(AQ$16:AQ$19=AQ17)*(BB$16:BB$19>BB17)) -> 0 | BI17: =SUMPRODUCT((BA$16:BA$19=BA17)*(BE$16:BE$19=BE17)*(AZ$16:AZ$19=AZ17)*(AQ$16:AQ$19=AQ17)*(BB$16:BB$19=BB17)*(BC$16:BC$19>BC17)) -> 0 | BJ17: =SUMPRODUCT((BA$16:BA$19=BA17)*(BE$16:BE$19=BE17)*(AZ$16:AZ$19=AZ17)*(AQ$16:AQ$19=AQ17)*(BB$16:BB$19=BB17)*(BC$16:BC$19=BC17)*(BD$16:BD$19>BD17)) -> 1 | BK17: =IF(AND(COUNTIF($AF$4:$AF$35,Gruppenphase!G26)>0,COUNTIF($AF$4:$AF$35,Gruppenphase!M26)>0,Gruppenphase!I26<>"",Gruppenphase!K26<>""),Gruppenphase!G26,"") | BL17: =IF($BK17<>"",Gruppenphase!I26,"") | BM17: =IF($BK17<>"",Gruppenphase!K26,"") | BN17: =IF($BK17<>"",Gruppenphase!M26,"") | BO17: =IF(AF17="","",SUM(BE17:BJ17)) -> 2 | BP17: =IF(AF17="","",AF17) -> Lyon | BQ17: =VLOOKUP($AD17,$B$16:$W$19,22,FALSE) -> 0 | BS17: =SUMPRODUCT(($BK$4:$BK$99='Dummy Table'!$AF17)*($BL$4:$BL$99>$BM$4:$BM$99)) -> 0 | BT17: =SUMPRODUCT(($BK$4:$BK$99='Dummy Table'!$AF17)*($BL$4:$BL$99=$BM$4:$BM$99)) -> 0 | BU17: =SUMPRODUCT(($BK$4:$BK$99='Dummy Table'!$AF17)*($BL$4:$BL$99<$BM$4:$BM$99)) -> 0 | BV17: =SUMIF($BK$4:$BK$99,'Dummy Table'!$AF17,$BL$4:$BL$99) -> 0 | BW17: =SUMIF($BK$4:$BK$99,'Dummy Table'!$AF17,$BM$4:$BM$99) -> 0 | BX17: =BV17-BW17 -> 0 | BY17: =IF(BR17<>"",BS17*3+BT17*1,"") | BZ17: =SUMPRODUCT(($BN$4:$BN$99='Dummy Table'!$AF17)*($BL$4:$BL$99<$BM$4:$BM$99)) -> 0 | CA17: =SUMPRODUCT(($BN$4:$BN$99='Dummy Table'!$AF17)*($BL$4:$BL$99=$BM$4:$BM$99)) -> 0 | CB17: =SUMPRODUCT(($BN$4:$BN$99='Dummy Table'!$AF17)*($BL$4:$BL$99>$BM$4:$BM$99)) -> 0 | CC17: =SUMIF($BN$4:$BN$99,'Dummy Table'!$AF17,$BM$4:$BM$99) -> 0 | CD17: =SUMIF($BN$4:$BN$99,'Dummy Table'!$AF17,$BL$4:$BL$99) -> 0 | CE17: =CC17-CD17 -> 0 | CF17: =IF(BR17<>"",BZ17*3+CA17*1,"") | CG17: =BS17+BZ17 -> 0 | CH17: =BT17+CA17 -> 0 | CI17: =BU17+CB17 -> 0 | CJ17: =BV17+CC17 -> 0 | CK17: =BW17+CD17 -> 0 | CL17: =BX17+CE17 -> 0 | CM17: =IF(BR17<>"",BY17+CF17,-1) -> -1 | CN17: 14 | CO17: =RANK(CM17,CM$16:CM$19) -> 1 | CP17: =SUMPRODUCT((CM$16:CM$19=CM17)*(CO$16:CO$19=CO17)*(CC$16:CC$19>CC17)) -> 0 | CQ17: =SUMPRODUCT((CM$16:CM$19=CM17)*(CL$16:CL$19>CL17)) -> 0 | CR17: =SUMPRODUCT((CO$16:CO$19=CO17)*(CQ$16:CQ$19=CQ17)*(CJ$16:CJ$19>CJ17)) -> 0 | CS17: =SUMPRODUCT((CO$16:CO$19=CO17)*(CQ$16:CQ$19=CQ17)*(CJ$16:CJ$19=CJ17)*(CN$16:CN$19>CN17)) -> 2 | CT17: =IF(AND(COUNTIF($AF$4:$AF$35,Gruppenphase!$G26)>0,COUNTIF($AF$4:$AF$35,Gruppenphase!$M26)>0),Gruppenphase!$G26,"") -> Benfica | CU17: =IF($BK17<>"",Gruppenphase!$I26,"") | CV17: =IF($BK17<>"",Gruppenphase!$K26,"") | CW17: =IF($BK17<>"",Gruppenphase!$M26,"") | CX17: =IF(BR17="","",SUM(CO17:CS17)) | CY17: =IF(BR17="","",BR17) | CZ17: 2 | DA17: =IF(AF17="",AD17,"") | DB17: =IF(AND(DA17="",DA16=""),CZ17,IF(AND(DA16<>"",DA17=""),1,"")) -> 2 | DC17: =VLOOKUP(DB17,$BO$16:$BP$19,2,FALSE) -> Lyon | DD17: 2 | DE17: =IF(DA17="",DC17,DA17) -> Lyon
A18: =Y18+Z18+AA18+AB18 -> 3 | B18: ='Club Namen'!B17 -> Ajax | C18: =SUMPRODUCT((Gruppenphase!$I$13:$I$108<>"")*(Gruppenphase!$K$13:$K$108<>"")*(Gruppenphase!$G$13:$G$108='Dummy Table'!$B18)*(Gruppenphase!$I$13:$I$108>Gruppenphase!$K$13:$K$108)) -> 0 | D18: =SUMPRODUCT((Gruppenphase!$I$13:$I$108<>"")*(Gruppenphase!$K$13:$K$108<>"")*(Gruppenphase!$G$13:$G$108='Dummy Table'!$B18)*(Gruppenphase!$I$13:$I$108=Gruppenphase!$K$13:$K$108)) -> 0 | E18: =SUMPRODUCT((Gruppenphase!$I$13:$I$108<>"")*(Gruppenphase!$K$13:$K$108<>"")*(Gruppenphase!$G$13:$G$108='Dummy Table'!$B18)*(Gruppenphase!$I$13:$I$108<Gruppenphase!$K$13:$K$108)) -> 0 | F18: =SUMIF(Gruppenphase!$G$13:$G$108,'Dummy Table'!$B18,Gruppenphase!$I$13:$I$108) -> 0 | G18: =SUMIF(Gruppenphase!$G$13:$G$108,'Dummy Table'!$B18,Gruppenphase!$K$13:$K$108) -> 0 | H18: =F18-G18 -> 0 | I18: =C18*3+D18*1 -> 0 | J18: =SUMPRODUCT((Gruppenphase!$I$13:$I$108<>"")*(Gruppenphase!$K$13:$K$108<>"")*(Gruppenphase!$M$13:$M$108='Dummy Table'!$B18)*(Gruppenphase!$I$13:$I$108<Gruppenphase!$K$13:$K$108)) -> 0 | K18: =SUMPRODUCT((Gruppenphase!$I$13:$I$108<>"")*(Gruppenphase!$K$13:$K$108<>"")*(Gruppenphase!$M$13:$M$108='Dummy Table'!$B18)*(Gruppenphase!$I$13:$I$108=Gruppenphase!$K$13:$K$108)) -> 0 | L18: =SUMPRODUCT((Gruppenphase!$I$13:$I$108<>"")*(Gruppenphase!$K$13:$K$108<>"")*(Gruppenphase!$M$13:$M$108='Dummy Table'!$B18)*(Gruppenphase!$I$13:$I$108>Gruppenphase!$K$13:$K$108)) -> 0 | M18: =SUMIF(Gruppenphase!$M$13:$M$108,'Dummy Table'!$B18,Gruppenphase!$K$13:$K$108) -> 0 | N18: =SUMIF(Gruppenphase!$M$13:$M$108,'Dummy Table'!$B18,Gruppenphase!$I$13:$I$108) -> 0 | O18: =M18-N18 -> 0 | P18: =J18*3+K18*1 -> 0 | Q18: =C18+J18 -> 0 | R18: =D18+K18 -> 0 | S18: =E18+L18 -> 0 | T18: =F18+M18 -> 0 | U18: =G18+N18 -> 0 | V18: =H18+O18 -> 0 | W18: =I18+P18 -> 0 | X18: 41 | Y18: =RANK(W18,W$16:W$19) -> 1 | Z18: =SUMPRODUCT((W$16:W$19=W18)*(V$16:V$19>V18)) -> 0 | AA18: =SUMPRODUCT((Y$16:Y$19=Y18)*(Z$16:Z$19=Z18)*(T$16:T$19>T18)) -> 0 | AB18: =SUMPRODUCT((Y$16:Y$19=Y18)*(Z$16:Z$19=Z18)*(T$16:T$19=T18)*(X$16:X$19>X18)) -> 2 | AC18: 3 | AD18: =VLOOKUP(AC18,$A$16:$B$19,2,FALSE) -> Ajax | AE18: =VLOOKUP($AD18,$B$16:$W$19,22,FALSE) -> 0 | AF18: =IF(AE18=AE17,AD18,"") -> Ajax | AG18: =SUMPRODUCT(($BK$4:$BK$99='Dummy Table'!$AF18)*($BL$4:$BL$99>$BM$4:$BM$99)) -> 0 | AH18: =SUMPRODUCT(($BK$4:$BK$99='Dummy Table'!$AF18)*($BL$4:$BL$99=$BM$4:$BM$99)) -> 0 | AI18: =SUMPRODUCT(($BK$4:$BK$99='Dummy Table'!$AF18)*($BL$4:$BL$99<$BM$4:$BM$99)) -> 0 | AJ18: =SUMIF($BK$4:$BK$99,'Dummy Table'!$AF18,$BL$4:$BL$99) -> 0 | AK18: =SUMIF($BK$4:$BK$99,'Dummy Table'!$AF18,$BM$4:$BM$99) -> 0 | AL18: =AJ18-AK18 -> 0 | AM18: =IF(AF18<>"",AG18*3+AH18*1,"") -> 0 | AN18: =SUMPRODUCT(($BN$4:$BN$99='Dummy Table'!$AF18)*($BL$4:$BL$99<$BM$4:$BM$99)) -> 0 | AO18: =SUMPRODUCT(($BN$4:$BN$99='Dummy Table'!$AF18)*($BL$4:$BL$99=$BM$4:$BM$99)) -> 0 | AP18: =SUMPRODUCT(($BN$4:$BN$99='Dummy Table'!$AF18)*($BL$4:$BL$99>$BM$4:$BM$99)) -> 0 | AQ18: =SUMIF($BN$4:$BN$99,'Dummy Table'!$AF18,$BM$4:$BM$99) -> 0 | AR18: =SUMIF($BN$4:$BN$99,'Dummy Table'!$AF18,$BL$4:$BL$99) -> 0 | AS18: =AQ18-AR18 -> 0 | AT18: =IF(AF18<>"",AN18*3+AO18*1,"") -> 0 | AU18: =AG18+AN18 -> 0 | AV18: =AH18+AO18 -> 0 | AW18: =AI18+AP18 -> 0 | AX18: =AJ18+AQ18 -> 0 | AY18: =AK18+AR18 -> 0 | AZ18: =AL18+AS18 -> 0 | BA18: =IF(AF18<>"",AM18+AT18,-1) -> 0 | BB18: =IF(AF18<>"",VLOOKUP(AF18,$B$4:$V$35,21,FALSE),"") -> 0 | BC18: =IF(AF18<>"",VLOOKUP(AF18,$B$4:$T$35,19,FALSE),"") -> 0 | BD18: =IF(AF18<>"",VLOOKUP(AF18,$B$4:$X$35,23,FALSE),"") -> 41 | BE18: =RANK(BA18,BA$16:BA$19) -> 1 | BF18: =SUMPRODUCT((BA$16:BA$19=BA18)*(AZ$16:AZ$19>AZ18)) -> 0 | BG18: =SUMPRODUCT((BA$16:BA$19=BA18)*(BE$16:BE$19=BE18)*(AZ$16:AZ$19=AZ18)*(AQ$16:AQ$19>AQ18)) -> 0 | BH18: =SUMPRODUCT((BA$16:BA$19=BA18)*(BE$16:BE$19=BE18)*(AZ$16:AZ$19=AZ18)*(AQ$16:AQ$19=AQ18)*(BB$16:BB$19>BB18)) -> 0 | BI18: =SUMPRODUCT((BA$16:BA$19=BA18)*(BE$16:BE$19=BE18)*(AZ$16:AZ$19=AZ18)*(AQ$16:AQ$19=AQ18)*(BB$16:BB$19=BB18)*(BC$16:BC$19>BC18)) -> 0 | BJ18: =SUMPRODUCT((BA$16:BA$19=BA18)*(BE$16:BE$19=BE18)*(AZ$16:AZ$19=AZ18)*(AQ$16:AQ$19=AQ18)*(BB$16:BB$19=BB18)*(BC$16:BC$19=BC18)*(BD$16:BD$19>BD18)) -> 2 | BK18: =IF(AND(COUNTIF($AF$4:$AF$35,Gruppenphase!G27)>0,COUNTIF($AF$4:$AF$35,Gruppenphase!M27)>0,Gruppenphase!I27<>"",Gruppenphase!K27<>""),Gruppenphase!G27,"") | BL18: =IF($BK18<>"",Gruppenphase!I27,"") | BM18: =IF($BK18<>"",Gruppenphase!K27,"") | BN18: =IF($BK18<>"",Gruppenphase!M27,"") | BO18: =IF(AF18="","",SUM(BE18:BJ18)) -> 3 | BP18: =IF(AF18="","",AF18) -> Ajax | BQ18: =VLOOKUP($AD18,$B$16:$W$19,22,FALSE) -> 0 | BR18: =IF(AND(BQ18<>BQ17,BQ18=BQ19),AD18,"") | BS18: =SUMPRODUCT(($BK$4:$BK$99='Dummy Table'!$AF18)*($BL$4:$BL$99>$BM$4:$BM$99)) -> 0 | BT18: =SUMPRODUCT(($BK$4:$BK$99='Dummy Table'!$AF18)*($BL$4:$BL$99=$BM$4:$BM$99)) -> 0 | BU18: =SUMPRODUCT(($BK$4:$BK$99='Dummy Table'!$AF18)*($BL$4:$BL$99<$BM$4:$BM$99)) -> 0 | BV18: =SUMIF($BK$4:$BK$99,'Dummy Table'!$AF18,$BL$4:$BL$99) -> 0 | BW18: =SUMIF($BK$4:$BK$99,'Dummy Table'!$AF18,$BM$4:$BM$99) -> 0 | BX18: =BV18-BW18 -> 0 | BY18: =IF(BR18<>"",BS18*3+BT18*1,"") | BZ18: =SUMPRODUCT(($BN$4:$BN$99='Dummy Table'!$AF18)*($BL$4:$BL$99<$BM$4:$BM$99)) -> 0 | CA18: =SUMPRODUCT(($BN$4:$BN$99='Dummy Table'!$AF18)*($BL$4:$BL$99=$BM$4:$BM$99)) -> 0 | CB18: =SUMPRODUCT(($BN$4:$BN$99='Dummy Table'!$AF18)*($BL$4:$BL$99>$BM$4:$BM$99)) -> 0 | CC18: =SUMIF($BN$4:$BN$99,'Dummy Table'!$AF18,$BM$4:$BM$99) -> 0 | CD18: =SUMIF($BN$4:$BN$99,'Dummy Table'!$AF18,$BL$4:$BL$99) -> 0 | CE18: =CC18-CD18 -> 0 | CF18: =IF(BR18<>"",BZ18*3+CA18*1,"") | CG18: =BS18+BZ18 -> 0 | CH18: =BT18+CA18 -> 0 | CI18: =BU18+CB18 -> 0 | CJ18: =BV18+CC18 -> 0 | CK18: =BW18+CD18 -> 0 | CL18: =BX18+CE18 -> 0 | CM18: =IF(BR18<>"",BY18+CF18,-1) -> -1 | CN18: 15 | CO18: =RANK(CM18,CM$16:CM$19) -> 1 | CP18: =SUMPRODUCT((CM$16:CM$19=CM18)*(CO$16:CO$19=CO18)*(CC$16:CC$19>CC18)) -> 0 | CQ18: =SUMPRODUCT((CM$16:CM$19=CM18)*(CL$16:CL$19>CL18)) -> 0 | CR18: =SUMPRODUCT((CO$16:CO$19=CO18)*(CQ$16:CQ$19=CQ18)*(CJ$16:CJ$19>CJ18)) -> 0 | CS18: =SUMPRODUCT((CO$16:CO$19=CO18)*(CQ$16:CQ$19=CQ18)*(CJ$16:CJ$19=CJ18)*(CN$16:CN$19>CN18)) -> 1 | CT18: =IF(AND(COUNTIF($AF$4:$AF$35,Gruppenphase!$G27)>0,COUNTIF($AF$4:$AF$35,Gruppenphase!$M27)>0),Gruppenphase!$G27,"") -> Dinamo Zagreb | CU18: =IF($BK18<>"",Gruppenphase!$I27,"") | CV18: =IF($BK18<>"",Gruppenphase!$K27,"") | CW18: =IF($BK18<>"",Gruppenphase!$M27,"") | CX18: =IF(BR18="","",SUM(CO18:CS18)) | CY18: =IF(BR18="","",BR18) | CZ18: 3 | DA18: =IF(AF18="",AD18,"") | DB18: =IF(AND(DA18="",DA17="",DA16=""),CZ18,IF(AND(DA16<>"",DA17="",DA18=""),2,IF(AND(DA16<>"",DA17<>"",DA18=""),1,""))) -> 3 | DC18: =VLOOKUP(DB18,$BO$16:$BP$19,2,FALSE) -> Ajax | DD18: 3 | DE18: =IF(CY18<>"",IF(CX18<CX19,CY18,CY19),IF(DC18<>"",DC18,DA18)) -> Ajax
A19: =Y19+Z19+AA19+AB19 -> 4 | B19: ='Club Namen'!B18 -> Dinamo Zagreb | C19: =SUMPRODUCT((Gruppenphase!$I$13:$I$108<>"")*(Gruppenphase!$K$13:$K$108<>"")*(Gruppenphase!$G$13:$G$108='Dummy Table'!$B19)*(Gruppenphase!$I$13:$I$108>Gruppenphase!$K$13:$K$108)) -> 0 | D19: =SUMPRODUCT((Gruppenphase!$I$13:$I$108<>"")*(Gruppenphase!$K$13:$K$108<>"")*(Gruppenphase!$G$13:$G$108='Dummy Table'!$B19)*(Gruppenphase!$I$13:$I$108=Gruppenphase!$K$13:$K$108)) -> 0 | E19: =SUMPRODUCT((Gruppenphase!$I$13:$I$108<>"")*(Gruppenphase!$K$13:$K$108<>"")*(Gruppenphase!$G$13:$G$108='Dummy Table'!$B19)*(Gruppenphase!$I$13:$I$108<Gruppenphase!$K$13:$K$108)) -> 0 | F19: =SUMIF(Gruppenphase!$G$13:$G$108,'Dummy Table'!$B19,Gruppenphase!$I$13:$I$108) -> 0 | G19: =SUMIF(Gruppenphase!$G$13:$G$108,'Dummy Table'!$B19,Gruppenphase!$K$13:$K$108) -> 0 | H19: =F19-G19 -> 0 | I19: =C19*3+D19*1 -> 0 | J19: =SUMPRODUCT((Gruppenphase!$I$13:$I$108<>"")*(Gruppenphase!$K$13:$K$108<>"")*(Gruppenphase!$M$13:$M$108='Dummy Table'!$B19)*(Gruppenphase!$I$13:$I$108<Gruppenphase!$K$13:$K$108)) -> 0 | K19: =SUMPRODUCT((Gruppenphase!$I$13:$I$108<>"")*(Gruppenphase!$K$13:$K$108<>"")*(Gruppenphase!$M$13:$M$108='Dummy Table'!$B19)*(Gruppenphase!$I$13:$I$108=Gruppenphase!$K$13:$K$108)) -> 0 | L19: =SUMPRODUCT((Gruppenphase!$I$13:$I$108<>"")*(Gruppenphase!$K$13:$K$108<>"")*(Gruppenphase!$M$13:$M$108='Dummy Table'!$B19)*(Gruppenphase!$I$13:$I$108>Gruppenphase!$K$13:$K$108)) -> 0 | M19: =SUMIF(Gruppenphase!$M$13:$M$108,'Dummy Table'!$B19,Gruppenphase!$K$13:$K$108) -> 0 | N19: =SUMIF(Gruppenphase!$M$13:$M$108,'Dummy Table'!$B19,Gruppenphase!$I$13:$I$108) -> 0 | O19: =M19-N19 -> 0 | P19: =J19*3+K19*1 -> 0 | Q19: =C19+J19 -> 0 | R19: =D19+K19 -> 0 | S19: =E19+L19 -> 0 | T19: =F19+M19 -> 0 | U19: =G19+N19 -> 0 | V19: =H19+O19 -> 0 | W19: =I19+P19 -> 0 | X19: 4 | Y19: =RANK(W19,W$16:W$19) -> 1 | Z19: =SUMPRODUCT((W$16:W$19=W19)*(V$16:V$19>V19)) -> 0 | AA19: =SUMPRODUCT((Y$16:Y$19=Y19)*(Z$16:Z$19=Z19)*(T$16:T$19>T19)) -> 0 | AB19: =SUMPRODUCT((Y$16:Y$19=Y19)*(Z$16:Z$19=Z19)*(T$16:T$19=T19)*(X$16:X$19>X19)) -> 3 | AC19: 4 | AD19: =VLOOKUP(AC19,$A$16:$B$19,2,FALSE) -> Dinamo Zagreb | AE19: =VLOOKUP($AD19,$B$16:$W$19,22,FALSE) -> 0 | AF19: =IF(AND(AE19=AE18,AE18=AE17),AD19,"") -> Dinamo Zagreb | AG19: =SUMPRODUCT(($BK$4:$BK$99='Dummy Table'!$AF19)*($BL$4:$BL$99>$BM$4:$BM$99)) -> 0 | AH19: =SUMPRODUCT(($BK$4:$BK$99='Dummy Table'!$AF19)*($BL$4:$BL$99=$BM$4:$BM$99)) -> 0 | AI19: =SUMPRODUCT(($BK$4:$BK$99='Dummy Table'!$AF19)*($BL$4:$BL$99<$BM$4:$BM$99)) -> 0 | AJ19: =SUMIF($BK$4:$BK$99,'Dummy Table'!$AF19,$BL$4:$BL$99) -> 0 | AK19: =SUMIF($BK$4:$BK$99,'Dummy Table'!$AF19,$BM$4:$BM$99) -> 0 | AL19: =AJ19-AK19 -> 0 | AM19: =IF(AF19<>"",AG19*3+AH19*1,"") -> 0 | AN19: =SUMPRODUCT(($BN$4:$BN$99='Dummy Table'!$AF19)*($BL$4:$BL$99<$BM$4:$BM$99)) -> 0 | AO19: =SUMPRODUCT(($BN$4:$BN$99='Dummy Table'!$AF19)*($BL$4:$BL$99=$BM$4:$BM$99)) -> 0 | AP19: =SUMPRODUCT(($BN$4:$BN$99='Dummy Table'!$AF19)*($BL$4:$BL$99>$BM$4:$BM$99)) -> 0 | AQ19: =SUMIF($BN$4:$BN$99,'Dummy Table'!$AF19,$BM$4:$BM$99) -> 0 | AR19: =SUMIF($BN$4:$BN$99,'Dummy Table'!$AF19,$BL$4:$BL$99) -> 0 | AS19: =AQ19-AR19 -> 0 | AT19: =IF(AF19<>"",AN19*3+AO19*1,"") -> 0 | AU19: =AG19+AN19 -> 0 | AV19: =AH19+AO19 -> 0 | AW19: =AI19+AP19 -> 0 | AX19: =AJ19+AQ19 -> 0 | AY19: =AK19+AR19 -> 0 | AZ19: =AL19+AS19 -> 0 | BA19: =IF(AF19<>"",AM19+AT19,-1) -> 0 | BB19: =IF(AF19<>"",VLOOKUP(AF19,$B$4:$V$35,21,FALSE),"") -> 0 | BC19: =IF(AF19<>"",VLOOKUP(AF19,$B$4:$T$35,19,FALSE),"") -> 0 | BD19: =IF(AF19<>"",VLOOKUP(AF19,$B$4:$X$35,23,FALSE),"") -> 4 | BE19: =RANK(BA19,BA$16:BA$19) -> 1 | BF19: =SUMPRODUCT((BA$16:BA$19=BA19)*(AZ$16:AZ$19>AZ19)) -> 0 | BG19: =SUMPRODUCT((BA$16:BA$19=BA19)*(BE$16:BE$19=BE19)*(AZ$16:AZ$19=AZ19)*(AQ$16:AQ$19>AQ19)) -> 0 | BH19: =SUMPRODUCT((BA$16:BA$19=BA19)*(BE$16:BE$19=BE19)*(AZ$16:AZ$19=AZ19)*(AQ$16:AQ$19=AQ19)*(BB$16:BB$19>BB19)) -> 0 | BI19: =SUMPRODUCT((BA$16:BA$19=BA19)*(BE$16:BE$19=BE19)*(AZ$16:AZ$19=AZ19)*(AQ$16:AQ$19=AQ19)*(BB$16:BB$19=BB19)*(BC$16:BC$19>BC19)) -> 0 | BJ19: =SUMPRODUCT((BA$16:BA$19=BA19)*(BE$16:BE$19=BE19)*(AZ$16:AZ$19=AZ19)*(AQ$16:AQ$19=AQ19)*(BB$16:BB$19=BB19)*(BC$16:BC$19=BC19)*(BD$16:BD$19>BD19)) -> 3 | BK19: =IF(AND(COUNTIF($AF$4:$AF$35,Gruppenphase!G28)>0,COUNTIF($AF$4:$AF$35,Gruppenphase!M28)>0,Gruppenphase!I28<>"",Gruppenphase!K28<>""),Gruppenphase!G28,"") | BL19: =IF($BK19<>"",Gruppenphase!I28,"") | BM19: =IF($BK19<>"",Gruppenphase!K28,"") | BN19: =IF($BK19<>"",Gruppenphase!M28,"") | BO19: =IF(AF19="","",SUM(BE19:BJ19)) -> 4 | BP19: =IF(AF19="","",AF19) -> Dinamo Zagreb | BQ19: =VLOOKUP($AD19,$B$16:$W$19,22,FALSE) -> 0 | BR19: =IF(BR18<>"",AD19,"") | BS19: =SUMPRODUCT(($BK$4:$BK$99='Dummy Table'!$AF19)*($BL$4:$BL$99>$BM$4:$BM$99)) -> 0 | BT19: =SUMPRODUCT(($BK$4:$BK$99='Dummy Table'!$AF19)*($BL$4:$BL$99=$BM$4:$BM$99)) -> 0 | BU19: =SUMPRODUCT(($BK$4:$BK$99='Dummy Table'!$AF19)*($BL$4:$BL$99<$BM$4:$BM$99)) -> 0 | BV19: =SUMIF($BK$4:$BK$99,'Dummy Table'!$AF19,$BL$4:$BL$99) -> 0 | BW19: =SUMIF($BK$4:$BK$99,'Dummy Table'!$AF19,$BM$4:$BM$99) -> 0 | BX19: =BV19-BW19 -> 0 | BY19: =IF(BR19<>"",BS19*3+BT19*1,"") | BZ19: =SUMPRODUCT(($BN$4:$BN$99='Dummy Table'!$AF19)*($BL$4:$BL$99<$BM$4:$BM$99)) -> 0 | CA19: =SUMPRODUCT(($BN$4:$BN$99='Dummy Table'!$AF19)*($BL$4:$BL$99=$BM$4:$BM$99)) -> 0 | CB19: =SUMPRODUCT(($BN$4:$BN$99='Dummy Table'!$AF19)*($BL$4:$BL$99>$BM$4:$BM$99)) -> 0 | CC19: =SUMIF($BN$4:$BN$99,'Dummy Table'!$AF19,$BM$4:$BM$99) -> 0 | CD19: =SUMIF($BN$4:$BN$99,'Dummy Table'!$AF19,$BL$4:$BL$99) -> 0 | CE19: =CC19-CD19 -> 0 | CF19: =IF(BR19<>"",BZ19*3+CA19*1,"") | CG19: =BS19+BZ19 -> 0 | CH19: =BT19+CA19 -> 0 | CI19: =BU19+CB19 -> 0 | CJ19: =BV19+CC19 -> 0 | CK19: =BW19+CD19 -> 0 | CL19: =BX19+CE19 -> 0 | CM19: =IF(BR19<>"",BY19+CF19,-1) -> -1 | CN19: 16 | CO19: =RANK(CM19,CM$16:CM$19) -> 1 | CP19: =SUMPRODUCT((CM$16:CM$19=CM19)*(CO$16:CO$19=CO19)*(CC$16:CC$19>CC19)) -> 0 | CQ19: =SUMPRODUCT((CM$16:CM$19=CM19)*(CL$16:CL$19>CL19)) -> 0 | CR19: =SUMPRODUCT((CO$16:CO$19=CO19)*(CQ$16:CQ$19=CQ19)*(CJ$16:CJ$19>CJ19)) -> 0 | CS19: =SUMPRODUCT((CO$16:CO$19=CO19)*(CQ$16:CQ$19=CQ19)*(CJ$16:CJ$19=CJ19)*(CN$16:CN$19>CN19)) -> 0 | CT19: =IF(AND(COUNTIF($AF$4:$AF$35,Gruppenphase!$G28)>0,COUNTIF($AF$4:$AF$35,Gruppenphase!$M28)>0),Gruppenphase!$G28,"") -> Ajax | CU19: =IF($BK19<>"",Gruppenphase!$I28,"") | CV19: =IF($BK19<>"",Gruppenphase!$K28,"") | CW19: =IF($BK19<>"",Gruppenphase!$M28,"") | CX19: =IF(BR19="","",SUM(CO19:CS19)) | CY19: =IF(BR19="","",BR19) | CZ19: 4 | DA19: =IF(AF19="",AD19,"") | DB19: =IF(AND(DA19="",DA18="",DA17="",DA16=""),4,IF(AND(DA19="",DA18="",DA17=""),3,IF(AND(DA17<>"",DA18="",DA19=""),2,IF(AND(DA17<>"",DA18<>"",DA19=""),1,"")))) -> 4 | DC19: =VLOOKUP(DB19,$BO$16:$BP$19,2,FALSE) -> Dinamo Zagreb | DD19: 4 | DE19: =IF(CY19<>"",IF(CX18<CX19,CY19,CY18),IF(DC19<>"",DC19,DA19)) -> Dinamo Zagreb
A20: =Y20+Z20+AA20+AB20 -> 1 | B20: ='Club Namen'!B19 -> Chelsea | C20: =SUMPRODUCT((Gruppenphase!$I$13:$I$108<>"")*(Gruppenphase!$K$13:$K$108<>"")*(Gruppenphase!$G$13:$G$108='Dummy Table'!$B20)*(Gruppenphase!$I$13:$I$108>Gruppenphase!$K$13:$K$108)) -> 0 | D20: =SUMPRODUCT((Gruppenphase!$I$13:$I$108<>"")*(Gruppenphase!$K$13:$K$108<>"")*(Gruppenphase!$G$13:$G$108='Dummy Table'!$B20)*(Gruppenphase!$I$13:$I$108=Gruppenphase!$K$13:$K$108)) -> 0 | E20: =SUMPRODUCT((Gruppenphase!$I$13:$I$108<>"")*(Gruppenphase!$K$13:$K$108<>"")*(Gruppenphase!$G$13:$G$108='Dummy Table'!$B20)*(Gruppenphase!$I$13:$I$108<Gruppenphase!$K$13:$K$108)) -> 0 | F20: =SUMIF(Gruppenphase!$G$13:$G$108,'Dummy Table'!$B20,Gruppenphase!$I$13:$I$108) -> 0 | G20: =SUMIF(Gruppenphase!$G$13:$G$108,'Dummy Table'!$B20,Gruppenphase!$K$13:$K$108) -> 0 | H20: =F20-G20 -> 0 | I20: =C20*3+D20*1 -> 0 | J20: =SUMPRODUCT((Gruppenphase!$I$13:$I$108<>"")*(Gruppenphase!$K$13:$K$108<>"")*(Gruppenphase!$M$13:$M$108='Dummy Table'!$B20)*(Gruppenphase!$I$13:$I$108<Gruppenphase!$K$13:$K$108)) -> 0 | K20: =SUMPRODUCT((Gruppenphase!$I$13:$I$108<>"")*(Gruppenphase!$K$13:$K$108<>"")*(Gruppenphase!$M$13:$M$108='Dummy Table'!$B20)*(Gruppenphase!$I$13:$I$108=Gruppenphase!$K$13:$K$108)) -> 0 | L20: =SUMPRODUCT((Gruppenphase!$I$13:$I$108<>"")*(Gruppenphase!$K$13:$K$108<>"")*(Gruppenphase!$M$13:$M$108='Dummy Table'!$B20)*(Gruppenphase!$I$13:$I$108>Gruppenphase!$K$13:$K$108)) -> 0 | M20: =SUMIF(Gruppenphase!$M$13:$M$108,'Dummy Table'!$B20,Gruppenphase!$K$13:$K$108) -> 0 | N20: =SUMIF(Gruppenphase!$M$13:$M$108,'Dummy Table'!$B20,Gruppenphase!$I$13:$I$108) -> 0 | O20: =M20-N20 -> 0 | P20: =J20*3+K20*1 -> 0 | Q20: =C20+J20 -> 0 | R20: =D20+K20 -> 0 | S20: =E20+L20 -> 0 | T20: =F20+M20 -> 0 | U20: =G20+N20 -> 0 | V20: =H20+O20 -> 0 | W20: =I20+P20 -> 0 | X20: 481 | Y20: =RANK(W20,W$20:W$23) -> 1 | Z20: =SUMPRODUCT((W$20:W$23=W20)*(V$20:V$23>V20)) -> 0 | AA20: =SUMPRODUCT((Y$20:Y$23=Y20)*(Z$20:Z$23=Z20)*(T$20:T$23>T20)) -> 0 | AB20: =SUMPRODUCT((Y$20:Y$23=Y20)*(Z$20:Z$23=Z20)*(T$20:T$23=T20)*(X$20:X$23>X20)) -> 0 | AC20: 1 | AD20: =VLOOKUP(AC20,$A$20:$B$23,2,FALSE) -> Chelsea | AE20: =VLOOKUP($AD20,$B$20:$W$23,22,FALSE) -> 0 | AF20: =IF(AE20=AE21,AD20,"") -> Chelsea | AG20: =SUMPRODUCT(($BK$4:$BK$99='Dummy Table'!$AF20)*($BL$4:$BL$99>$BM$4:$BM$99)) -> 0 | AH20: =SUMPRODUCT(($BK$4:$BK$99='Dummy Table'!$AF20)*($BL$4:$BL$99=$BM$4:$BM$99)) -> 0 | AI20: =SUMPRODUCT(($BK$4:$BK$99='Dummy Table'!$AF20)*($BL$4:$BL$99<$BM$4:$BM$99)) -> 0 | AJ20: =SUMIF($BK$4:$BK$99,'Dummy Table'!$AF20,$BL$4:$BL$99) -> 0 | AK20: =SUMIF($BK$4:$BK$99,'Dummy Table'!$AF20,$BM$4:$BM$99) -> 0 | AL20: =AJ20-AK20 -> 0 | AM20: =IF(AF20<>"",AG20*3+AH20*1,"") -> 0 | AN20: =SUMPRODUCT(($BN$4:$BN$99='Dummy Table'!$AF20)*($BL$4:$BL$99<$BM$4:$BM$99)) -> 0 | AO20: =SUMPRODUCT(($BN$4:$BN$99='Dummy Table'!$AF20)*($BL$4:$BL$99=$BM$4:$BM$99)) -> 0 | AP20: =SUMPRODUCT(($BN$4:$BN$99='Dummy Table'!$AF20)*($BL$4:$BL$99>$BM$4:$BM$99)) -> 0 | AQ20: =SUMIF($BN$4:$BN$99,'Dummy Table'!$AF20,$BM$4:$BM$99) -> 0 | AR20: =SUMIF($BN$4:$BN$99,'Dummy Table'!$AF20,$BL$4:$BL$99) -> 0 | AS20: =AQ20-AR20 -> 0 | AT20: =IF(AF20<>"",AN20*3+AO20*1,"") -> 0 | AU20: =AG20+AN20 -> 0 | AV20: =AH20+AO20 -> 0 | AW20: =AI20+AP20 -> 0 | AX20: =AJ20+AQ20 -> 0 | AY20: =AK20+AR20 -> 0 | AZ20: =AL20+AS20 -> 0 | BA20: =IF(AF20<>"",AM20+AT20,-1) -> 0 | BB20: =IF(AF20<>"",VLOOKUP(AF20,$B$4:$V$35,21,FALSE),"") -> 0 | BC20: =IF(AF20<>"",VLOOKUP(AF20,$B$4:$T$35,19,FALSE),"") -> 0 | BD20: =IF(AF20<>"",VLOOKUP(AF20,$B$4:$X$35,23,FALSE),"") -> 481 | BE20: =RANK(BA20,BA$20:BA$23) -> 1 | BF20: =SUMPRODUCT((BA$20:BA$23=BA20)*(AZ$20:AZ$23>AZ20)) -> 0 | BG20: =SUMPRODUCT((BA$20:BA$23=BA20)*(BE$20:BE$23=BE20)*(AZ$20:AZ$23=AZ20)*(AQ$20:AQ$23>AQ20)) -> 0 | BH20: =SUMPRODUCT((BA$20:BA$23=BA20)*(BE$20:BE$23=BE20)*(AZ$20:AZ$23=AZ20)*(AQ$20:AQ$23=AQ20)*(BB$20:BB$23>BB20)) -> 0 | BI20: =SUMPRODUCT((BA$20:BA$23=BA20)*(BE$20:BE$23=BE20)*(AZ$20:AZ$23=AZ20)*(AQ$20:AQ$23=AQ20)*(BB$20:BB$23=BB20)*(BC$20:BC$23>BC20)) -> 0 | BJ20: =SUMPRODUCT((BA$20:BA$23=BA20)*(BE$20:BE$23=BE20)*(AZ$20:AZ$23=AZ20)*(AQ$20:AQ$23=AQ20)*(BB$20:BB$23=BB20)*(BC$20:BC$23=BC20)*(BD$20:BD$23>BD20)) -> 0 | BK20: =IF(AND(COUNTIF($AF$4:$AF$35,Gruppenphase!G29)>0,COUNTIF($AF$4:$AF$35,Gruppenphase!M29)>0,Gruppenphase!I29<>"",Gruppenphase!K29<>""),Gruppenphase!G29,"") | BL20: =IF($BK20<>"",Gruppenphase!I29,"") | BM20: =IF($BK20<>"",Gruppenphase!K29,"") | BN20: =IF($BK20<>"",Gruppenphase!M29,"") | BO20: =IF(AF20="","",SUM(BE20:BJ20)) -> 1 | BP20: =IF(AF20="","",AF20) -> Chelsea | BQ20: =VLOOKUP($AD20,$B$20:$W$23,22,FALSE) -> 0 | BS20: =SUMPRODUCT(($BK$4:$BK$99='Dummy Table'!$AF20)*($BL$4:$BL$99>$BM$4:$BM$99)) -> 0 | BT20: =SUMPRODUCT(($BK$4:$BK$99='Dummy Table'!$AF20)*($BL$4:$BL$99=$BM$4:$BM$99)) -> 0 | BU20: =SUMPRODUCT(($BK$4:$BK$99='Dummy Table'!$AF20)*($BL$4:$BL$99<$BM$4:$BM$99)) -> 0 | BV20: =SUMIF($BK$4:$BK$99,'Dummy Table'!$AF20,$BL$4:$BL$99) -> 0 | BW20: =SUMIF($BK$4:$BK$99,'Dummy Table'!$AF20,$BM$4:$BM$99) -> 0 | BX20: =BV20-BW20 -> 0 | BY20: =IF(BR20<>"",BS20*3+BT20*1,"") | BZ20: =SUMPRODUCT(($BN$4:$BN$99='Dummy Table'!$AF20)*($BL$4:$BL$99<$BM$4:$BM$99)) -> 0 | CA20: =SUMPRODUCT(($BN$4:$BN$99='Dummy Table'!$AF20)*($BL$4:$BL$99=$BM$4:$BM$99)) -> 0 | CB20: =SUMPRODUCT(($BN$4:$BN$99='Dummy Table'!$AF20)*($BL$4:$BL$99>$BM$4:$BM$99)) -> 0 | CC20: =SUMIF($BN$4:$BN$99,'Dummy Table'!$AF20,$BM$4:$BM$99) -> 0 | CD20: =SUMIF($BN$4:$BN$99,'Dummy Table'!$AF20,$BL$4:$BL$99) -> 0 | CE20: =CC20-CD20 -> 0 | CF20: =IF(BR20<>"",BZ20*3+CA20*1,"") | CG20: =BS20+BZ20 -> 0 | CH20: =BT20+CA20 -> 0 | CI20: =BU20+CB20 -> 0 | CJ20: =BV20+CC20 -> 0 | CK20: =BW20+CD20 -> 0 | CL20: =BX20+CE20 -> 0 | CM20: =IF(BR20<>"",BY20+CF20,-1) -> -1 | CN20: 17 | CO20: =RANK(CM20,CM$20:CM$23) -> 1 | CP20: =SUMPRODUCT((CM$20:CM$23=CM20)*(CO$20:CO$23=CO20)*(CC$20:CC$23>CC20)) -> 0 | CQ20: =SUMPRODUCT((CM$20:CM$23=CM20)*(CL$20:CL$23>CL20)) -> 0 | CR20: =SUMPRODUCT((CO$20:CO$23=CO20)*(CQ$20:CQ$23=CQ20)*(CJ$20:CJ$23>CJ20)) -> 0 | CS20: =SUMPRODUCT((CO$20:CO$23=CO20)*(CQ$20:CQ$23=CQ20)*(CJ$20:CJ$23=CJ20)*(CN$20:CN$23>CN20)) -> 3 | CT20: =IF(AND(COUNTIF($AF$4:$AF$35,Gruppenphase!$G29)>0,COUNTIF($AF$4:$AF$35,Gruppenphase!$M29)>0),Gruppenphase!$G29,"") -> CSKA Moscow | CU20: =IF($BK20<>"",Gruppenphase!$I29,"") | CV20: =IF($BK20<>"",Gruppenphase!$K29,"") | CW20: =IF($BK20<>"",Gruppenphase!$M29,"") | CX20: =IF(BR20="","",SUM(CO20:CS20)) | CY20: =IF(BR20="","",BR20) | CZ20: 1 | DA20: =IF(AF20="",AD20,"") | DB20: =IF(DA20="",CZ20,"") -> 1 | DC20: =VLOOKUP(DB20,$BO$20:$BP$23,2,FALSE) -> Chelsea | DD20: 1 | DE20: =IF(DA20="",DC20,DA20) -> Chelsea
A21: =Y21+Z21+AA21+AB21 -> 2 | B21: ='Club Namen'!B20 -> Valencia | C21: =SUMPRODUCT((Gruppenphase!$I$13:$I$108<>"")*(Gruppenphase!$K$13:$K$108<>"")*(Gruppenphase!$G$13:$G$108='Dummy Table'!$B21)*(Gruppenphase!$I$13:$I$108>Gruppenphase!$K$13:$K$108)) -> 0 | D21: =SUMPRODUCT((Gruppenphase!$I$13:$I$108<>"")*(Gruppenphase!$K$13:$K$108<>"")*(Gruppenphase!$G$13:$G$108='Dummy Table'!$B21)*(Gruppenphase!$I$13:$I$108=Gruppenphase!$K$13:$K$108)) -> 0 | E21: =SUMPRODUCT((Gruppenphase!$I$13:$I$108<>"")*(Gruppenphase!$K$13:$K$108<>"")*(Gruppenphase!$G$13:$G$108='Dummy Table'!$B21)*(Gruppenphase!$I$13:$I$108<Gruppenphase!$K$13:$K$108)) -> 0 | F21: =SUMIF(Gruppenphase!$G$13:$G$108,'Dummy Table'!$B21,Gruppenphase!$I$13:$I$108) -> 0 | G21: =SUMIF(Gruppenphase!$G$13:$G$108,'Dummy Table'!$B21,Gruppenphase!$K$13:$K$108) -> 0 | H21: =F21-G21 -> 0 | I21: =C21*3+D21*1 -> 0 | J21: =SUMPRODUCT((Gruppenphase!$I$13:$I$108<>"")*(Gruppenphase!$K$13:$K$108<>"")*(Gruppenphase!$M$13:$M$108='Dummy Table'!$B21)*(Gruppenphase!$I$13:$I$108<Gruppenphase!$K$13:$K$108)) -> 0 | K21: =SUMPRODUCT((Gruppenphase!$I$13:$I$108<>"")*(Gruppenphase!$K$13:$K$108<>"")*(Gruppenphase!$M$13:$M$108='Dummy Table'!$B21)*(Gruppenphase!$I$13:$I$108=Gruppenphase!$K$13:$K$108)) -> 0 | L21: =SUMPRODUCT((Gruppenphase!$I$13:$I$108<>"")*(Gruppenphase!$K$13:$K$108<>"")*(Gruppenphase!$M$13:$M$108='Dummy Table'!$B21)*(Gruppenphase!$I$13:$I$108>Gruppenphase!$K$13:$K$108)) -> 0 | M21: =SUMIF(Gruppenphase!$M$13:$M$108,'Dummy Table'!$B21,Gruppenphase!$K$13:$K$108) -> 0 | N21: =SUMIF(Gruppenphase!$M$13:$M$108,'Dummy Table'!$B21,Gruppenphase!$I$13:$I$108) -> 0 | O21: =M21-N21 -> 0 | P21: =J21*3+K21*1 -> 0 | Q21: =C21+J21 -> 0 | R21: =D21+K21 -> 0 | S21: =E21+L21 -> 0 | T21: =F21+M21 -> 0 | U21: =G21+N21 -> 0 | V21: =H21+O21 -> 0 | W21: =I21+P21 -> 0 | X21: 91 | Y21: =RANK(W21,W$20:W$23) -> 1 | Z21: =SUMPRODUCT((W$20:W$23=W21)*(V$20:V$23>V21)) -> 0 | AA21: =SUMPRODUCT((Y$20:Y$23=Y21)*(Z$20:Z$23=Z21)*(T$20:T$23>T21)) -> 0 | AB21: =SUMPRODUCT((Y$20:Y$23=Y21)*(Z$20:Z$23=Z21)*(T$20:T$23=T21)*(X$20:X$23>X21)) -> 1 | AC21: 2 | AD21: =VLOOKUP(AC21,$A$20:$B$23,2,FALSE) -> Valencia | AE21: =VLOOKUP($AD21,$B$20:$W$23,22,FALSE) -> 0 | AF21: =IF(OR(AE21=AE20,AE21=AE22),AD21,"") -> Valencia | AG21: =SUMPRODUCT(($BK$4:$BK$99='Dummy Table'!$AF21)*($BL$4:$BL$99>$BM$4:$BM$99)) -> 0 | AH21: =SUMPRODUCT(($BK$4:$BK$99='Dummy Table'!$AF21)*($BL$4:$BL$99=$BM$4:$BM$99)) -> 0 | AI21: =SUMPRODUCT(($BK$4:$BK$99='Dummy Table'!$AF21)*($BL$4:$BL$99<$BM$4:$BM$99)) -> 0 | AJ21: =SUMIF($BK$4:$BK$99,'Dummy Table'!$AF21,$BL$4:$BL$99) -> 0 | AK21: =SUMIF($BK$4:$BK$99,'Dummy Table'!$AF21,$BM$4:$BM$99) -> 0 | AL21: =AJ21-AK21 -> 0 | AM21: =IF(AF21<>"",AG21*3+AH21*1,"") -> 0 | AN21: =SUMPRODUCT(($BN$4:$BN$99='Dummy Table'!$AF21)*($BL$4:$BL$99<$BM$4:$BM$99)) -> 0 | AO21: =SUMPRODUCT(($BN$4:$BN$99='Dummy Table'!$AF21)*($BL$4:$BL$99=$BM$4:$BM$99)) -> 0 | AP21: =SUMPRODUCT(($BN$4:$BN$99='Dummy Table'!$AF21)*($BL$4:$BL$99>$BM$4:$BM$99)) -> 0 | AQ21: =SUMIF($BN$4:$BN$99,'Dummy Table'!$AF21,$BM$4:$BM$99) -> 0 | AR21: =SUMIF($BN$4:$BN$99,'Dummy Table'!$AF21,$BL$4:$BL$99) -> 0 | AS21: =AQ21-AR21 -> 0 | AT21: =IF(AF21<>"",AN21*3+AO21*1,"") -> 0 | AU21: =AG21+AN21 -> 0 | AV21: =AH21+AO21 -> 0 | AW21: =AI21+AP21 -> 0 | AX21: =AJ21+AQ21 -> 0 | AY21: =AK21+AR21 -> 0 | AZ21: =AL21+AS21 -> 0 | BA21: =IF(AF21<>"",AM21+AT21,-1) -> 0 | BB21: =IF(AF21<>"",VLOOKUP(AF21,$B$4:$V$35,21,FALSE),"") -> 0 | BC21: =IF(AF21<>"",VLOOKUP(AF21,$B$4:$T$35,19,FALSE),"") -> 0 | BD21: =IF(AF21<>"",VLOOKUP(AF21,$B$4:$X$35,23,FALSE),"") -> 91 | BE21: =RANK(BA21,BA$20:BA$23) -> 1 | BF21: =SUMPRODUCT((BA$20:BA$23=BA21)*(AZ$20:AZ$23>AZ21)) -> 0 | BG21: =SUMPRODUCT((BA$20:BA$23=BA21)*(BE$20:BE$23=BE21)*(AZ$20:AZ$23=AZ21)*(AQ$20:AQ$23>AQ21)) -> 0 | BH21: =SUMPRODUCT((BA$20:BA$23=BA21)*(BE$20:BE$23=BE21)*(AZ$20:AZ$23=AZ21)*(AQ$20:AQ$23=AQ21)*(BB$20:BB$23>BB21)) -> 0 | BI21: =SUMPRODUCT((BA$20:BA$23=BA21)*(BE$20:BE$23=BE21)*(AZ$20:AZ$23=AZ21)*(AQ$20:AQ$23=AQ21)*(BB$20:BB$23=BB21)*(BC$20:BC$23>BC21)) -> 0 | BJ21: =SUMPRODUCT((BA$20:BA$23=BA21)*(BE$20:BE$23=BE21)*(AZ$20:AZ$23=AZ21)*(AQ$20:AQ$23=AQ21)*(BB$20:BB$23=BB21)*(BC$20:BC$23=BC21)*(BD$20:BD$23>BD21)) -> 1 | BK21: =IF(AND(COUNTIF($AF$4:$AF$35,Gruppenphase!G30)>0,COUNTIF($AF$4:$AF$35,Gruppenphase!M30)>0,Gruppenphase!I30<>"",Gruppenphase!K30<>""),Gruppenphase!G30,"") | BL21: =IF($BK21<>"",Gruppenphase!I30,"") | BM21: =IF($BK21<>"",Gruppenphase!K30,"") | BN21: =IF($BK21<>"",Gruppenphase!M30,"") | BO21: =IF(AF21="","",SUM(BE21:BJ21)) -> 2 | BP21: =IF(AF21="","",AF21) -> Valencia | BQ21: =VLOOKUP($AD21,$B$20:$W$23,22,FALSE) -> 0 | BS21: =SUMPRODUCT(($BK$4:$BK$99='Dummy Table'!$AF21)*($BL$4:$BL$99>$BM$4:$BM$99)) -> 0 | BT21: =SUMPRODUCT(($BK$4:$BK$99='Dummy Table'!$AF21)*($BL$4:$BL$99=$BM$4:$BM$99)) -> 0 | BU21: =SUMPRODUCT(($BK$4:$BK$99='Dummy Table'!$AF21)*($BL$4:$BL$99<$BM$4:$BM$99)) -> 0 | BV21: =SUMIF($BK$4:$BK$99,'Dummy Table'!$AF21,$BL$4:$BL$99) -> 0 | BW21: =SUMIF($BK$4:$BK$99,'Dummy Table'!$AF21,$BM$4:$BM$99) -> 0 | BX21: =BV21-BW21 -> 0 | BY21: =IF(BR21<>"",BS21*3+BT21*1,"") | BZ21: =SUMPRODUCT(($BN$4:$BN$99='Dummy Table'!$AF21)*($BL$4:$BL$99<$BM$4:$BM$99)) -> 0 | CA21: =SUMPRODUCT(($BN$4:$BN$99='Dummy Table'!$AF21)*($BL$4:$BL$99=$BM$4:$BM$99)) -> 0 | CB21: =SUMPRODUCT(($BN$4:$BN$99='Dummy Table'!$AF21)*($BL$4:$BL$99>$BM$4:$BM$99)) -> 0 | CC21: =SUMIF($BN$4:$BN$99,'Dummy Table'!$AF21,$BM$4:$BM$99) -> 0 | CD21: =SUMIF($BN$4:$BN$99,'Dummy Table'!$AF21,$BL$4:$BL$99) -> 0 | CE21: =CC21-CD21 -> 0 | CF21: =IF(BR21<>"",BZ21*3+CA21*1,"") | CG21: =BS21+BZ21 -> 0 | CH21: =BT21+CA21 -> 0 | CI21: =BU21+CB21 -> 0 | CJ21: =BV21+CC21 -> 0 | CK21: =BW21+CD21 -> 0 | CL21: =BX21+CE21 -> 0 | CM21: =IF(BR21<>"",BY21+CF21,-1) -> -1 | CN21: 18 | CO21: =RANK(CM21,CM$20:CM$23) -> 1 | CP21: =SUMPRODUCT((CM$20:CM$23=CM21)*(CO$20:CO$23=CO21)*(CC$20:CC$23>CC21)) -> 0 | CQ21: =SUMPRODUCT((CM$20:CM$23=CM21)*(CL$20:CL$23>CL21)) -> 0 | CR21: =SUMPRODUCT((CO$20:CO$23=CO21)*(CQ$20:CQ$23=CQ21)*(CJ$20:CJ$23>CJ21)) -> 0 | CS21: =SUMPRODUCT((CO$20:CO$23=CO21)*(CQ$20:CQ$23=CQ21)*(CJ$20:CJ$23=CJ21)*(CN$20:CN$23>CN21)) -> 2 | CT21: =IF(AND(COUNTIF($AF$4:$AF$35,Gruppenphase!$G30)>0,COUNTIF($AF$4:$AF$35,Gruppenphase!$M30)>0),Gruppenphase!$G30,"") -> Bayern München | CU21: =IF($BK21<>"",Gruppenphase!$I30,"") | CV21: =IF($BK21<>"",Gruppenphase!$K30,"") | CW21: =IF($BK21<>"",Gruppenphase!$M30,"") | CX21: =IF(BR21="","",SUM(CO21:CS21)) | CY21: =IF(BR21="","",BR21) | CZ21: 2 | DA21: =IF(AF21="",AD21,"") | DB21: =IF(AND(DA21="",DA20=""),CZ21,IF(AND(DA20<>"",DA21=""),1,"")) -> 2 | DC21: =VLOOKUP(DB21,$BO$20:$BP$23,2,FALSE) -> Valencia | DD21: 2 | DE21: =IF(DA21="",DC21,DA21) -> Valencia
A22: =Y22+Z22+AA22+AB22 -> 3 | B22: ='Club Namen'!B21 -> Bayer Leverkusen | C22: =SUMPRODUCT((Gruppenphase!$I$13:$I$108<>"")*(Gruppenphase!$K$13:$K$108<>"")*(Gruppenphase!$G$13:$G$108='Dummy Table'!$B22)*(Gruppenphase!$I$13:$I$108>Gruppenphase!$K$13:$K$108)) -> 0 | D22: =SUMPRODUCT((Gruppenphase!$I$13:$I$108<>"")*(Gruppenphase!$K$13:$K$108<>"")*(Gruppenphase!$G$13:$G$108='Dummy Table'!$B22)*(Gruppenphase!$I$13:$I$108=Gruppenphase!$K$13:$K$108)) -> 0 | E22: =SUMPRODUCT((Gruppenphase!$I$13:$I$108<>"")*(Gruppenphase!$K$13:$K$108<>"")*(Gruppenphase!$G$13:$G$108='Dummy Table'!$B22)*(Gruppenphase!$I$13:$I$108<Gruppenphase!$K$13:$K$108)) -> 0 | F22: =SUMIF(Gruppenphase!$G$13:$G$108,'Dummy Table'!$B22,Gruppenphase!$I$13:$I$108) -> 0 | G22: =SUMIF(Gruppenphase!$G$13:$G$108,'Dummy Table'!$B22,Gruppenphase!$K$13:$K$108) -> 0 | H22: =F22-G22 -> 0 | I22: =C22*3+D22*1 -> 0 | J22: =SUMPRODUCT((Gruppenphase!$I$13:$I$108<>"")*(Gruppenphase!$K$13:$K$108<>"")*(Gruppenphase!$M$13:$M$108='Dummy Table'!$B22)*(Gruppenphase!$I$13:$I$108<Gruppenphase!$K$13:$K$108)) -> 0 | K22: =SUMPRODUCT((Gruppenphase!$I$13:$I$108<>"")*(Gruppenphase!$K$13:$K$108<>"")*(Gruppenphase!$M$13:$M$108='Dummy Table'!$B22)*(Gruppenphase!$I$13:$I$108=Gruppenphase!$K$13:$K$108)) -> 0 | L22: =SUMPRODUCT((Gruppenphase!$I$13:$I$108<>"")*(Gruppenphase!$K$13:$K$108<>"")*(Gruppenphase!$M$13:$M$108='Dummy Table'!$B22)*(Gruppenphase!$I$13:$I$108>Gruppenphase!$K$13:$K$108)) -> 0 | M22: =SUMIF(Gruppenphase!$M$13:$M$108,'Dummy Table'!$B22,Gruppenphase!$K$13:$K$108) -> 0 | N22: =SUMIF(Gruppenphase!$M$13:$M$108,'Dummy Table'!$B22,Gruppenphase!$I$13:$I$108) -> 0 | O22: =M22-N22 -> 0 | P22: =J22*3+K22*1 -> 0 | Q22: =C22+J22 -> 0 | R22: =D22+K22 -> 0 | S22: =E22+L22 -> 0 | T22: =F22+M22 -> 0 | U22: =G22+N22 -> 0 | V22: =H22+O22 -> 0 | W22: =I22+P22 -> 0 | X22: 42 | Y22: =RANK(W22,W$20:W$23) -> 1 | Z22: =SUMPRODUCT((W$20:W$23=W22)*(V$20:V$23>V22)) -> 0 | AA22: =SUMPRODUCT((Y$20:Y$23=Y22)*(Z$20:Z$23=Z22)*(T$20:T$23>T22)) -> 0 | AB22: =SUMPRODUCT((Y$20:Y$23=Y22)*(Z$20:Z$23=Z22)*(T$20:T$23=T22)*(X$20:X$23>X22)) -> 2 | AC22: 3 | AD22: =VLOOKUP(AC22,$A$20:$B$23,2,FALSE) -> Bayer Leverkusen | AE22: =VLOOKUP($AD22,$B$20:$W$23,22,FALSE) -> 0 | AF22: =IF(AE22=AE21,AD22,"") -> Bayer Leverkusen | AG22: =SUMPRODUCT(($BK$4:$BK$99='Dummy Table'!$AF22)*($BL$4:$BL$99>$BM$4:$BM$99)) -> 0 | AH22: =SUMPRODUCT(($BK$4:$BK$99='Dummy Table'!$AF22)*($BL$4:$BL$99=$BM$4:$BM$99)) -> 0 | AI22: =SUMPRODUCT(($BK$4:$BK$99='Dummy Table'!$AF22)*($BL$4:$BL$99<$BM$4:$BM$99)) -> 0 | AJ22: =SUMIF($BK$4:$BK$99,'Dummy Table'!$AF22,$BL$4:$BL$99) -> 0 | AK22: =SUMIF($BK$4:$BK$99,'Dummy Table'!$AF22,$BM$4:$BM$99) -> 0 | AL22: =AJ22-AK22 -> 0 | AM22: =IF(AF22<>"",AG22*3+AH22*1,"") -> 0 | AN22: =SUMPRODUCT(($BN$4:$BN$99='Dummy Table'!$AF22)*($BL$4:$BL$99<$BM$4:$BM$99)) -> 0 | AO22: =SUMPRODUCT(($BN$4:$BN$99='Dummy Table'!$AF22)*($BL$4:$BL$99=$BM$4:$BM$99)) -> 0 | AP22: =SUMPRODUCT(($BN$4:$BN$99='Dummy Table'!$AF22)*($BL$4:$BL$99>$BM$4:$BM$99)) -> 0 | AQ22: =SUMIF($BN$4:$BN$99,'Dummy Table'!$AF22,$BM$4:$BM$99) -> 0 | AR22: =SUMIF($BN$4:$BN$99,'Dummy Table'!$AF22,$BL$4:$BL$99) -> 0 | AS22: =AQ22-AR22 -> 0 | AT22: =IF(AF22<>"",AN22*3+AO22*1,"") -> 0 | AU22: =AG22+AN22 -> 0 | AV22: =AH22+AO22 -> 0 | AW22: =AI22+AP22 -> 0 | AX22: =AJ22+AQ22 -> 0 | AY22: =AK22+AR22 -> 0 | AZ22: =AL22+AS22 -> 0 | BA22: =IF(AF22<>"",AM22+AT22,-1) -> 0 | BB22: =IF(AF22<>"",VLOOKUP(AF22,$B$4:$V$35,21,FALSE),"") -> 0 | BC22: =IF(AF22<>"",VLOOKUP(AF22,$B$4:$T$35,19,FALSE),"") -> 0 | BD22: =IF(AF22<>"",VLOOKUP(AF22,$B$4:$X$35,23,FALSE),"") -> 42 | BE22: =RANK(BA22,BA$20:BA$23) -> 1 | BF22: =SUMPRODUCT((BA$20:BA$23=BA22)*(AZ$20:AZ$23>AZ22)) -> 0 | BG22: =SUMPRODUCT((BA$20:BA$23=BA22)*(BE$20:BE$23=BE22)*(AZ$20:AZ$23=AZ22)*(AQ$20:AQ$23>AQ22)) -> 0 | BH22: =SUMPRODUCT((BA$20:BA$23=BA22)*(BE$20:BE$23=BE22)*(AZ$20:AZ$23=AZ22)*(AQ$20:AQ$23=AQ22)*(BB$20:BB$23>BB22)) -> 0 | BI22: =SUMPRODUCT((BA$20:BA$23=BA22)*(BE$20:BE$23=BE22)*(AZ$20:AZ$23=AZ22)*(AQ$20:AQ$23=AQ22)*(BB$20:BB$23=BB22)*(BC$20:BC$23>BC22)) -> 0 | BJ22: =SUMPRODUCT((BA$20:BA$23=BA22)*(BE$20:BE$23=BE22)*(AZ$20:AZ$23=AZ22)*(AQ$20:AQ$23=AQ22)*(BB$20:BB$23=BB22)*(BC$20:BC$23=BC22)*(BD$20:BD$23>BD22)) -> 2 | BK22: =IF(AND(COUNTIF($AF$4:$AF$35,Gruppenphase!G31)>0,COUNTIF($AF$4:$AF$35,Gruppenphase!M31)>0,Gruppenphase!I31<>"",Gruppenphase!K31<>""),Gruppenphase!G31,"") | BL22: =IF($BK22<>"",Gruppenphase!I31,"") | BM22: =IF($BK22<>"",Gruppenphase!K31,"") | BN22: =IF($BK22<>"",Gruppenphase!M31,"") | BO22: =IF(AF22="","",SUM(BE22:BJ22)) -> 3 | BP22: =IF(AF22="","",AF22) -> Bayer Leverkusen | BQ22: =VLOOKUP($AD22,$B$20:$W$23,22,FALSE) -> 0 | BR22: =IF(AND(BQ22<>BQ21,BQ22=BQ23),AD22,"") | BS22: =SUMPRODUCT(($BK$4:$BK$99='Dummy Table'!$AF22)*($BL$4:$BL$99>$BM$4:$BM$99)) -> 0 | BT22: =SUMPRODUCT(($BK$4:$BK$99='Dummy Table'!$AF22)*($BL$4:$BL$99=$BM$4:$BM$99)) -> 0 | BU22: =SUMPRODUCT(($BK$4:$BK$99='Dummy Table'!$AF22)*($BL$4:$BL$99<$BM$4:$BM$99)) -> 0 | BV22: =SUMIF($BK$4:$BK$99,'Dummy Table'!$AF22,$BL$4:$BL$99) -> 0 | BW22: =SUMIF($BK$4:$BK$99,'Dummy Table'!$AF22,$BM$4:$BM$99) -> 0 | BX22: =BV22-BW22 -> 0 | BY22: =IF(BR22<>"",BS22*3+BT22*1,"") | BZ22: =SUMPRODUCT(($BN$4:$BN$99='Dummy Table'!$AF22)*($BL$4:$BL$99<$BM$4:$BM$99)) -> 0 | CA22: =SUMPRODUCT(($BN$4:$BN$99='Dummy Table'!$AF22)*($BL$4:$BL$99=$BM$4:$BM$99)) -> 0 | CB22: =SUMPRODUCT(($BN$4:$BN$99='Dummy Table'!$AF22)*($BL$4:$BL$99>$BM$4:$BM$99)) -> 0 | CC22: =SUMIF($BN$4:$BN$99,'Dummy Table'!$AF22,$BM$4:$BM$99) -> 0 | CD22: =SUMIF($BN$4:$BN$99,'Dummy Table'!$AF22,$BL$4:$BL$99) -> 0 | CE22: =CC22-CD22 -> 0 | CF22: =IF(BR22<>"",BZ22*3+CA22*1,"") | CG22: =BS22+BZ22 -> 0 | CH22: =BT22+CA22 -> 0 | CI22: =BU22+CB22 -> 0 | CJ22: =BV22+CC22 -> 0 | CK22: =BW22+CD22 -> 0 | CL22: =BX22+CE22 -> 0 | CM22: =IF(BR22<>"",BY22+CF22,-1) -> -1 | CN22: 19 | CO22: =RANK(CM22,CM$20:CM$23) -> 1 | CP22: =SUMPRODUCT((CM$20:CM$23=CM22)*(CO$20:CO$23=CO22)*(CC$20:CC$23>CC22)) -> 0 | CQ22: =SUMPRODUCT((CM$20:CM$23=CM22)*(CL$20:CL$23>CL22)) -> 0 | CR22: =SUMPRODUCT((CO$20:CO$23=CO22)*(CQ$20:CQ$23=CQ22)*(CJ$20:CJ$23>CJ22)) -> 0 | CS22: =SUMPRODUCT((CO$20:CO$23=CO22)*(CQ$20:CQ$23=CQ22)*(CJ$20:CJ$23=CJ22)*(CN$20:CN$23>CN22)) -> 1 | CT22: =IF(AND(COUNTIF($AF$4:$AF$35,Gruppenphase!$G31)>0,COUNTIF($AF$4:$AF$35,Gruppenphase!$M31)>0),Gruppenphase!$G31,"") -> Napoli | CU22: =IF($BK22<>"",Gruppenphase!$I31,"") | CV22: =IF($BK22<>"",Gruppenphase!$K31,"") | CW22: =IF($BK22<>"",Gruppenphase!$M31,"") | CX22: =IF(BR22="","",SUM(CO22:CS22)) | CY22: =IF(BR22="","",BR22) | CZ22: 3 | DA22: =IF(AF22="",AD22,"") | DB22: =IF(AND(DA22="",DA21="",DA20=""),CZ22,IF(AND(DA20<>"",DA21="",DA22=""),2,IF(AND(DA20<>"",DA21<>"",DA22=""),1,""))) -> 3 | DC22: =VLOOKUP(DB22,$BO$20:$BP$23,2,FALSE) -> Bayer Leverkusen | DD22: 3 | DE22: =IF(CY22<>"",IF(CX22<CX23,CY22,CY23),IF(DC22<>"",DC22,DA22)) -> Bayer Leverkusen
A23: =Y23+Z23+AA23+AB23 -> 4 | B23: ='Club Namen'!B22 -> Genk | C23: =SUMPRODUCT((Gruppenphase!$I$13:$I$108<>"")*(Gruppenphase!$K$13:$K$108<>"")*(Gruppenphase!$G$13:$G$108='Dummy Table'!$B23)*(Gruppenphase!$I$13:$I$108>Gruppenphase!$K$13:$K$108)) -> 0 | D23: =SUMPRODUCT((Gruppenphase!$I$13:$I$108<>"")*(Gruppenphase!$K$13:$K$108<>"")*(Gruppenphase!$G$13:$G$108='Dummy Table'!$B23)*(Gruppenphase!$I$13:$I$108=Gruppenphase!$K$13:$K$108)) -> 0 | E23: =SUMPRODUCT((Gruppenphase!$I$13:$I$108<>"")*(Gruppenphase!$K$13:$K$108<>"")*(Gruppenphase!$G$13:$G$108='Dummy Table'!$B23)*(Gruppenphase!$I$13:$I$108<Gruppenphase!$K$13:$K$108)) -> 0 | F23: =SUMIF(Gruppenphase!$G$13:$G$108,'Dummy Table'!$B23,Gruppenphase!$I$13:$I$108) -> 0 | G23: =SUMIF(Gruppenphase!$G$13:$G$108,'Dummy Table'!$B23,Gruppenphase!$K$13:$K$108) -> 0 | H23: =F23-G23 -> 0 | I23: =C23*3+D23*1 -> 0 | J23: =SUMPRODUCT((Gruppenphase!$I$13:$I$108<>"")*(Gruppenphase!$K$13:$K$108<>"")*(Gruppenphase!$M$13:$M$108='Dummy Table'!$B23)*(Gruppenphase!$I$13:$I$108<Gruppenphase!$K$13:$K$108)) -> 0 | K23: =SUMPRODUCT((Gruppenphase!$I$13:$I$108<>"")*(Gruppenphase!$K$13:$K$108<>"")*(Gruppenphase!$M$13:$M$108='Dummy Table'!$B23)*(Gruppenphase!$I$13:$I$108=Gruppenphase!$K$13:$K$108)) -> 0 | L23: =SUMPRODUCT((Gruppenphase!$I$13:$I$108<>"")*(Gruppenphase!$K$13:$K$108<>"")*(Gruppenphase!$M$13:$M$108='Dummy Table'!$B23)*(Gruppenphase!$I$13:$I$108>Gruppenphase!$K$13:$K$108)) -> 0 | M23: =SUMIF(Gruppenphase!$M$13:$M$108,'Dummy Table'!$B23,Gruppenphase!$K$13:$K$108) -> 0 | N23: =SUMIF(Gruppenphase!$M$13:$M$108,'Dummy Table'!$B23,Gruppenphase!$I$13:$I$108) -> 0 | O23: =M23-N23 -> 0 | P23: =J23*3+K23*1 -> 0 | Q23: =C23+J23 -> 0 | R23: =D23+K23 -> 0 | S23: =E23+L23 -> 0 | T23: =F23+M23 -> 0 | U23: =G23+N23 -> 0 | V23: =H23+O23 -> 0 | W23: =I23+P23 -> 0 | X23: 1 | Y23: =RANK(W23,W$20:W$23) -> 1 | Z23: =SUMPRODUCT((W$20:W$23=W23)*(V$20:V$23>V23)) -> 0 | AA23: =SUMPRODUCT((Y$20:Y$23=Y23)*(Z$20:Z$23=Z23)*(T$20:T$23>T23)) -> 0 | AB23: =SUMPRODUCT((Y$20:Y$23=Y23)*(Z$20:Z$23=Z23)*(T$20:T$23=T23)*(X$20:X$23>X23)) -> 3 | AC23: 4 | AD23: =VLOOKUP(AC23,$A$20:$B$23,2,FALSE) -> Genk | AE23: =VLOOKUP($AD23,$B$20:$W$23,22,FALSE) -> 0 | AF23: =IF(AND(AE23=AE22,AE22=AE21),AD23,"") -> Genk | AG23: =SUMPRODUCT(($BK$4:$BK$99='Dummy Table'!$AF23)*($BL$4:$BL$99>$BM$4:$BM$99)) -> 0 | AH23: =SUMPRODUCT(($BK$4:$BK$99='Dummy Table'!$AF23)*($BL$4:$BL$99=$BM$4:$BM$99)) -> 0 | AI23: =SUMPRODUCT(($BK$4:$BK$99='Dummy Table'!$AF23)*($BL$4:$BL$99<$BM$4:$BM$99)) -> 0 | AJ23: =SUMIF($BK$4:$BK$99,'Dummy Table'!$AF23,$BL$4:$BL$99) -> 0 | AK23: =SUMIF($BK$4:$BK$99,'Dummy Table'!$AF23,$BM$4:$BM$99) -> 0 | AL23: =AJ23-AK23 -> 0 | AM23: =IF(AF23<>"",AG23*3+AH23*1,"") -> 0 | AN23: =SUMPRODUCT(($BN$4:$BN$99='Dummy Table'!$AF23)*($BL$4:$BL$99<$BM$4:$BM$99)) -> 0 | AO23: =SUMPRODUCT(($BN$4:$BN$99='Dummy Table'!$AF23)*($BL$4:$BL$99=$BM$4:$BM$99)) -> 0 | AP23: =SUMPRODUCT(($BN$4:$BN$99='Dummy Table'!$AF23)*($BL$4:$BL$99>$BM$4:$BM$99)) -> 0 | AQ23: =SUMIF($BN$4:$BN$99,'Dummy Table'!$AF23,$BM$4:$BM$99) -> 0 | AR23: =SUMIF($BN$4:$BN$99,'Dummy Table'!$AF23,$BL$4:$BL$99) -> 0 | AS23: =AQ23-AR23 -> 0 | AT23: =IF(AF23<>"",AN23*3+AO23*1,"") -> 0 | AU23: =AG23+AN23 -> 0 | AV23: =AH23+AO23 -> 0 | AW23: =AI23+AP23 -> 0 | AX23: =AJ23+AQ23 -> 0 | AY23: =AK23+AR23 -> 0 | AZ23: =AL23+AS23 -> 0 | BA23: =IF(AF23<>"",AM23+AT23,-1) -> 0 | BB23: =IF(AF23<>"",VLOOKUP(AF23,$B$4:$V$35,21,FALSE),"") -> 0 | BC23: =IF(AF23<>"",VLOOKUP(AF23,$B$4:$T$35,19,FALSE),"") -> 0 | BD23: =IF(AF23<>"",VLOOKUP(AF23,$B$4:$X$35,23,FALSE),"") -> 1 | BE23: =RANK(BA23,BA$20:BA$23) -> 1 | BF23: =SUMPRODUCT((BA$20:BA$23=BA23)*(AZ$20:AZ$23>AZ23)) -> 0 | BG23: =SUMPRODUCT((BA$20:BA$23=BA23)*(BE$20:BE$23=BE23)*(AZ$20:AZ$23=AZ23)*(AQ$20:AQ$23>AQ23)) -> 0 | BH23: =SUMPRODUCT((BA$20:BA$23=BA23)*(BE$20:BE$23=BE23)*(AZ$20:AZ$23=AZ23)*(AQ$20:AQ$23=AQ23)*(BB$20:BB$23>BB23)) -> 0 | BI23: =SUMPRODUCT((BA$20:BA$23=BA23)*(BE$20:BE$23=BE23)*(AZ$20:AZ$23=AZ23)*(AQ$20:AQ$23=AQ23)*(BB$20:BB$23=BB23)*(BC$20:BC$23>BC23)) -> 0 | BJ23: =SUMPRODUCT((BA$20:BA$23=BA23)*(BE$20:BE$23=BE23)*(AZ$20:AZ$23=AZ23)*(AQ$20:AQ$23=AQ23)*(BB$20:BB$23=BB23)*(BC$20:BC$23=BC23)*(BD$20:BD$23>BD23)) -> 3 | BK23: =IF(AND(COUNTIF($AF$4:$AF$35,Gruppenphase!G32)>0,COUNTIF($AF$4:$AF$35,Gruppenphase!M32)>0,Gruppenphase!I32<>"",Gruppenphase!K32<>""),Gruppenphase!G32,"") | BL23: =IF($BK23<>"",Gruppenphase!I32,"") | BM23: =IF($BK23<>"",Gruppenphase!K32,"") | BN23: =IF($BK23<>"",Gruppenphase!M32,"") | BO23: =IF(AF23="","",SUM(BE23:BJ23)) -> 4 | BP23: =IF(AF23="","",AF23) -> Genk | BQ23: =VLOOKUP($AD23,$B$20:$W$23,22,FALSE) -> 0 | BR23: =IF(BR22<>"",AD23,"") | BS23: =SUMPRODUCT(($BK$4:$BK$99='Dummy Table'!$AF23)*($BL$4:$BL$99>$BM$4:$BM$99)) -> 0 | BT23: =SUMPRODUCT(($BK$4:$BK$99='Dummy Table'!$AF23)*($BL$4:$BL$99=$BM$4:$BM$99)) -> 0 | BU23: =SUMPRODUCT(($BK$4:$BK$99='Dummy Table'!$AF23)*($BL$4:$BL$99<$BM$4:$BM$99)) -> 0 | BV23: =SUMIF($BK$4:$BK$99,'Dummy Table'!$AF23,$BL$4:$BL$99) -> 0 | BW23: =SUMIF($BK$4:$BK$99,'Dummy Table'!$AF23,$BM$4:$BM$99) -> 0 | BX23: =BV23-BW23 -> 0 | BY23: =IF(BR23<>"",BS23*3+BT23*1,"") | BZ23: =SUMPRODUCT(($BN$4:$BN$99='Dummy Table'!$AF23)*($BL$4:$BL$99<$BM$4:$BM$99)) -> 0 | CA23: =SUMPRODUCT(($BN$4:$BN$99='Dummy Table'!$AF23)*($BL$4:$BL$99=$BM$4:$BM$99)) -> 0 | CB23: =SUMPRODUCT(($BN$4:$BN$99='Dummy Table'!$AF23)*($BL$4:$BL$99>$BM$4:$BM$99)) -> 0 | CC23: =SUMIF($BN$4:$BN$99,'Dummy Table'!$AF23,$BM$4:$BM$99) -> 0 | CD23: =SUMIF($BN$4:$BN$99,'Dummy Table'!$AF23,$BL$4:$BL$99) -> 0 | CE23: =CC23-CD23 -> 0 | CF23: =IF(BR23<>"",BZ23*3+CA23*1,"") | CG23: =BS23+BZ23 -> 0 | CH23: =BT23+CA23 -> 0 | CI23: =BU23+CB23 -> 0 | CJ23: =BV23+CC23 -> 0 | CK23: =BW23+CD23 -> 0 | CL23: =BX23+CE23 -> 0 | CM23: =IF(BR23<>"",BY23+CF23,-1) -> -1 | CN23: 20 | CO23: =RANK(CM23,CM$20:CM$23) -> 1 | CP23: =SUMPRODUCT((CM$20:CM$23=CM23)*(CO$20:CO$23=CO23)*(CC$20:CC$23>CC23)) -> 0 | CQ23: =SUMPRODUCT((CM$20:CM$23=CM23)*(CL$20:CL$23>CL23)) -> 0 | CR23: =SUMPRODUCT((CO$20:CO$23=CO23)*(CQ$20:CQ$23=CQ23)*(CJ$20:CJ$23>CJ23)) -> 0 | CS23: =SUMPRODUCT((CO$20:CO$23=CO23)*(CQ$20:CQ$23=CQ23)*(CJ$20:CJ$23=CJ23)*(CN$20:CN$23>CN23)) -> 0 | CT23: =IF(AND(COUNTIF($AF$4:$AF$35,Gruppenphase!$G32)>0,COUNTIF($AF$4:$AF$35,Gruppenphase!$M32)>0),Gruppenphase!$G32,"") -> Trabzonspor | CU23: =IF($BK23<>"",Gruppenphase!$I32,"") | CV23: =IF($BK23<>"",Gruppenphase!$K32,"") | CW23: =IF($BK23<>"",Gruppenphase!$M32,"") | CX23: =IF(BR23="","",SUM(CO23:CS23)) | CY23: =IF(BR23="","",BR23) | CZ23: 4 | DA23: =IF(AF23="",AD23,"") | DB23: =IF(AND(DA23="",DA22="",DA21="",DA20=""),4,IF(AND(DA23="",DA22="",DA21=""),3,IF(AND(DA21<>"",DA22="",DA23=""),2,IF(AND(DA21<>"",DA22<>"",DA23=""),1,"")))) -> 4 | DC23: =VLOOKUP(DB23,$BO$20:$BP$23,2,FALSE) -> Genk | DD23: 4 | DE23: =IF(CY23<>"",IF(CX22<CX23,CY23,CY22),IF(DC23<>"",DC23,DA23)) -> Genk
A24: =Y24+Z24+AA24+AB24 -> 1 | B24: ='Club Namen'!B23 -> Arsenal | C24: =SUMPRODUCT((Gruppenphase!$I$13:$I$108<>"")*(Gruppenphase!$K$13:$K$108<>"")*(Gruppenphase!$G$13:$G$108='Dummy Table'!$B24)*(Gruppenphase!$I$13:$I$108>Gruppenphase!$K$13:$K$108)) -> 0 | D24: =SUMPRODUCT((Gruppenphase!$I$13:$I$108<>"")*(Gruppenphase!$K$13:$K$108<>"")*(Gruppenphase!$G$13:$G$108='Dummy Table'!$B24)*(Gruppenphase!$I$13:$I$108=Gruppenphase!$K$13:$K$108)) -> 0 | E24: =SUMPRODUCT((Gruppenphase!$I$13:$I$108<>"")*(Gruppenphase!$K$13:$K$108<>"")*(Gruppenphase!$G$13:$G$108='Dummy Table'!$B24)*(Gruppenphase!$I$13:$I$108<Gruppenphase!$K$13:$K$108)) -> 0 | F24: =SUMIF(Gruppenphase!$G$13:$G$108,'Dummy Table'!$B24,Gruppenphase!$I$13:$I$108) -> 0 | G24: =SUMIF(Gruppenphase!$G$13:$G$108,'Dummy Table'!$B24,Gruppenphase!$K$13:$K$108) -> 0 | H24: =F24-G24 -> 0 | I24: =C24*3+D24*1 -> 0 | J24: =SUMPRODUCT((Gruppenphase!$I$13:$I$108<>"")*(Gruppenphase!$K$13:$K$108<>"")*(Gruppenphase!$M$13:$M$108='Dummy Table'!$B24)*(Gruppenphase!$I$13:$I$108<Gruppenphase!$K$13:$K$108)) -> 0 | K24: =SUMPRODUCT((Gruppenphase!$I$13:$I$108<>"")*(Gruppenphase!$K$13:$K$108<>"")*(Gruppenphase!$M$13:$M$108='Dummy Table'!$B24)*(Gruppenphase!$I$13:$I$108=Gruppenphase!$K$13:$K$108)) -> 0 | L24: =SUMPRODUCT((Gruppenphase!$I$13:$I$108<>"")*(Gruppenphase!$K$13:$K$108<>"")*(Gruppenphase!$M$13:$M$108='Dummy Table'!$B24)*(Gruppenphase!$I$13:$I$108>Gruppenphase!$K$13:$K$108)) -> 0 | M24: =SUMIF(Gruppenphase!$M$13:$M$108,'Dummy Table'!$B24,Gruppenphase!$K$13:$K$108) -> 0 | N24: =SUMIF(Gruppenphase!$M$13:$M$108,'Dummy Table'!$B24,Gruppenphase!$I$13:$I$108) -> 0 | O24: =M24-N24 -> 0 | P24: =J24*3+K24*1 -> 0 | Q24: =C24+J24 -> 0 | R24: =D24+K24 -> 0 | S24: =E24+L24 -> 0 | T24: =F24+M24 -> 0 | U24: =G24+N24 -> 0 | V24: =H24+O24 -> 0 | W24: =I24+P24 -> 0 | X24: 1189 | Y24: =RANK(W24,W$24:W$27) -> 1 | Z24: =SUMPRODUCT((W$24:W$27=W24)*(V$24:V$27>V24)) -> 0 | AA24: =SUMPRODUCT((Y$24:Y$27=Y24)*(Z$24:Z$27=Z24)*(T$24:T$27>T24)) -> 0 | AB24: =SUMPRODUCT((Y$24:Y$27=Y24)*(Z$24:Z$27=Z24)*(T$24:T$27=T24)*(X$24:X$27>X24)) -> 0 | AC24: 1 | AD24: =VLOOKUP(AC24,$A$24:$B$27,2,FALSE) -> Arsenal | AE24: =VLOOKUP($AD24,$B$24:$W$27,22,FALSE) -> 0 | AF24: =IF(AE24=AE25,AD24,"") -> Arsenal | AG24: =SUMPRODUCT(($BK$4:$BK$99='Dummy Table'!$AF24)*($BL$4:$BL$99>$BM$4:$BM$99)) -> 0 | AH24: =SUMPRODUCT(($BK$4:$BK$99='Dummy Table'!$AF24)*($BL$4:$BL$99=$BM$4:$BM$99)) -> 0 | AI24: =SUMPRODUCT(($BK$4:$BK$99='Dummy Table'!$AF24)*($BL$4:$BL$99<$BM$4:$BM$99)) -> 0 | AJ24: =SUMIF($BK$4:$BK$99,'Dummy Table'!$AF24,$BL$4:$BL$99) -> 0 | AK24: =SUMIF($BK$4:$BK$99,'Dummy Table'!$AF24,$BM$4:$BM$99) -> 0 | AL24: =AJ24-AK24 -> 0 | AM24: =IF(AF24<>"",AG24*3+AH24*1,"") -> 0 | AN24: =SUMPRODUCT(($BN$4:$BN$99='Dummy Table'!$AF24)*($BL$4:$BL$99<$BM$4:$BM$99)) -> 0 | AO24: =SUMPRODUCT(($BN$4:$BN$99='Dummy Table'!$AF24)*($BL$4:$BL$99=$BM$4:$BM$99)) -> 0 | AP24: =SUMPRODUCT(($BN$4:$BN$99='Dummy Table'!$AF24)*($BL$4:$BL$99>$BM$4:$BM$99)) -> 0 | AQ24: =SUMIF($BN$4:$BN$99,'Dummy Table'!$AF24,$BM$4:$BM$99) -> 0 | AR24: =SUMIF($BN$4:$BN$99,'Dummy Table'!$AF24,$BL$4:$BL$99) -> 0 | AS24: =AQ24-AR24 -> 0 | AT24: =IF(AF24<>"",AN24*3+AO24*1,"") -> 0 | AU24: =AG24+AN24 -> 0 | AV24: =AH24+AO24 -> 0 | AW24: =AI24+AP24 -> 0 | AX24: =AJ24+AQ24 -> 0 | AY24: =AK24+AR24 -> 0 | AZ24: =AL24+AS24 -> 0 | BA24: =IF(AF24<>"",AM24+AT24,-1) -> 0 | BB24: =IF(AF24<>"",VLOOKUP(AF24,$B$4:$V$35,21,FALSE),"") -> 0 | BC24: =IF(AF24<>"",VLOOKUP(AF24,$B$4:$T$35,19,FALSE),"") -> 0 | BD24: =IF(AF24<>"",VLOOKUP(AF24,$B$4:$X$35,23,FALSE),"") -> 1189 | BE24: =RANK(BA24,BA$24:BA$27) -> 1 | BF24: =SUMPRODUCT((BA$24:BA$27=BA24)*(AZ$24:AZ$27>AZ24)) -> 0 | BG24: =SUMPRODUCT((BA$24:BA$27=BA24)*(BE$24:BE$27=BE24)*(AZ$24:AZ$27=AZ24)*(AQ$24:AQ$27>AQ24)) -> 0 | BH24: =SUMPRODUCT((BA$24:BA$27=BA24)*(BE$24:BE$27=BE24)*(AZ$24:AZ$27=AZ24)*(AQ$24:AQ$27=AQ24)*(BB$24:BB$27>BB24)) -> 0 | BI24: =SUMPRODUCT((BA$24:BA$27=BA24)*(BE$24:BE$27=BE24)*(AZ$24:AZ$27=AZ24)*(AQ$24:AQ$27=AQ24)*(BB$24:BB$27=BB24)*(BC$24:BC$27>BC24)) -> 0 | BJ24: =SUMPRODUCT((BA$24:BA$27=BA24)*(BE$24:BE$27=BE24)*(AZ$24:AZ$27=AZ24)*(AQ$24:AQ$27=AQ24)*(BB$24:BB$27=BB24)*(BC$24:BC$27=BC24)*(BD$24:BD$27>BD24)) -> 0 | BK24: =IF(AND(COUNTIF($AF$4:$AF$35,Gruppenphase!G33)>0,COUNTIF($AF$4:$AF$35,Gruppenphase!M33)>0,Gruppenphase!I33<>"",Gruppenphase!K33<>""),Gruppenphase!G33,"") | BL24: =IF($BK24<>"",Gruppenphase!I33,"") | BM24: =IF($BK24<>"",Gruppenphase!K33,"") | BN24: =IF($BK24<>"",Gruppenphase!M33,"") | BO24: =IF(AF24="","",SUM(BE24:BJ24)) -> 1 | BP24: =IF(AF24="","",AF24) -> Arsenal | BQ24: =VLOOKUP($AD24,$B$24:$W$27,22,FALSE) -> 0 | BS24: =SUMPRODUCT(($BK$4:$BK$99='Dummy Table'!$AF24)*($BL$4:$BL$99>$BM$4:$BM$99)) -> 0 | BT24: =SUMPRODUCT(($BK$4:$BK$99='Dummy Table'!$AF24)*($BL$4:$BL$99=$BM$4:$BM$99)) -> 0 | BU24: =SUMPRODUCT(($BK$4:$BK$99='Dummy Table'!$AF24)*($BL$4:$BL$99<$BM$4:$BM$99)) -> 0 | BV24: =SUMIF($BK$4:$BK$99,'Dummy Table'!$AF24,$BL$4:$BL$99) -> 0 | BW24: =SUMIF($BK$4:$BK$99,'Dummy Table'!$AF24,$BM$4:$BM$99) -> 0 | BX24: =BV24-BW24 -> 0 | BY24: =IF(BR24<>"",BS24*3+BT24*1,"") | BZ24: =SUMPRODUCT(($BN$4:$BN$99='Dummy Table'!$AF24)*($BL$4:$BL$99<$BM$4:$BM$99)) -> 0 | CA24: =SUMPRODUCT(($BN$4:$BN$99='Dummy Table'!$AF24)*($BL$4:$BL$99=$BM$4:$BM$99)) -> 0 | CB24: =SUMPRODUCT(($BN$4:$BN$99='Dummy Table'!$AF24)*($BL$4:$BL$99>$BM$4:$BM$99)) -> 0 | CC24: =SUMIF($BN$4:$BN$99,'Dummy Table'!$AF24,$BM$4:$BM$99) -> 0 | CD24: =SUMIF($BN$4:$BN$99,'Dummy Table'!$AF24,$BL$4:$BL$99) -> 0 | CE24: =CC24-CD24 -> 0 | CF24: =IF(BR24<>"",BZ24*3+CA24*1,"") | CG24: =BS24+BZ24 -> 0 | CH24: =BT24+CA24 -> 0 | CI24: =BU24+CB24 -> 0 | CJ24: =BV24+CC24 -> 0 | CK24: =BW24+CD24 -> 0 | CL24: =BX24+CE24 -> 0 | CM24: =IF(BR24<>"",BY24+CF24,-1) -> -1 | CN24: 21 | CO24: =RANK(CM24,CM$24:CM$27) -> 1 | CP24: =SUMPRODUCT((CM$24:CM$27=CM24)*(CO$24:CO$27=CO24)*(CC$24:CC$27>CC24)) -> 0 | CQ24: =SUMPRODUCT((CM$24:CM$27=CM24)*(CL$24:CL$27>CL24)) -> 0 | CR24: =SUMPRODUCT((CO$24:CO$27=CO24)*(CQ$24:CQ$27=CQ24)*(CJ$24:CJ$27>CJ24)) -> 0 | CS24: =SUMPRODUCT((CO$24:CO$27=CO24)*(CQ$24:CQ$27=CQ24)*(CJ$24:CJ$27=CJ24)*(CN$24:CN$27>CN24)) -> 3 | CT24: =IF(AND(COUNTIF($AF$4:$AF$35,Gruppenphase!$G33)>0,COUNTIF($AF$4:$AF$35,Gruppenphase!$M33)>0),Gruppenphase!$G33,"") -> Manchester United | CU24: =IF($BK24<>"",Gruppenphase!$I33,"") | CV24: =IF($BK24<>"",Gruppenphase!$K33,"") | CW24: =IF($BK24<>"",Gruppenphase!$M33,"") | CX24: =IF(BR24="","",SUM(CO24:CS24)) | CY24: =IF(BR24="","",BR24) | CZ24: 1 | DA24: =IF(AF24="",AD24,"") | DB24: =IF(DA24="",CZ24,"") -> 1 | DC24: =VLOOKUP(DB24,$BO$24:$BP$27,2,FALSE) -> Arsenal | DD24: 1 | DE24: =IF(DA24="",DC24,DA24) -> Arsenal
