Workbook

Sheet Umfrage
C3: JA/NEIN UMFRAGE DIAGRAMM
C5: Beschreibung | D5: Ja | E5: Nein
C6: =Angaben!A4 -> Beschreibung 1 | D6: =COUNTIF(Angaben!$B4:$EU4,"Ja") -> 3 | E6: =COUNTIF(Angaben!$B4:$EU4,"Nein") -> 2
C7: =Angaben!A5 -> Beschreibung 2 | D7: =COUNTIF(Angaben!$B5:$EU5,"Ja") -> 3 | E7: =COUNTIF(Angaben!$B5:$EU5,"Nein") -> 2
C8: =Angaben!A6 -> Beschreibung 3 | D8: =COUNTIF(Angaben!$B6:$EU6,"Ja") -> 3 | E8: =COUNTIF(Angaben!$B6:$EU6,"Nein") -> 2
C9: =Angaben!A7 -> Beschreibung 4 | D9: =COUNTIF(Angaben!$B7:$EU7,"Ja") -> 0 | E9: =COUNTIF(Angaben!$B7:$EU7,"Nein") -> 5
C10: =Angaben!A8 -> Beschreibung 5 | D10: =COUNTIF(Angaben!$B8:$EU8,"Ja") -> 2 | E10: =COUNTIF(Angaben!$B8:$EU8,"Nein") -> 3
C11: =Angaben!A9 -> Beschreibung 6 | D11: =COUNTIF(Angaben!$B9:$EU9,"Ja") -> 1 | E11: =COUNTIF(Angaben!$B9:$EU9,"Nein") -> 4
C12: =Angaben!A10 -> Beschreibung 7 | D12: =COUNTIF(Angaben!$B10:$EU10,"Ja") -> 3 | E12: =COUNTIF(Angaben!$B10:$EU10,"Nein") -> 2
C13: =Angaben!A11 -> Beschreibung 8 | D13: =COUNTIF(Angaben!$B11:$EU11,"Ja") -> 2 | E13: =COUNTIF(Angaben!$B11:$EU11,"Nein") -> 3
C14: =Angaben!A12 -> Beschreibung 9 | D14: =COUNTIF(Angaben!$B12:$EU12,"Ja") -> 2 | E14: =COUNTIF(Angaben!$B12:$EU12,"Nein") -> 3
C15: =Angaben!A13 -> Beschreibung 10 | D15: =COUNTIF(Angaben!$B13:$EU13,"Ja") -> 2 | E15: =COUNTIF(Angaben!$B13:$EU13,"Nein") -> 3
C16: =Angaben!A14 -> Beschreibung 11 | D16: =COUNTIF(Angaben!$B14:$EU14,"Ja") -> 4 | E16: =COUNTIF(Angaben!$B14:$EU14,"Nein") -> 1
C17: =Angaben!A15 -> Beschreibung 12 | D17: =COUNTIF(Angaben!$B15:$EU15,"Ja") -> 3 | E17: =COUNTIF(Angaben!$B15:$EU15,"Nein") -> 2
... C25: =Angaben!A23 -> Beschreibung 20 | D25: =COUNTIF(Angaben!$B23:$EU23,"Ja") -> 2 | E25: =COUNTIF(Angaben!$B23:$EU23,"Nein") -> 3
H28: © 2011 exceltabelle.com - Besuch exceltabelle.com für mehrere Vorlagen und Updates

Sheet Sheet1
B2: Ja | C2: Nein | D2: Nein
A3: Item 1 | B3: =IF(Umfrage!D6<>"",Umfrage!D6,"") -> 3 | C3: =-D3 -> -2 | D3: =IF(Umfrage!E6<>"",Umfrage!E6,NA()) -> 2
A4: Item 2 | B4: =IF(Umfrage!D7<>"",Umfrage!D7,"") -> 3 | C4: =-D4 -> -2 | D4: =IF(Umfrage!E7<>"",Umfrage!E7,NA()) -> 2
A5: Item 3 | B5: =IF(Umfrage!D8<>"",Umfrage!D8,"") -> 3 | C5: =-D5 -> -2 | D5: =IF(Umfrage!E8<>"",Umfrage!E8,NA()) -> 2
A6: Item 4 | B6: =IF(Umfrage!D9<>"",Umfrage!D9,"") -> 0 | C6: =-D6 -> -5 | D6: =IF(Umfrage!E9<>"",Umfrage!E9,NA()) -> 5
A7: Item 5 | B7: =IF(Umfrage!D10<>"",Umfrage!D10,"") -> 2 | C7: =-D7 -> -3 | D7: =IF(Umfrage!E10<>"",Umfrage!E10,NA()) -> 3
A8: Item 6 | B8: =IF(Umfrage!D11<>"",Umfrage!D11,"") -> 1 | C8: =-D8 -> -4 | D8: =IF(Umfrage!E11<>"",Umfrage!E11,NA()) -> 4
A9: Item 7 | B9: =IF(Umfrage!D12<>"",Umfrage!D12,"") -> 3 | C9: =-D9 -> -2 | D9: =IF(Umfrage!E12<>"",Umfrage!E12,NA()) -> 2
A10: Item 8 | B10: =IF(Umfrage!D13<>"",Umfrage!D13,"") -> 2 | C10: =-D10 -> -3 | D10: =IF(Umfrage!E13<>"",Umfrage!E13,NA()) -> 3
A11: Item 9 | B11: =IF(Umfrage!D14<>"",Umfrage!D14,"") -> 2 | C11: =-D11 -> -3 | D11: =IF(Umfrage!E14<>"",Umfrage!E14,NA()) -> 3
A12: Item 10 | B12: =IF(Umfrage!D15<>"",Umfrage!D15,"") -> 2 | C12: =-D12 -> -3 | D12: =IF(Umfrage!E15<>"",Umfrage!E15,NA()) -> 3
A13: Item 11 | B13: =IF(Umfrage!D16<>"",Umfrage!D16,"") -> 4 | C13: =-D13 -> -1 | D13: =IF(Umfrage!E16<>"",Umfrage!E16,NA()) -> 1
A14: Item 12 | B14: =IF(Umfrage!D17<>"",Umfrage!D17,"") -> 3 | C14: =-D14 -> -2 | D14: =IF(Umfrage!E17<>"",Umfrage!E17,NA()) -> 2
... A22: Item 20 | B22: =IF(Umfrage!D25<>"",Umfrage!D25,"") -> 2 | C22: =-D22 -> -3 | D22: =IF(Umfrage!E25<>"",Umfrage!E25,NA()) -> 3

Sheet Angaben
A2: Beschreibung | B2: Befragter
B3: 1 | C3: 2 | D3: 3 | E3: 4 | F3: 5 | G3: 6 | H3: 7 | I3: 8 | J3: 9 | K3: 10 | L3: 11 | M3: 12 | N3: 13 | O3: 14 | P3: 15 | Q3: 16 | R3: 17 | S3: 18 | T3: 19 | U3: 20 | V3: 21 | W3: 22 | X3: 23 | Y3: 24 | Z3: 25 | AA3: 26 | AB3: 27 | AC3: 28 | AD3: 29 | AE3: 30 | AF3: 31 | AG3: 32 | AH3: 33 | AI3: 34 | AJ3: 35 | AK3: 36 | AL3: 37 | AM3: 38 | AN3: 39 | AO3: 40 | AP3: 41 | AQ3: 42 | AR3: 43 | AS3: 44 | AT3: 45 | AU3: 46 | AV3: 47 | AW3: 48 | AX3: 49 | AY3: 50 | AZ3: 51 | BA3: 52 | BB3: 53 | BC3: 54 | BD3: 55 | BE3: 56 | BF3: 57 | BG3: 58 | BH3: 59 | BI3: 60 | BJ3: 61 | BK3: 62 | BL3: 63 | BM3: 64 | BN3: 65 | BO3: 66 | BP3: 67 | BQ3: 68 | BR3: 69 | BS3: 70 | BT3: 71 | BU3: 72 | BV3: 73 | BW3: 74 | BX3: 75 | BY3: 76 | BZ3: 77 | CA3: 78 | CB3: 79 | CC3: 80 | CD3: 81 | CE3: 82 | CF3: 83 | CG3: 84 | CH3: 85 | CI3: 86 | CJ3: 87 | CK3: 88 | CL3: 89 | CM3: 90 | CN3: 91 | CO3: 92 | CP3: 93 | CQ3: 94 | CR3: 95 | CS3: 96 | CT3: 97 | CU3: 98 | CV3: 99 | CW3: 100 | CX3: 101 | CY3: 102 | CZ3: 103 | DA3: 104 | DB3: 105 | DC3: 106 | DD3: 107 | DE3: 108 | DF3: 109 | DG3: 110 | DH3: 111 | DI3: 112 | DJ3: 113 | DK3: 114 | DL3: 115 | DM3: 116 | DN3: 117 | DO3: 118 | DP3: 119 | DQ3: 120 | DR3: 121 | DS3: 122 | DT3: 123 | DU3: 124 | DV3: 125 | DW3: 126 | DX3: 127 | DY3: 128 | DZ3: 129 | EA3: 130 | EB3: 131 | EC3: 132 | ED3: 133 | EE3: 134 | EF3: 135 | EG3: 136 | EH3: 137 | EI3: 138 | EJ3: 139 | EK3: 140 | EL3: 141 | EM3: 142 | EN3: 143 | EO3: 144 | EP3: 145 | EQ3: 146 | ER3: 147 | ES3: 148 | ET3: 149 | EU3: 150
A4: Beschreibung 1 | B4: Ja | C4: Nein | D4: Ja | E4: Nein | F4: Ja
A5: Beschreibung 2 | B5: Ja | C5: Ja | D5: ja | E5: Nein | F5: Nein
A6: Beschreibung 3 | B6: Nein | C6: Ja | D6: Ja | E6: Nein | F6: Ja
A7: Beschreibung 4 | B7: Nein | C7: Nein | D7: Nein | E7: Nein | F7: Nein
A8: Beschreibung 5 | B8: Ja | C8: Nein | D8: Nein | E8: Nein | F8: Ja
A9: Beschreibung 6 | B9: Nein | C9: Ja | D9: Nein | E9: Nein | F9: Nein
A10: Beschreibung 7 | B10: Ja | C10: Ja | D10: Nein | E10: Nein | F10: Ja
A11: Beschreibung 8 | B11: Nein | C11: Ja | D11: Nein | E11: ja | F11: Nein
A12: Beschreibung 9 | B12: Nein | C12: Nein | D12: Nein | E12: ja | F12: Ja
A13: Beschreibung 10 | B13: Nein | C13: Ja | D13: Nein | E13: ja | F13: Nein
A14: Beschreibung 11 | B14: Ja | C14: Nein | D14: Ja | E14: ja | F14: Ja
A15: Beschreibung 12 | B15: Nein | C15: Ja | D15: Ja | E15: ja | F15: Nein
... A23: Beschreibung 20 | B23: Ja | C23: Nein | D23: Nein | E23: Nein | F23: Ja
